BEGIN:VCALENDAR
VERSION:2.0
PRODID:-//Sociale Kalender - ECPv6.2.9//NONSGML v1.0//EN
CALSCALE:GREGORIAN
METHOD:PUBLISH
X-ORIGINAL-URL:https://www.socialekalender.be
X-WR-CALDESC:Evenementen voor Sociale Kalender
REFRESH-INTERVAL;VALUE=DURATION:PT1H
X-Robots-Tag:noindex
X-PUBLISHED-TTL:PT1H
BEGIN:VTIMEZONE
TZID:Europe/Brussels
BEGIN:DAYLIGHT
TZOFFSETFROM:+0100
TZOFFSETTO:+0200
TZNAME:CEST
DTSTART:20230326T010000
END:DAYLIGHT
BEGIN:STANDARD
TZOFFSETFROM:+0200
TZOFFSETTO:+0100
TZNAME:CET
DTSTART:20231029T010000
END:STANDARD
END:VTIMEZONE
BEGIN:VEVENT
DTSTART;TZID=Europe/Brussels:20230208T150000
DTEND;TZID=Europe/Brussels:20230208T170000
DTSTAMP:20260420T082654
CREATED:20221229T144554Z
LAST-MODIFIED:20221229T144554Z
UID:7828-1675868400-1675875600@www.socialekalender.be
SUMMARY:Voordrachten over vlier en permacultuur
DESCRIPTION:Yannick Bellemans\, eigenaar van een vlierplantage\, legt zich sinds 2012 toe op het produceren van drankjes op basis van vlierbloesem en -bessen. Na hem zal boomgaardier Ward Putzeys praten over begrippen als permacultuur\, voedselbossen en korte keten. Na afloop kan men vragen stellen en ook vlierstroop\, vlierbier en andere lokale producten kopen. Inschrijving verplicht.
URL:https://www.socialekalender.be/evenement/voordrachten-over-vlier-en-permacultuur/
LOCATION:´t Vlierhof\, Kersendaelstraat 1\, Vliermaal\, Limburg\, 3724\, België
ATTACH;FMTTYPE=image/png:https://www.socialekalender.be/wp-content/uploads/2022/12/vlierhof.png
END:VEVENT
END:VCALENDAR