BEGIN:VCALENDAR
VERSION:2.0
PRODID:-//Sociale Kalender - ECPv6.2.9//NONSGML v1.0//EN
CALSCALE:GREGORIAN
METHOD:PUBLISH
X-ORIGINAL-URL:https://www.socialekalender.be
X-WR-CALDESC:Evenementen voor Sociale Kalender
REFRESH-INTERVAL;VALUE=DURATION:PT1H
X-Robots-Tag:noindex
X-PUBLISHED-TTL:PT1H
BEGIN:VTIMEZONE
TZID:Europe/Brussels
BEGIN:DAYLIGHT
TZOFFSETFROM:+0100
TZOFFSETTO:+0200
TZNAME:CEST
DTSTART:20230326T010000
END:DAYLIGHT
BEGIN:STANDARD
TZOFFSETFROM:+0200
TZOFFSETTO:+0100
TZNAME:CET
DTSTART:20231029T010000
END:STANDARD
END:VTIMEZONE
BEGIN:VEVENT
DTSTART;TZID=Europe/Brussels:20230212T140000
DTEND;TZID=Europe/Brussels:20230212T160000
DTSTAMP:20260419T234840
CREATED:20230110T095910Z
LAST-MODIFIED:20230110T095910Z
UID:7873-1676210400-1676217600@www.socialekalender.be
SUMMARY:Mystic Moods
DESCRIPTION:Een warm klank- en kleurenbad met rustgevende muzikale composities en kleurrijke animaties. Duur: 75 minuten. Alle beelden en klanken door Koen Fossey. Je kan de voorstelling liggend of zittend op de grond bijwonen: breng dan je eigen matje\, kussentje en dekentje mee. Je kan de voorstelling ook gewoon zittend op een stoel volgen. De eerste sessie (kennismaking) kost € 10\, de volgende drie (op 19/2\, 19/3 en 26/3) kosten € 15 per sessie of € 36 voor de drie samen. Inschrijven verplicht\, betalen kan aan de inkom. Opbrengst ten voordele van de sportraad.
URL:https://www.socialekalender.be/evenement/mystic-moods/
LOCATION:zaal Steborg\, Broekstraat 1\, Stevoort\, 3520
ATTACH;FMTTYPE=image/jpeg:https://www.socialekalender.be/wp-content/uploads/2023/01/Koen-Fossey-herfstmandala.jpg
END:VEVENT
END:VCALENDAR