BEGIN:VCALENDAR
VERSION:2.0
PRODID:-//Sociale Kalender - ECPv6.2.9//NONSGML v1.0//EN
CALSCALE:GREGORIAN
METHOD:PUBLISH
X-WR-CALNAME:Sociale Kalender
X-ORIGINAL-URL:https://www.socialekalender.be
X-WR-CALDESC:Evenementen voor Sociale Kalender
REFRESH-INTERVAL;VALUE=DURATION:PT1H
X-Robots-Tag:noindex
X-PUBLISHED-TTL:PT1H
BEGIN:VTIMEZONE
TZID:Europe/Brussels
BEGIN:DAYLIGHT
TZOFFSETFROM:+0100
TZOFFSETTO:+0200
TZNAME:CEST
DTSTART:20230326T010000
END:DAYLIGHT
BEGIN:STANDARD
TZOFFSETFROM:+0200
TZOFFSETTO:+0100
TZNAME:CET
DTSTART:20231029T010000
END:STANDARD
END:VTIMEZONE
BEGIN:VEVENT
DTSTART;TZID=Europe/Brussels:20230304T100000
DTEND;TZID=Europe/Brussels:20230304T100000
DTSTAMP:20260419T234845
CREATED:20230212T150737Z
LAST-MODIFIED:20230212T150737Z
UID:7934-1677924000-1677924000@www.socialekalender.be
SUMMARY:Samen nadenken over de toekomst van Siloam
DESCRIPTION:Siloam is de bron waar Jezus de blinde naartoe zond. De man waste zich en zag. Een groep mensen gaf zichzelf deze naam vanuit het verlangen om te “zien”\, om het leven in al zijn diepte te ervaren\, in de verstilling van eigen lichaam en geest\, in het wonder van de natuur. Het gezelschap is christelijk geïnspireerd\, maar staat open voor alle mensen die onbevangen in het leven staan en luisterend ingesteld zijn. De groep opende in Zonhoven vlakbij natuurreservaat De Teut een huis dat ruimte en onderdak wil bieden voor mensen en groepen die zich vanuit hun eigen bewogenheid op hun weg willen herbronnen. Op 4 februari kwam een groep van ruim 40 personen samen om na te denken over de toekomst van dit spirituele project. Op 4 maart is iedereen welkom om dit proces voort te zetten.
URL:https://www.socialekalender.be/evenement/samen-nadenken-over-de-toekomst-van-siloam-2/
LOCATION:Siloam\, Holsteenweg 17\, Zonhoven\, 3520\, België
ATTACH;FMTTYPE=image/jpeg:https://www.socialekalender.be/wp-content/uploads/2023/02/Siloam2.jpg
END:VEVENT
END:VCALENDAR