BEGIN:VCALENDAR
VERSION:2.0
PRODID:-//Sociale Kalender - ECPv6.2.9//NONSGML v1.0//EN
CALSCALE:GREGORIAN
METHOD:PUBLISH
X-WR-CALNAME:Sociale Kalender
X-ORIGINAL-URL:https://www.socialekalender.be
X-WR-CALDESC:Evenementen voor Sociale Kalender
REFRESH-INTERVAL;VALUE=DURATION:PT1H
X-Robots-Tag:noindex
X-PUBLISHED-TTL:PT1H
BEGIN:VTIMEZONE
TZID:Europe/Brussels
BEGIN:DAYLIGHT
TZOFFSETFROM:+0100
TZOFFSETTO:+0200
TZNAME:CEST
DTSTART:20230326T010000
END:DAYLIGHT
BEGIN:STANDARD
TZOFFSETFROM:+0200
TZOFFSETTO:+0100
TZNAME:CET
DTSTART:20231029T010000
END:STANDARD
END:VTIMEZONE
BEGIN:VEVENT
DTSTART;TZID=Europe/Brussels:20230305T140000
DTEND;TZID=Europe/Brussels:20230305T170000
DTSTAMP:20260419T234844
CREATED:20230212T151809Z
LAST-MODIFIED:20230212T151809Z
UID:7944-1678024800-1678035600@www.socialekalender.be
SUMMARY:Stiltewandeling
DESCRIPTION:Welkom zondagmiddag 5 maart om samen te verstillen tijdens een wandeling in de Teut. Er zal af en toe gestopt worden om met aandacht te bewegen. Ons lichaam als toegangspoort tot het ‘hier en nu’.Nadien warmen we op in Siloam met een kopje koffie of thee. Tijd voor ontmoeting en gezelligheid. De middag wordt afgesloten met een meditatie. Je bent natuurlijk vrij hier al dan niet aan deel te nemen alsook om na de wandeling de stilte te bewaren. Sabine Meyers begeleidt het geheel.
URL:https://www.socialekalender.be/evenement/stiltewandeling/
LOCATION:Siloam\, Holsteenweg 17\, Zonhoven\, 3520\, België
ATTACH;FMTTYPE=image/jpeg:https://www.socialekalender.be/wp-content/uploads/2023/02/de-Teut.jpg
END:VEVENT
END:VCALENDAR