BEGIN:VCALENDAR
VERSION:2.0
PRODID:-//Sociale Kalender - ECPv6.2.9//NONSGML v1.0//EN
CALSCALE:GREGORIAN
METHOD:PUBLISH
X-ORIGINAL-URL:https://www.socialekalender.be
X-WR-CALDESC:Evenementen voor Sociale Kalender
REFRESH-INTERVAL;VALUE=DURATION:PT1H
X-Robots-Tag:noindex
X-PUBLISHED-TTL:PT1H
BEGIN:VTIMEZONE
TZID:Europe/Brussels
BEGIN:DAYLIGHT
TZOFFSETFROM:+0100
TZOFFSETTO:+0200
TZNAME:CEST
DTSTART:20230326T010000
END:DAYLIGHT
BEGIN:STANDARD
TZOFFSETFROM:+0200
TZOFFSETTO:+0100
TZNAME:CET
DTSTART:20231029T010000
END:STANDARD
END:VTIMEZONE
BEGIN:VEVENT
DTSTART;TZID=Europe/Brussels:20230315T194500
DTEND;TZID=Europe/Brussels:20230315T194500
DTSTAMP:20260419T220013
CREATED:20230104T141923Z
LAST-MODIFIED:20230104T141923Z
UID:7857-1678909500-1678909500@www.socialekalender.be
SUMMARY:Zenmeditatie in Siloam
DESCRIPTION:Deze meditatie vindt iedere woensdagavond plaats. Tweemaal een half uur zitmeditatie\, onderbroken door meditatief stappen (kinhin of wandelmeditatie). Er wordt dan ook samen naar een bezinnende tekst geluisterd. Achteraf wordt er nagepraat bij een kopje thee of koffie. Je hoeft niet vooraf te verwittigen. De ingang ligt achterom.
URL:https://www.socialekalender.be/evenement/zenmeditatie-in-siloam-2/
LOCATION:Siloam\, Holsteenweg 17\, Zonhoven\, 3520\, België
ATTACH;FMTTYPE=image/jpeg:https://www.socialekalender.be/wp-content/uploads/2023/01/zen-siloam.jpg
END:VEVENT
BEGIN:VEVENT
DTSTART;TZID=Europe/Brussels:20230315T200000
DTEND;TZID=Europe/Brussels:20230315T200000
DTSTAMP:20260419T220013
CREATED:20230130T154703Z
LAST-MODIFIED:20230130T154703Z
UID:7931-1678910400-1678910400@www.socialekalender.be
SUMMARY:Infoavond over Limburgs Platform Vluchtelingen (online)
DESCRIPTION:Het Limburgs Platform voor Mensen op de Vlucht organiseert een videosessie om de eigen werking voor te stellen\, maar ook met het oog op nieuwe kandidaat-vrijwilligers. Mensen op de vlucht willen hun leven hier zo snel mogelijk vormgeven en zoeken naar kansen voor een nieuwe toekomst. Toch botsen ze te vaak op allerlei drempels. Deze mensen hebben hier vaak geen eigen netwerk. Ze komen in een onbekende stad of gemeente waar ze niemand kennen. Om hen wegwijs te maken in het dagelijks leven zijn we op zoek naar warme vrijwilligers of buddy’s. Heb jij een warm hart voor de samenleving? Ben je sociaal\, maak je vlot contact met anderen en kan je omgaan met diversiteit? Vind je het leuk om zelf bij te leren en anderen wegwijs te maken in jouw buurt of gemeente? Of ben je hulpvaardig\, heb je verantwoordelijkheidszin en neem je vlot initiatief? Vrijwilligers bieden mensen op de vlucht informatieve\, juridische\, administratieve\, psychologische\, pedagogische en materiële ondersteuning. Ze bieden allerlei activiteiten en projecten aan zoals extra taallessen en/of schoolbegeleiding. Kunnen ondersteuning bieden bij het zoeken naar werk en opleiding. Helpen bij huisvestingsproblemen\, woonbegeleiding en woontraining. Helpen mensen hun netwerk verder uit te bouwen via huisbezoeken en ontmoetingsmomenten. Wil je hierover de nodige informatie krijgen? Nadat je je inschrijft ontvang je van ons de link voor de infosessie. Heb je goesting om in te stappen in ons aanbod? Dan maken we tijd voor een kennismakingsgesprek en zorgen we voor een korte opleiding zodat iedereen comfortabel aan de slag kan! Belangrijk is dat je je minstens één keer om de twee weken even kan vrijmaken\, dat je discretie opbrengt en dat je respect hebt voor andere mensen en hun ideeën.
URL:https://www.socialekalender.be/evenement/infoavond-over-limburgs-platform-vluchtelingen-online-2/
LOCATION:ONLINE
ATTACH;FMTTYPE=image/jpeg:https://www.socialekalender.be/wp-content/uploads/2023/01/diversiteit.jpg
END:VEVENT
END:VCALENDAR