BEGIN:VCALENDAR
VERSION:2.0
PRODID:-//Sociale Kalender - ECPv6.2.9//NONSGML v1.0//EN
CALSCALE:GREGORIAN
METHOD:PUBLISH
X-WR-CALNAME:Sociale Kalender
X-ORIGINAL-URL:https://www.socialekalender.be
X-WR-CALDESC:Evenementen voor Sociale Kalender
REFRESH-INTERVAL;VALUE=DURATION:PT1H
X-Robots-Tag:noindex
X-PUBLISHED-TTL:PT1H
BEGIN:VTIMEZONE
TZID:Europe/Brussels
BEGIN:DAYLIGHT
TZOFFSETFROM:+0100
TZOFFSETTO:+0200
TZNAME:CEST
DTSTART:20230326T010000
END:DAYLIGHT
BEGIN:STANDARD
TZOFFSETFROM:+0200
TZOFFSETTO:+0100
TZNAME:CET
DTSTART:20231029T010000
END:STANDARD
END:VTIMEZONE
BEGIN:VEVENT
DTSTART;TZID=Europe/Brussels:20230316T190000
DTEND;TZID=Europe/Brussels:20230316T210000
DTSTAMP:20260419T234844
CREATED:20230308T152711Z
LAST-MODIFIED:20230308T152711Z
UID:7991-1678993200-1679000400@www.socialekalender.be
SUMMARY:Hyperdivers samenleven vraagt hyperdivers denken
DESCRIPTION:Na boeken over Molenbeek en migratie in Brussel trok auteur Hans Vandecandelaere opnieuw op onderzoek door de hoofdstad. In alle sectoren peilde hij hoe diversiteit binnenwaait. Wat lukt er en wat niet? De troeven en de pijnpunten? Ditmaal schreef hij geen boek vol\, wel een website: www.hyperdiversbrussel.be. In 42 afleveringen verkent hij daarin de complexe realiteiten achter huisvesting\, armoede\, gezondheidszorg\, cultuurleven\, religie\, ouder worden en jong zijn in Brussel. \nDe resultaten van anderhalf jaar intens veldwerk presenteert hij in een lezing die ook veel ruimte laat om de Brusselse verhalen af te toetsen aan die van Genk. Waar zitten de gelijkenissen en de verschillen? En uiteraard is er de hamvraag: hoe kunnen we nu samenleven?
URL:https://www.socialekalender.be/evenement/hyperdivers-samenleven-vraagt-hyperdivers-denken/
LOCATION:bibliotheek (zaal De Ontdekking)\, Stadsplein 3\, Genk\, 3600
ATTACH;FMTTYPE=image/jpeg:https://www.socialekalender.be/wp-content/uploads/2023/03/do-it-together-1.jpg
END:VEVENT
END:VCALENDAR