BEGIN:VCALENDAR
VERSION:2.0
PRODID:-//Sociale Kalender - ECPv6.2.9//NONSGML v1.0//EN
CALSCALE:GREGORIAN
METHOD:PUBLISH
X-WR-CALNAME:Sociale Kalender
X-ORIGINAL-URL:https://www.socialekalender.be
X-WR-CALDESC:Evenementen voor Sociale Kalender
REFRESH-INTERVAL;VALUE=DURATION:PT1H
X-Robots-Tag:noindex
X-PUBLISHED-TTL:PT1H
BEGIN:VTIMEZONE
TZID:Europe/Brussels
BEGIN:DAYLIGHT
TZOFFSETFROM:+0100
TZOFFSETTO:+0200
TZNAME:CEST
DTSTART:20230326T010000
END:DAYLIGHT
BEGIN:STANDARD
TZOFFSETFROM:+0200
TZOFFSETTO:+0100
TZNAME:CET
DTSTART:20231029T010000
END:STANDARD
END:VTIMEZONE
BEGIN:VEVENT
DTSTART;TZID=Europe/Brussels:20230319T110000
DTEND;TZID=Europe/Brussels:20230319T160000
DTSTAMP:20260419T234844
CREATED:20230130T153812Z
LAST-MODIFIED:20230130T153812Z
UID:7917-1679223600-1679241600@www.socialekalender.be
SUMMARY:Lenteontmoeting op Het Vrije Veld
DESCRIPTION:Souliman Diraa droomt al sinds 2006 van een agroforestry-aanplant op zijn CSA-veld met groenten. Sinds 2 jaar is hij eindelijk bomen aan het planten dankzij langetermijnzekerheid over de grond waarop hij teelt. Hij toont het ons graag. We starten om 11 u en ronden af om 16u. Inschrijven via https://wervel.be/agenda/de-lente-in-op-het-vrije-veld-2/
URL:https://www.socialekalender.be/evenement/lenteontmoeting-op-het-vrije-veld/
LOCATION:Het Vrije Veld\, Kennepstraat naast nr 22\, Zutendaal\, Limburg\, 3690\, België
ATTACH;FMTTYPE=image/jpeg:https://www.socialekalender.be/wp-content/uploads/2023/01/het-vrije-veld.jpg
END:VEVENT
BEGIN:VEVENT
DTSTART;TZID=Europe/Brussels:20230319T140000
DTEND;TZID=Europe/Brussels:20230319T160000
DTSTAMP:20260419T234844
CREATED:20230308T153948Z
LAST-MODIFIED:20230308T153948Z
UID:8004-1679234400-1679241600@www.socialekalender.be
SUMMARY:Mystic Moods
DESCRIPTION:Een warm klank- en kleurenbad met rustgevende muzikale composities en kleurrijke animaties. Duur: 60 minuten. Alle beelden en klanken door Koen Fossey. Je kan de voorstelling liggend of zittend op de grond bijwonen: breng dan je eigen matje\, kussentje en dekentje mee. Je kan de voorstelling ook gewoon zittend op een stoel volgen. Inschrijven gewenst maar niet verplicht\, betalen kan aan de inkom.
URL:https://www.socialekalender.be/evenement/mystic-moods-2/
LOCATION:zaal Steborg\, Broekstraat 1\, Stevoort\, 3520
ATTACH;FMTTYPE=image/jpeg:https://www.socialekalender.be/wp-content/uploads/2023/03/Koen-Fossey-herfstmandala-1.jpg
END:VEVENT
END:VCALENDAR