BEGIN:VCALENDAR
VERSION:2.0
PRODID:-//Sociale Kalender - ECPv6.2.9//NONSGML v1.0//EN
CALSCALE:GREGORIAN
METHOD:PUBLISH
X-ORIGINAL-URL:https://www.socialekalender.be
X-WR-CALDESC:Evenementen voor Sociale Kalender
REFRESH-INTERVAL;VALUE=DURATION:PT1H
X-Robots-Tag:noindex
X-PUBLISHED-TTL:PT1H
BEGIN:VTIMEZONE
TZID:Europe/Brussels
BEGIN:DAYLIGHT
TZOFFSETFROM:+0100
TZOFFSETTO:+0200
TZNAME:CEST
DTSTART:20230326T010000
END:DAYLIGHT
BEGIN:STANDARD
TZOFFSETFROM:+0200
TZOFFSETTO:+0100
TZNAME:CET
DTSTART:20231029T010000
END:STANDARD
END:VTIMEZONE
BEGIN:VEVENT
DTSTART;TZID=Europe/Brussels:20230326T093000
DTEND;TZID=Europe/Brussels:20230326T093000
DTSTAMP:20260419T220013
CREATED:20230308T154501Z
LAST-MODIFIED:20230308T154501Z
UID:8008-1679823000-1679823000@www.socialekalender.be
SUMMARY:Al wandelend mediteren in vallei
DESCRIPTION:Door al wandelend te mediteren leer je op een natuurlijke manier te onthaasten. Aan de hand van betekenisvolle teksten en eenvoudige oefeningen creëer je samen met de groep een zekere rust en verbondenheid. Heerlijk voor iedereen die behoefte heeft aan stilte\, rust en inspiratie. Deze wandeling is enkel bedoeld voor volwassenen. Je bent ingeschreven na een seintje\, liefst per mail. De bijdrage kan ter plaatse betaald worden of door overschrijving op rekening BE50 0688 9682 2318.
URL:https://www.socialekalender.be/evenement/al-wandelend-mediteren-in-vallei/
LOCATION:’t Zaveltje\, Kattebeekstraat 1\, Opoeteren\, Limburg\, 3680\, België
ATTACH;FMTTYPE=image/jpeg:https://www.socialekalender.be/wp-content/uploads/2023/03/bosbeek-2020.jpg
END:VEVENT
BEGIN:VEVENT
DTSTART;TZID=Europe/Brussels:20230326T140000
DTEND;TZID=Europe/Brussels:20230326T153000
DTSTAMP:20260419T220013
CREATED:20230301T144754Z
LAST-MODIFIED:20230301T144754Z
UID:7977-1679839200-1679844600@www.socialekalender.be
SUMMARY:Sporen van Congo in Hasselt
DESCRIPTION:We maken een wandeling door Hasselt waarbij we vooral oog hebben voor straten\, pleinen en monumenten die een link hadden met het Belgische koloniale verhaal. Welke Limburgers speelden er een sleutelrol in het koloniseren en exploiteren van het immense Afrikaanse land? Waarom noemden we hen vroeger ‘pioniers’? En hoe kijken we vandaag naar o.a. het Hasseltse Congomonument? Gids Michiel Stinckens zoekt met ons naar antwoorden op deze vragen tijdens een verhalende wandeling. Deze activiteit hoort bij de reeks over Black History Month.  Om 13.45u komen we samen bij Avansa-Limburg voor deze wandeling van 4km. Kortingen mogelijk.
URL:https://www.socialekalender.be/evenement/sporen-van-congo-in-hasselt/
LOCATION:Avansa\, Ceeleboedersstraat 13-15\, Hasselt\, Limburg\, 3500\, België
ATTACH;FMTTYPE=image/jpeg:https://www.socialekalender.be/wp-content/uploads/2023/03/Leopold-II.jpg
END:VEVENT
END:VCALENDAR