BEGIN:VCALENDAR
VERSION:2.0
PRODID:-//Sociale Kalender - ECPv6.2.9//NONSGML v1.0//EN
CALSCALE:GREGORIAN
METHOD:PUBLISH
X-ORIGINAL-URL:https://www.socialekalender.be
X-WR-CALDESC:Evenementen voor Sociale Kalender
REFRESH-INTERVAL;VALUE=DURATION:PT1H
X-Robots-Tag:noindex
X-PUBLISHED-TTL:PT1H
BEGIN:VTIMEZONE
TZID:Europe/Brussels
BEGIN:DAYLIGHT
TZOFFSETFROM:+0100
TZOFFSETTO:+0200
TZNAME:CEST
DTSTART:20230326T010000
END:DAYLIGHT
BEGIN:STANDARD
TZOFFSETFROM:+0200
TZOFFSETTO:+0100
TZNAME:CET
DTSTART:20231029T010000
END:STANDARD
END:VTIMEZONE
BEGIN:VEVENT
DTSTART;TZID=Europe/Brussels:20230328T193000
DTEND;TZID=Europe/Brussels:20230328T220000
DTSTAMP:20260419T201148
CREATED:20221031T145353Z
LAST-MODIFIED:20230308T152822Z
UID:7647-1680031800-1680040800@www.socialekalender.be
SUMMARY:UMB brengt sociale en ecologische werkingen samen aan tafel (overlegraad)  UITGESTELD
DESCRIPTION:De Universiteit voor het Maatschappelijk Belang brengt allerlei partners samen om te bouwen aan een sociaal en ecologisch rechtvaardige samenleving: basisgroepen\, ngo’s\, scholen\, instellingen en bevlogen burgers. Het model van waaruit we werken is dat van een overlegplatform. Samenwerking en dialoog vormen onze kracht. Vernetting is ons slagwoord. \nWe hebben de traditie om twee keer per jaar mensen en verenigingen samen te roepen die zich bij onze werking betrokken voelen. Hieraan geven we de naam Overlegraad. Hij biedt een mooie gelegenheid om te ontdekken dat anderen ook met interessante initiatieven bezig zijn. Daarbij\, wederzijds kennismaken en samen nadenken\, het geeft aanleiding tot nieuwe ideeën en plannen. \nIedereen die wil meedenken is welkom. Men mag als afgevaardigde van een vereniging of organisatie komen\, of uit eigen interesse.  We gaan in een cirkel rond tafels zitten en starten de avond met een kennismakingsronde. Als opwarming voor het overleg laten we twee mensen in een kwartier hun werking kort uit de doeken doen.
URL:https://www.socialekalender.be/evenement/umb-brengt-sociale-en-ecologische-werkingen-samen-aan-tafel-overlegraad/
LOCATION:jeugdhotel Hostel H\, Spoorwegstraat 80\, Hasselt\, 3500
ATTACH;FMTTYPE=image/jpeg:https://www.socialekalender.be/wp-content/uploads/2022/10/jeugdherberg-hasselt-1.jpg
ORGANIZER;CN="Universiteit voor het Maatschappelijk Belang":MAILTO:felixbergers@hotmail.com
END:VEVENT
END:VCALENDAR