BEGIN:VCALENDAR
VERSION:2.0
PRODID:-//Sociale Kalender - ECPv6.2.9//NONSGML v1.0//EN
CALSCALE:GREGORIAN
METHOD:PUBLISH
X-ORIGINAL-URL:https://www.socialekalender.be
X-WR-CALDESC:Evenementen voor Sociale Kalender
REFRESH-INTERVAL;VALUE=DURATION:PT1H
X-Robots-Tag:noindex
X-PUBLISHED-TTL:PT1H
BEGIN:VTIMEZONE
TZID:Europe/Brussels
BEGIN:DAYLIGHT
TZOFFSETFROM:+0100
TZOFFSETTO:+0200
TZNAME:CEST
DTSTART:20230326T010000
END:DAYLIGHT
BEGIN:STANDARD
TZOFFSETFROM:+0200
TZOFFSETTO:+0100
TZNAME:CET
DTSTART:20231029T010000
END:STANDARD
END:VTIMEZONE
BEGIN:VEVENT
DTSTART;TZID=Europe/Brussels:20230415T130000
DTEND;TZID=Europe/Brussels:20230415T170000
DTSTAMP:20260419T201115
CREATED:20220713T123822Z
LAST-MODIFIED:20220713T123822Z
UID:7292-1681563600-1681578000@www.socialekalender.be
SUMMARY:Repaircafé in Sledderlo
DESCRIPTION:Een repaircafé is een bijeenkomst waar mensen hun spullen met de hulp van anderen herstellen. In Sledderlo werken ze breed: computers\, smartphones\, software\, elektrische toestellen (senseo niet)\, fietsen\, kleding en horloges. Er zijn een 10-tal vaklui aanwezig met het nodige materiaal. De herstellingen zijn gratis\, maar voor wisselstukken kan de aankoopprijs gevraagd worden. Maximum drie stuks per persoon. Er is ook drank aanwezig\, zodat het repaircafé een sociale activiteit wordt. Iedereen is welkom\, al is het maar om een praatje te slaan.
URL:https://www.socialekalender.be/evenement/repaircafe-in-sledderlo-2/
LOCATION:Buurthuis  Sledderlo\, Bijlkestraat 16\, Genk\, Limburg\, 3600\, België
ATTACH;FMTTYPE=image/jpeg:https://www.socialekalender.be/wp-content/uploads/2022/07/repair-café-4.jpg
END:VEVENT
END:VCALENDAR