BEGIN:VCALENDAR
VERSION:2.0
PRODID:-//Sociale Kalender - ECPv6.2.9//NONSGML v1.0//EN
CALSCALE:GREGORIAN
METHOD:PUBLISH
X-ORIGINAL-URL:https://www.socialekalender.be
X-WR-CALDESC:Evenementen voor Sociale Kalender
REFRESH-INTERVAL;VALUE=DURATION:PT1H
X-Robots-Tag:noindex
X-PUBLISHED-TTL:PT1H
BEGIN:VTIMEZONE
TZID:Europe/Brussels
BEGIN:DAYLIGHT
TZOFFSETFROM:+0100
TZOFFSETTO:+0200
TZNAME:CEST
DTSTART:20230326T010000
END:DAYLIGHT
BEGIN:STANDARD
TZOFFSETFROM:+0200
TZOFFSETTO:+0100
TZNAME:CET
DTSTART:20231029T010000
END:STANDARD
END:VTIMEZONE
BEGIN:VEVENT
DTSTART;TZID=Europe/Brussels:20230419T133000
DTEND;TZID=Europe/Brussels:20230419T190000
DTSTAMP:20260419T201115
CREATED:20230404T144049Z
LAST-MODIFIED:20230404T144820Z
UID:8116-1681911000-1681930800@www.socialekalender.be
SUMMARY:Limburgdaag: groot dialectevenement ter herdenking van scheiding beide Limburgen
DESCRIPTION:Op 19 april 1839 werden de twee Limburgen uit elkaar gerukt en gingen ze behoren tot twee landen. De inwoners werden hierover natuurlijk niet geconsulteerd: het Verdrag van Londen sprak dit uit over de hoofden van de betrokkenen. We zijn nu 184 jaar later\, en er worden enthousiast initiatieven genomen om de verbondenheid tussen Oost en West te versterken. De dialectorganisaties Veldeke Bels(j) Limburg en Veldeke Krink Ech zetten zo een actiedag op en kiezen de Pater Sangersbrug tussen Maaseik en Roosteren als centraal forum. Ze verlenen die zo ook een figuurlijke brugfunctie. \nDe activiteiten worden om half twee opgestart in de kerk van Sint-Catharina (Grote Kerkstraat 15\, in Maaseik vlakbij de brug). Als onthaal wordt aan de deelnemers een knapkoek bij een drankje aangeboden. Hier kan men tussen de toespraken door muziek horen van het Dörpskoer Laoneke en poëzie van Theo Van Dael. Na afloop trekken we\, deels te voet en deels met de huifkar\, naar een weide vlakbij de Maas in Roosteren. Deze plaats wordt het decor van het tweede deel van ons drieluik. De voorzitter van Veldeke Ech\, Jos Wackers\, neemt er het woord. Riky Simons brengt er een gedicht\, en ook Ton Theelen. Daarna maken we plaats voor een speciale én geheime symbolische actie\, een ritueel van verbondenheid. Dan gaat het weer oostwaarts\, ruim een kilometer verder\, tot Roosteren centrum. In het gemeenschapshuis sluiten we af met ons hoofdprogramma (ongeveer van 17.30u tot 19u). We krijgen daar internationale dialectpoëzie te horen van Annie Schreuders-Derks (NL) en Stan Mardaga (B). Muzikale optredens worden verzorgd door Sef Laugs (NL) en Piet Stinckens\, de troubadour uit het Belgische Bree. De twee burgemeesters Jos Hessels en Johan Tollenaere slaan de handen letterlijk in elkaar en geven een toespraak. Afsluiting met een kleine receptie. \nAlles op deze hoogdag voor onze gemeenschappelijke regionale taal is gratis. De buitenactiviteit op de wei aan de Maas is toegankelijk zonder voorinschrijving. Voor de twee binnenactiviteiten is inschrijving vereist. Het is de bedoeling dat iedereen zich voor beide activiteiten inschrijft en dus aan de hele dag mee gestalte geeft. Woensdag 12 april worden de inschrijvingen afgesloten. Het is de toeristische dienst van Maaseik die de inschrijvingen aan Belgische kant coördineert. We zouden graag van deze ingeschreven deelnemers de naam\, woonplaats\, mailadres en telefoonnummer hebben. De toeristische dienst is 7/7 open van 10 tot 17u; alleen op weekend- en feestdagen wordt er ’s middags even gesloten van 12.30u tot 13u.  Bij voorkeur inschrijven via een mailtje (visit@maaseik.be)\, eventueel kan dat ook via een telefoontje (089/81 92 90). Het maximum aantal deelnemers bedraagt 100: 50 uit België en 50 uit Nederland. Nog een tip: je kan je auto parkeren op de Hoekstraat in Roosteren\, tegenover de Roosterhoeve. Vanaf 13u kan je met de huifkar naar Maaseik. Na afloop staat je auto dan klaar om te vertrekken.
URL:https://www.socialekalender.be/evenement/limburgdaag-groot-dialectevenement-ter-herdenking-van-scheiding-beide-limburgen/
LOCATION:In Maaseik en Roosteren
ATTACH;FMTTYPE=image/jpeg:https://www.socialekalender.be/wp-content/uploads/2023/04/maasbrug-met-zicht-op-kerk.jpg
END:VEVENT
BEGIN:VEVENT
DTSTART;TZID=Europe/Brussels:20230419T193000
DTEND;TZID=Europe/Brussels:20230419T213000
DTSTAMP:20260419T201115
CREATED:20230321T153424Z
LAST-MODIFIED:20230321T153424Z
UID:8028-1681932600-1681939800@www.socialekalender.be
SUMMARY:Duurzaam in de verenigingen
DESCRIPTION:In deze workshop bekijkt Tine Driessen (Ecolimburg) met ons hoe we in het verenigingsleven duurzaamheid kunnen nastreven op eetfestijnen\, in materiaalgebruik\, verplaatsingen\,… Inschrijven via www.limburgsemilieukoepel.be/activiteiten.
URL:https://www.socialekalender.be/evenement/duurzaam-in-de-verenigingen/
LOCATION:Bezoekerscentrum Kiewit\, Natuurpunt\, Putvennestraat 112\, Hasselt-Kiewit\, 3500
ATTACH;FMTTYPE=image/jpeg:https://www.socialekalender.be/wp-content/uploads/2023/03/duurzaam.jpg
END:VEVENT
END:VCALENDAR