BEGIN:VCALENDAR
VERSION:2.0
PRODID:-//Sociale Kalender - ECPv6.2.9//NONSGML v1.0//EN
CALSCALE:GREGORIAN
METHOD:PUBLISH
X-ORIGINAL-URL:https://www.socialekalender.be
X-WR-CALDESC:Evenementen voor Sociale Kalender
REFRESH-INTERVAL;VALUE=DURATION:PT1H
X-Robots-Tag:noindex
X-PUBLISHED-TTL:PT1H
BEGIN:VTIMEZONE
TZID:Europe/Brussels
BEGIN:DAYLIGHT
TZOFFSETFROM:+0100
TZOFFSETTO:+0200
TZNAME:CEST
DTSTART:20230326T010000
END:DAYLIGHT
BEGIN:STANDARD
TZOFFSETFROM:+0200
TZOFFSETTO:+0100
TZNAME:CET
DTSTART:20231029T010000
END:STANDARD
END:VTIMEZONE
BEGIN:VEVENT
DTSTART;TZID=Europe/Brussels:20230423T093000
DTEND;TZID=Europe/Brussels:20230423T093000
DTSTAMP:20260419T201115
CREATED:20230414T162913Z
LAST-MODIFIED:20230414T162913Z
UID:8150-1682242200-1682242200@www.socialekalender.be
SUMMARY:Lenteontmoeting met ontbijt bij de Limburgse alevieten
DESCRIPTION:Ook dit jaar organiseren de alevieten een lenteontmoeting met een uitgebreid culinair buffet. Zoals gewoonlijk is het ook opgevat als een dialoogmoment waarin er aan tafel van gedachten kan gewisseld worden over levensfilosofie en politieke actualiteit. De opbrengst gaat naar initiatieven voor de opvang van de slachtoffers van de aardbeving. Wegens de beperkte capaciteit van het huis aan de M. Scheperslaan\, wordt de plaats van afspraak het Ontmoetingscentrum in de Pastoor Paquaylaan 127 in Heusden-Zolder.
URL:https://www.socialekalender.be/evenement/lenteontmoeting-met-ontbijt-bij-de-limburgse-alevieten/
LOCATION:OC\, Pasttor Paquaylaan 127\, Heusden-Zolder\, Limburg\, 3550\, België
ATTACH;FMTTYPE=image/jpeg:https://www.socialekalender.be/wp-content/uploads/2023/04/Turks-ontbijt.jpg
END:VEVENT
BEGIN:VEVENT
DTSTART;TZID=Europe/Brussels:20230423T100000
DTEND;TZID=Europe/Brussels:20230423T100000
DTSTAMP:20260419T201115
CREATED:20230308T154939Z
LAST-MODIFIED:20230308T154939Z
UID:8016-1682244000-1682244000@www.socialekalender.be
SUMMARY:Al wandelend mediteren in Maasmechelen
DESCRIPTION:Door al wandelend te mediteren leer je op een natuurlijke manier te onthaasten. Aan de hand van betekenisvolle teksten en eenvoudige oefeningen creëer je samen met de groep een zekere rust en verbondenheid. Heerlijk voor iedereen die behoefte heeft aan stilte\, rust en inspiratie. Deze wandeling is enkel bedoeld voor volwassenen. Je bent ingeschreven na een seintje\, liefst per mail. De bijdrage kan ter plaatse betaald worden of door overschrijving op rekening BE50 0688 9682 2318. Na de wandeling kan je deelnemen aan een pastabuffet in Moai. Als je wil reserveren\, meld dit dan bij het begin van de wandeling aan de gids.
URL:https://www.socialekalender.be/evenement/al-wandelend-mediteren-in-maasmechelen/
LOCATION:Wandelbord Mechelse Heide\, Joseph Smeetslaan 280\, Maasmechelen\, Limburg\, 3630\, België
ATTACH;FMTTYPE=image/jpeg:https://www.socialekalender.be/wp-content/uploads/2023/03/bos-1.jpg
END:VEVENT
END:VCALENDAR