BEGIN:VCALENDAR
VERSION:2.0
PRODID:-//Sociale Kalender - ECPv6.2.9//NONSGML v1.0//EN
CALSCALE:GREGORIAN
METHOD:PUBLISH
X-ORIGINAL-URL:https://www.socialekalender.be
X-WR-CALDESC:Evenementen voor Sociale Kalender
REFRESH-INTERVAL;VALUE=DURATION:PT1H
X-Robots-Tag:noindex
X-PUBLISHED-TTL:PT1H
BEGIN:VTIMEZONE
TZID:Europe/Brussels
BEGIN:DAYLIGHT
TZOFFSETFROM:+0100
TZOFFSETTO:+0200
TZNAME:CEST
DTSTART:20230326T010000
END:DAYLIGHT
BEGIN:STANDARD
TZOFFSETFROM:+0200
TZOFFSETTO:+0100
TZNAME:CET
DTSTART:20231029T010000
END:STANDARD
END:VTIMEZONE
BEGIN:VEVENT
DTSTART;TZID=Europe/Brussels:20230429T090000
DTEND;TZID=Europe/Brussels:20230429T120000
DTSTAMP:20260419T201115
CREATED:20230104T140217Z
LAST-MODIFIED:20230104T140217Z
UID:7844-1682758800-1682769600@www.socialekalender.be
SUMMARY:Bosbaden in Thorpark
DESCRIPTION:Bosbaden: een manier om je batterijen terug op te laden. Bosbaden is je onderdompelen in een natuurlijke omgeving. In dit geval de bosrijke omgeving van het Thorpark in Waterschei. De begeleidster Marijke Bastiaens laat je ervaren hoe helend de kracht van de natuur kan zijn door laagdrempelige en creatieve uitnodigingen/oefeningen. Je wandelt aan een rustig tempo en je legt een drietal kilometer af. Zonder tijdsdruk. Zo krijg je de tijd om de omgeving met al je zintuigen te ervaren. Het is een moment om te onthaasten\, nieuwe energie op te doen en je innerlijke batterijen op te laden. Praktisch: stevig schoeisel en een lange broek. Je kleedt je best op het weer (bij regenweer een regenjas\, bij koude meerdere laagjes aandoen). Het gaat dus ook door bij regen. Horloges mogen thuisblijven. Gsm liefst uitzetten.
URL:https://www.socialekalender.be/evenement/bosbaden-in-thorpark/
LOCATION:Stiemerhub\, André Dumontlaan 16\, Genk\, Limburg\, 3600\, België
ATTACH;FMTTYPE=image/jpeg:https://www.socialekalender.be/wp-content/uploads/2023/01/bosbad.jpg
END:VEVENT
END:VCALENDAR