BEGIN:VCALENDAR
VERSION:2.0
PRODID:-//Sociale Kalender - ECPv6.2.9//NONSGML v1.0//EN
CALSCALE:GREGORIAN
METHOD:PUBLISH
X-WR-CALNAME:Sociale Kalender
X-ORIGINAL-URL:https://www.socialekalender.be
X-WR-CALDESC:Evenementen voor Sociale Kalender
REFRESH-INTERVAL;VALUE=DURATION:PT1H
X-Robots-Tag:noindex
X-PUBLISHED-TTL:PT1H
BEGIN:VTIMEZONE
TZID:Europe/Brussels
BEGIN:DAYLIGHT
TZOFFSETFROM:+0100
TZOFFSETTO:+0200
TZNAME:CEST
DTSTART:20230326T010000
END:DAYLIGHT
BEGIN:STANDARD
TZOFFSETFROM:+0200
TZOFFSETTO:+0100
TZNAME:CET
DTSTART:20231029T010000
END:STANDARD
END:VTIMEZONE
BEGIN:VEVENT
DTSTART;TZID=Europe/Brussels:20230601T193000
DTEND;TZID=Europe/Brussels:20230601T193000
DTSTAMP:20260419T150939
CREATED:20230521T134059Z
LAST-MODIFIED:20230601T105846Z
UID:8236-1685647800-1685647800@www.socialekalender.be
SUMMARY:Stefan Roumen in gesprek met auteur Anton Jäger (geännuleerd)
DESCRIPTION:Des te erger voor de feiten. Het was destijds een moto van de filosoof Hegel\, en nu de titel van het nieuwste boek van Anton Jäger over de huidige diepgaande verschuivingen in het politieke bestel. Van banken- tot coronacrisis\, en van de malaise in de democratie. Historicus-/filosoof Anton Jäger studeerde aan de universiteiten van Essex en Cambridge. Momenteel is hij postdoctoraal onderzoeker aan de KU Leuven. Eerder deed hij ook onderzoek voor Cambridge en VUB. Hij publiceerde in talrijke boeken en internationale wetenschappelijke tijdschriften o.a. over populisme. Hij schrijft ook voor De Groene Amsterdammer\, De Morgen\, De Standaard en Apache. In 2018 verscheen van hem in het Nederlands “Kleine antigeschiedenis van het populisme”. Stefan Roumen is actief bij het Humanistisch Verbond en is oprichter van de Armoedevakbond. Deuren open om 19u.
URL:https://www.socialekalender.be/evenement/stefan-roumen-in-gesprek-met-auteur-anton-jager/
LOCATION:Vrijzinnig Punt en Boekhandel Grim
ATTACH;FMTTYPE=image/jpeg:https://www.socialekalender.be/wp-content/uploads/2023/05/Anton-Jäger.jpg
END:VEVENT
END:VCALENDAR