BEGIN:VCALENDAR
VERSION:2.0
PRODID:-//Sociale Kalender - ECPv6.2.9//NONSGML v1.0//EN
CALSCALE:GREGORIAN
METHOD:PUBLISH
X-ORIGINAL-URL:https://www.socialekalender.be
X-WR-CALDESC:Evenementen voor Sociale Kalender
REFRESH-INTERVAL;VALUE=DURATION:PT1H
X-Robots-Tag:noindex
X-PUBLISHED-TTL:PT1H
BEGIN:VTIMEZONE
TZID:Europe/Brussels
BEGIN:DAYLIGHT
TZOFFSETFROM:+0100
TZOFFSETTO:+0200
TZNAME:CEST
DTSTART:20230326T010000
END:DAYLIGHT
BEGIN:STANDARD
TZOFFSETFROM:+0200
TZOFFSETTO:+0100
TZNAME:CET
DTSTART:20231029T010000
END:STANDARD
END:VTIMEZONE
BEGIN:VEVENT
DTSTART;TZID=Europe/Brussels:20230605T110000
DTEND;TZID=Europe/Brussels:20230605T110000
DTSTAMP:20260419T164221
CREATED:20230521T134458Z
LAST-MODIFIED:20230521T134458Z
UID:8242-1685962800-1685962800@www.socialekalender.be
SUMMARY:Op weg naar duurzaam sparen en beleggen
DESCRIPTION:Frans De Clerck is trekker van de werkgroep die deze campagne heeft ontwikkeld. Grootouders voor het Klimaat heeft een gids gepubliceerd op de website die je gratis kan downloaden. Graag stelt hij deze gids voor in een webinar. Frans is ambassadeur van GvK en voormalig bankier (1968-2010)\, mede-oprichter en directeur van Triodos Bank België (1993) en later lid van het bestuur van de bank. In 2009 was hij medeoprichter van de Global Alliance for Banking on Values. Hij was gastdocent duurzaam bankieren o.m. bij de Vlerick Business School\, waar hij zelf studeerde. \nFrans De Clerck: “De omslag is nù\, misschien te laat maar absoluut nodig. Dit vraagt om opbouwende en kritische waakzaamheid. Geld wordt beleefd als een soort sublimatie van de materie maar kan ook een aanjager en instrument zijn van sociale en ecologische vernieuwing. Voor zover wij dit zelf willen\, kunnen wij nog een samenleving op deze planeet inrichten die kwalitatief\, duurzaam en ‘des mensen’ is. Elk van ons kan zijn (financieel) steentje bijdragen maar alleen samen zijn we sterk.”  Wachtkamer vanaf 10.45\, start om 11u tot 12 u. Hier inschrijven. Als je inschrijft krijg je ten laatste op 4 juni de link. \n 
URL:https://www.socialekalender.be/evenement/op-weg-naar-duurzaam-sparen-en-beleggen/
LOCATION:ONLINE
ATTACH;FMTTYPE=image/jpeg:https://www.socialekalender.be/wp-content/uploads/2023/05/Frans-De-Clerck-1.jpg
END:VEVENT
END:VCALENDAR