BEGIN:VCALENDAR
VERSION:2.0
PRODID:-//Sociale Kalender - ECPv6.2.9//NONSGML v1.0//EN
CALSCALE:GREGORIAN
METHOD:PUBLISH
X-WR-CALNAME:Sociale Kalender
X-ORIGINAL-URL:https://www.socialekalender.be
X-WR-CALDESC:Evenementen voor Sociale Kalender
REFRESH-INTERVAL;VALUE=DURATION:PT1H
X-Robots-Tag:noindex
X-PUBLISHED-TTL:PT1H
BEGIN:VTIMEZONE
TZID:Europe/Brussels
BEGIN:DAYLIGHT
TZOFFSETFROM:+0100
TZOFFSETTO:+0200
TZNAME:CEST
DTSTART:20230326T010000
END:DAYLIGHT
BEGIN:STANDARD
TZOFFSETFROM:+0200
TZOFFSETTO:+0100
TZNAME:CET
DTSTART:20231029T010000
END:STANDARD
END:VTIMEZONE
BEGIN:VEVENT
DTSTART;TZID=Europe/Brussels:20230617T140000
DTEND;TZID=Europe/Brussels:20230617T180000
DTSTAMP:20260419T150940
CREATED:20230423T120733Z
LAST-MODIFIED:20230423T120733Z
UID:8200-1687010400-1687024800@www.socialekalender.be
SUMMARY:Kunstexpo ter herdenking van Lieve Gelders
DESCRIPTION:Op 3 oktober moesten we afscheid nemen van onze dierbare Lieve Gelders. Een schitterend mens\, kunstenares met een beperktheid maar vooral iemand met een groot solidair inspirerend hart. We willen die geest warm houden. Daartoe werd door enkele mensen het ‘Lieve Gelders Fonds’ opgericht. Geen grote doelstellingen\, maar bescheiden solidariteit\, vooral voor die mensen waar Lieve zich haar leven lang voor ingezet heeft. Lieve had ook een enorm positivisme\, met vertrouwen in de mensen (“de meeste mensen deugen”)\, zonder daarin naïef te zijn. Onder haar impuls werden zo enkele mooie projecten opgericht en gesteund\, o.a. uit solidariteit met kinderen met een beperking in Marokko. Die steun en herinnering willen we verderzetten\, zoals zijzelf het gewenst heeft Tijdens deze tentoonstelling worden de werken ook te koop aangeboden\, en de opbrengst ervan gaat integraal naar haar projecten in Kenitra en Missour. Ere-gouverneur Herman Reynders\, een vriend van Lieve\, wordt bij deze gelegenheid peter van het Fonds. Het terras van de Lavendelhoeve zal geopend zijn\, zodat men een drankje kan nuttigen. Dit kan in combinatie met een wandeling doorheen de bloeiende lavendelplantage. ’s Anderendaags\, op zondag\, is de expo op dezelfde uren toegankelijk.
URL:https://www.socialekalender.be/evenement/kunstexpo-ter-herdenking-van-lieve-gelders/
LOCATION:Lavendelhoeve\, Olmenbosstraat 25\, Stokrooi-Hasselt\, Limburg\, 3511\, België
ATTACH;FMTTYPE=image/jpeg:https://www.socialekalender.be/wp-content/uploads/2023/04/Lieve-Gelders.jpg
END:VEVENT
END:VCALENDAR