BEGIN:VCALENDAR
VERSION:2.0
PRODID:-//Sociale Kalender - ECPv6.2.9//NONSGML v1.0//EN
CALSCALE:GREGORIAN
METHOD:PUBLISH
X-WR-CALNAME:Sociale Kalender
X-ORIGINAL-URL:https://www.socialekalender.be
X-WR-CALDESC:Evenementen voor Sociale Kalender
REFRESH-INTERVAL;VALUE=DURATION:PT1H
X-Robots-Tag:noindex
X-PUBLISHED-TTL:PT1H
BEGIN:VTIMEZONE
TZID:Europe/Brussels
BEGIN:DAYLIGHT
TZOFFSETFROM:+0100
TZOFFSETTO:+0200
TZNAME:CEST
DTSTART:20230326T010000
END:DAYLIGHT
BEGIN:STANDARD
TZOFFSETFROM:+0200
TZOFFSETTO:+0100
TZNAME:CET
DTSTART:20231029T010000
END:STANDARD
END:VTIMEZONE
BEGIN:VEVENT
DTSTART;TZID=Europe/Brussels:20230618T140000
DTEND;TZID=Europe/Brussels:20230618T180000
DTSTAMP:20260419T150939
CREATED:20230603T062703Z
LAST-MODIFIED:20230603T062703Z
UID:8264-1687096800-1687111200@www.socialekalender.be
SUMMARY:Zomerfeest in Stiemerhub
DESCRIPTION:Gezellig samenzijn bij een drankje en allerlei activiteiten in de recent geopende Stimerhub. Dit huis\, gelegen op de André Dumontlaan 16 (schuin tegenover het mijngebouw)\, vormt drie jaar lang het centrum van het Stiemerprogramma. Bedoeling is om een sociale beweging te activeren rond de natuurprojecten in de vallei van de Stiemerbeek.
URL:https://www.socialekalender.be/evenement/zomerfeest-in-stiemerhub/
LOCATION:Stiemerhub\, André Dumontlaan 16\, Genk\, Limburg\, 3600\, België
ATTACH;FMTTYPE=image/jpeg:https://www.socialekalender.be/wp-content/uploads/2023/06/stiemerhub.jpg
END:VEVENT
END:VCALENDAR