BEGIN:VCALENDAR
VERSION:2.0
PRODID:-//Sociale Kalender - ECPv6.2.9//NONSGML v1.0//EN
CALSCALE:GREGORIAN
METHOD:PUBLISH
X-WR-CALNAME:Sociale Kalender
X-ORIGINAL-URL:https://www.socialekalender.be
X-WR-CALDESC:Evenementen voor Sociale Kalender
REFRESH-INTERVAL;VALUE=DURATION:PT1H
X-Robots-Tag:noindex
X-PUBLISHED-TTL:PT1H
BEGIN:VTIMEZONE
TZID:Europe/Brussels
BEGIN:DAYLIGHT
TZOFFSETFROM:+0100
TZOFFSETTO:+0200
TZNAME:CEST
DTSTART:20230326T010000
END:DAYLIGHT
BEGIN:STANDARD
TZOFFSETFROM:+0200
TZOFFSETTO:+0100
TZNAME:CET
DTSTART:20231029T010000
END:STANDARD
END:VTIMEZONE
BEGIN:VEVENT
DTSTART;TZID=Europe/Brussels:20230619T110000
DTEND;TZID=Europe/Brussels:20230619T110000
DTSTAMP:20260419T150939
CREATED:20230521T135333Z
LAST-MODIFIED:20230521T135333Z
UID:8252-1687172400-1687172400@www.socialekalender.be
SUMMARY:Klimaatrechtvaardigheid en ongelijkheid (webinar)
DESCRIPTION:Webinar met Bea Cantillon. “Alle niveaus\, lokaal en wereldwijd\, moeten een sociaal en rechtvaardig klimaatbeleid voeren dat de meest kwetsbare bevolkingsgroepen en landen ondersteunt bij hun ontwikkeling in de klimaattransitie.”  Dat stelt het Handvest 21 van de Grootouders voor het Klimaat. Voor GvK is klimaatrechtvaardigheid het uitgangspunt voor onze actie. Terwijl de rijkste 10% van de wereldbevolking verantwoordelijk is voor de helft van de wereldwijde CO2-uitstoot\, treft de klimaatcrisis vooral de armste 50% die goed is voor slechts 10% van de uitstoot. Bovendien wijzen schattingen uit dat de koolstofvoetafdruk van de rijkste 1% van de wereldbevolking gemiddeld 175 keer hoger ligt dan die van de armste 10%. Bij de overstromingsramp in Wallonië zijn de meeste slachtoffers armere mensen\, want zij wonen het dichtst bij de rivier. Wachtkamer vanaf 10.45\, start om 11u tot 12 u. Hier inschrijven. Als je inschrijft krijg je ten laatste op 16 april de link.
URL:https://www.socialekalender.be/evenement/klimaatrechtvaardigheid-en-ongelijkheid-webinar/
LOCATION:ONLINE
ATTACH;FMTTYPE=image/jpeg:https://www.socialekalender.be/wp-content/uploads/2023/05/Bea-Cantillon.jpg
END:VEVENT
END:VCALENDAR