BEGIN:VCALENDAR
VERSION:2.0
PRODID:-//Sociale Kalender - ECPv6.2.9//NONSGML v1.0//EN
CALSCALE:GREGORIAN
METHOD:PUBLISH
X-WR-CALNAME:Sociale Kalender
X-ORIGINAL-URL:https://www.socialekalender.be
X-WR-CALDESC:Evenementen voor Sociale Kalender
REFRESH-INTERVAL;VALUE=DURATION:PT1H
X-Robots-Tag:noindex
X-PUBLISHED-TTL:PT1H
BEGIN:VTIMEZONE
TZID:Europe/Brussels
BEGIN:DAYLIGHT
TZOFFSETFROM:+0100
TZOFFSETTO:+0200
TZNAME:CEST
DTSTART:20230326T010000
END:DAYLIGHT
BEGIN:STANDARD
TZOFFSETFROM:+0200
TZOFFSETTO:+0100
TZNAME:CET
DTSTART:20231029T010000
END:STANDARD
END:VTIMEZONE
BEGIN:VEVENT
DTSTART;TZID=Europe/Brussels:20230620T180000
DTEND;TZID=Europe/Brussels:20230620T200000
DTSTAMP:20260419T150939
CREATED:20230608T061616Z
LAST-MODIFIED:20230608T061616Z
UID:8294-1687284000-1687291200@www.socialekalender.be
SUMMARY:Storm in het onderwijs
DESCRIPTION:Onderwijsexpert Dirk Van Damme reflecteert over de staat\, de uitdagingen en de toekomst van het onderwijs. De reusachtige tanker die het onderwijs is\, bevindt zich in woelig water. De naweeën van corona zijn nog niet verteerd. Scholen vinden geen leraren meer en kinderen slijten vele uren in ‘de studie’. Allerlei indicatoren wijzen op een sterke daling van de kwaliteit van wat leerlingen kennen en kunnen. Velen verlaten de school zonder goed te kunnen lezen\, schrijven en rekenen. En dan komen artificiële intelligentie en haar opzienbarende toepassingen op ons af. De school wordt met vele problemen tegelijk geconfronteerd en moet er vele taken bijnemen. Kan de school dit nog wel aan en wat moet er gebeuren om het onderwijs door deze storm te loodsen? De samenleving heeft nog steeds veel vertrouwen in de school en heeft een kwaliteitsvol en ambitieus onderwijs nodig. Welke toekomstvisie kan ons daarbij helpen? Inschrijven via https://www.limburg.be/limburglezingen_form
URL:https://www.socialekalender.be/evenement/storm-in-het-onderwijs/
LOCATION:Universiteit Hasselt\, Campus Oude Gevangenis\, Martelarenlaan 42\, Hasselt\, 3500\, België
ATTACH;FMTTYPE=image/jpeg:https://www.socialekalender.be/wp-content/uploads/2023/06/Dirk-Van-Damme.jpg
END:VEVENT
END:VCALENDAR