BEGIN:VCALENDAR
VERSION:2.0
PRODID:-//Sociale Kalender - ECPv6.2.9//NONSGML v1.0//EN
CALSCALE:GREGORIAN
METHOD:PUBLISH
X-ORIGINAL-URL:https://www.socialekalender.be
X-WR-CALDESC:Evenementen voor Sociale Kalender
REFRESH-INTERVAL;VALUE=DURATION:PT1H
X-Robots-Tag:noindex
X-PUBLISHED-TTL:PT1H
BEGIN:VTIMEZONE
TZID:Europe/Brussels
BEGIN:DAYLIGHT
TZOFFSETFROM:+0100
TZOFFSETTO:+0200
TZNAME:CEST
DTSTART:20250330T010000
END:DAYLIGHT
BEGIN:STANDARD
TZOFFSETFROM:+0200
TZOFFSETTO:+0100
TZNAME:CET
DTSTART:20251026T010000
END:STANDARD
END:VTIMEZONE
BEGIN:VEVENT
DTSTART;TZID=Europe/Brussels:20250217T200000
DTEND;TZID=Europe/Brussels:20250217T200000
DTSTAMP:20260419T234841
CREATED:20250116T123257Z
LAST-MODIFIED:20250116T123257Z
UID:10069-1739822400-1739822400@www.socialekalender.be
SUMMARY:Spiritualiteit en klassieke muziek
DESCRIPTION:Voormailg radiopresentator en auteur Bart Stouten maakt met ons een wandeling door het leven en werk van Bach.
URL:https://www.socialekalender.be/evenement/spiritualiteit-en-klassieke-muziek/
LOCATION:Cultuurcentrum Hasselt {zaal 3}\, Kunstlaan 5\, Hasselt\, 3500
ATTACH;FMTTYPE=image/jpeg:https://www.socialekalender.be/wp-content/uploads/2025/01/Bach.jpg
END:VEVENT
END:VCALENDAR