BEGIN:VCALENDAR
VERSION:2.0
PRODID:-//Sociale Kalender - ECPv6.2.9//NONSGML v1.0//EN
CALSCALE:GREGORIAN
METHOD:PUBLISH
X-WR-CALNAME:Sociale Kalender
X-ORIGINAL-URL:https://www.socialekalender.be
X-WR-CALDESC:Evenementen voor Sociale Kalender
REFRESH-INTERVAL;VALUE=DURATION:PT1H
X-Robots-Tag:noindex
X-PUBLISHED-TTL:PT1H
BEGIN:VTIMEZONE
TZID:Europe/Brussels
BEGIN:DAYLIGHT
TZOFFSETFROM:+0100
TZOFFSETTO:+0200
TZNAME:CEST
DTSTART:20250330T010000
END:DAYLIGHT
BEGIN:STANDARD
TZOFFSETFROM:+0200
TZOFFSETTO:+0100
TZNAME:CET
DTSTART:20251026T010000
END:STANDARD
END:VTIMEZONE
BEGIN:VEVENT
DTSTART;TZID=Europe/Brussels:20250223T100000
DTEND;TZID=Europe/Brussels:20250223T120000
DTSTAMP:20260420T172854
CREATED:20241209T135912Z
LAST-MODIFIED:20241209T135912Z
UID:9939-1740304800-1740312000@www.socialekalender.be
SUMMARY:Leeskring Mystiek over boek 'Zelfloos'
DESCRIPTION:Willy Gielen begeleidt ons met teksten uit het boek ‘Zelfloos. De mystieke afgrond van het moderne ik’ van prof. Marc De Kesel (Nijmegen). Een echte hindernis op het pad van de mysticus is het eigen ik. Hij moet leeg worden van zichzelf\, maar daarvoor is een sterk Zelf nodig. Is de focus op zelfloosdhei geen valstrik om dat Zelf nog sterker te maken? Laten we kijken naar een paar donkere kamers in de mystieke traditie. Het is niet nodig om het boek van tevoren te lezen.
URL:https://www.socialekalender.be/evenement/leeskring-mystiek-over-boek-zelfloos/
LOCATION:Huize Siloam\, Holsteenweg 17\, Zonhoven\, 3520
ATTACH;FMTTYPE=image/png:https://www.socialekalender.be/wp-content/uploads/2024/12/kessel.png
END:VEVENT
BEGIN:VEVENT
DTSTART;TZID=Europe/Brussels:20250223T100000
DTEND;TZID=Europe/Brussels:20250223T170000
DTSTAMP:20260420T172854
CREATED:20250128T084722Z
LAST-MODIFIED:20250128T084722Z
UID:10126-1740304800-1740330000@www.socialekalender.be
SUMMARY:Coöperatief woondromen in Vlaanderen (expo)
DESCRIPTION:Coöperatief wonen is een beproefde alternatieve woonvorm die heel wat voordelen biedt. Zo zorgen coöperaties vaak voor een diversiteit aan woningtypes die kwalitatief gelijkwaardig zijn. Dankzij de collectieve eigenaarsvorm kunnen bewoners flexibeler inspelen op veranderingen in hun leven en binnen hetzelfde gebouw verhuizen naar een woning die op dat moment het best beantwoordt aan hun noden. Daarnaast laat de expo ‘Hier wil ik wonen!’ zien dat coöperatief wonen de bewoner ook veel te bieden heeft qua kwaliteit van de eigen woonunit en private buitenruimte. Zijn er kandidaten voor deze woonvorm in Vlaanderen? We zoeken alvast naar aanknopingspunten met ‘het wonen zoals het vandaag is’.  Ook de architect speelt een belangrijke rol in het verhaal. Het merendeel van de projecten in de tentoonstelling dateert van de laatste decennia. En toch bestaat het concept ‘coöperatief wonen’ in Europa al meer dan een eeuw. Uit de geschiedenis van de Brusselse tuinwijken blijkt bovendien dat er ook in ons land al honderd jaar geleden wooncoöperaties actief waren. Na een lange periode van stilstand zijn er vandaag opnieuw pioniers in Vlaanderen die leren van sterke voorbeelden uit Zwitserland\, Duitsland en Oostenrijk\, maar ook uit recente experimenten in Spanje\, Portugal en Nederland. Duik in het verhaal achter deze ‘droomprojecten’ en ontdek hoe coöperatief wonen net zo aantrekkelijk kan zijn als het wonen in een ‘eigen huis’. Deze tentoonstelling met allerlei randactiviteiten loopt van 13 februari tot 1 juni\, van dinsdag tot zondag\, van 10 tot 17u. Audiogids verkrijgbaar aan de balie (€ 6\,50). Geleide rondwandelingen: € 10/persoon\, inclusief drankje achteraf. Voor meer info: www.architectuurwijzer.be/hierwilikwonen.
URL:https://www.socialekalender.be/evenement/cooperatief-woondromen-in-vlaanderen-expo/
LOCATION:C-Mine\, C-Mine 10\, Genk\, Limburg\, 3600\, België
ATTACH;FMTTYPE=image/jpeg:https://www.socialekalender.be/wp-content/uploads/2025/01/wooncoop.jpg
END:VEVENT
END:VCALENDAR