BEGIN:VCALENDAR
VERSION:2.0
PRODID:-//Sociale Kalender - ECPv6.2.9//NONSGML v1.0//EN
CALSCALE:GREGORIAN
METHOD:PUBLISH
X-WR-CALNAME:Sociale Kalender
X-ORIGINAL-URL:https://www.socialekalender.be
X-WR-CALDESC:Evenementen voor Sociale Kalender
REFRESH-INTERVAL;VALUE=DURATION:PT1H
X-Robots-Tag:noindex
X-PUBLISHED-TTL:PT1H
BEGIN:VTIMEZONE
TZID:Europe/Brussels
BEGIN:DAYLIGHT
TZOFFSETFROM:+0100
TZOFFSETTO:+0200
TZNAME:CEST
DTSTART:20260329T010000
END:DAYLIGHT
BEGIN:STANDARD
TZOFFSETFROM:+0200
TZOFFSETTO:+0100
TZNAME:CET
DTSTART:20261025T010000
END:STANDARD
END:VTIMEZONE
BEGIN:VEVENT
DTSTART;TZID=Europe/Brussels:20260423T193000
DTEND;TZID=Europe/Brussels:20260423T193000
DTSTAMP:20260423T041407
CREATED:20260324T092104Z
LAST-MODIFIED:20260324T092104Z
UID:11521-1776972600-1776972600@www.socialekalender.be
SUMMARY:Trump en de wereld
DESCRIPTION:Het beleid van shock and awe van de Amerikaanse president Donald Trump doet de wereld naar allerlei concepten grijpen om het unieke karakter ervan te vatten\, van transactionalisme tot neoroyalisme en\nzelfs schurkenstaat. Maar hoe uniek is Trumps omgang met de wereld daadwerkelijk als je de historische antecedenten bekijkt? Ontving het Amerika van vóór Trump immigranten altijd met open armen? Is het historisch zonder uitzondering de kampioen van de vrijhandel geweest? En werd imperialisme altijd geschuwd en internationalisme hoog in het vaandel gedragen? Is Trump een nieuwe Romeinse keizer zoals de media wel eens beweren? Of is hij gewoon veel Amerikaanser dan we vermoeden? Dr. Peter Schrijvers (Hasselt\, 1963) studeerde geschiedenis en Amerikaanse Studies aan de KU Leuven. Hij behaalde zijn PhD aan The Ohio State University in Columbus\, waar ook vicepresident JD Vance studeerde. Schrijvers was professor Amerikaanse geschiedenis aan universiteiten in Australië\, de VS en Zwitserland. Hij schreef zes boeken over de Amerikanen in WOII\, uitgegeven door o.a. Yale en Cambridge. Hij is momenteel curator van WOII museum Liberation Garden in Leopoldsburg. Recent publiceerde hij “Een hoofd vol vlammen”\, zijn eerste historische roman\, over Amerikaans-Belgische relaties tijdens de septemberdagen van 1944.
URL:https://www.socialekalender.be/evenement/trump-en-de-wereld/
LOCATION:Vrijzinnig Punt\, A. Rodenbachstraat 18\, Hasselt\, 3500
ATTACH;FMTTYPE=image/jpeg:https://www.socialekalender.be/wp-content/uploads/2026/03/Peter-Schrijvers-scaled.jpg
END:VEVENT
END:VCALENDAR