BEGIN:VCALENDAR
VERSION:2.0
PRODID:-//Sociale Kalender - ECPv6.2.9//NONSGML v1.0//EN
CALSCALE:GREGORIAN
METHOD:PUBLISH
X-WR-CALNAME:Sociale Kalender
X-ORIGINAL-URL:https://www.socialekalender.be
X-WR-CALDESC:Evenementen voor Sociale Kalender
REFRESH-INTERVAL;VALUE=DURATION:PT1H
X-Robots-Tag:noindex
X-PUBLISHED-TTL:PT1H
BEGIN:VTIMEZONE
TZID:Europe/Brussels
BEGIN:DAYLIGHT
TZOFFSETFROM:+0100
TZOFFSETTO:+0200
TZNAME:CEST
DTSTART:20260329T010000
END:DAYLIGHT
BEGIN:STANDARD
TZOFFSETFROM:+0200
TZOFFSETTO:+0100
TZNAME:CET
DTSTART:20261025T010000
END:STANDARD
END:VTIMEZONE
BEGIN:VEVENT
DTSTART;TZID=Europe/Brussels:20260425T100000
DTEND;TZID=Europe/Brussels:20260425T120000
DTSTAMP:20260425T045419
CREATED:20260204T082231Z
LAST-MODIFIED:20260204T082231Z
UID:11388-1777111200-1777118400@www.socialekalender.be
SUMMARY:Repaircafé Hasselt
DESCRIPTION:In het repaircafé helpen we je met het herstellen van allerhande voorwerpen: kleding\, elektrische apparaten\, fietsen\, computers\,… De hulp is gratis en samen met de enthousiaste vrijwilligers steek je nog iets op ook! Ook wie niets heeft om te repareren is welkom en neemt een drankje aan de bar\, snuistert in de boeken van het boekenruilcafé of gaat kijken bij de reparatie van iemand anders. De afvalberg wordt kleiner en we werken aan een duurzame samenleving. Bovendien is het repaircafé ideaal om mensen te leren kennen. Elke laatste zaterdag van de maand.
URL:https://www.socialekalender.be/evenement/repaircafe-hasselt-20/
LOCATION:Vrijzinnig Punt\, A. Rodenbachstraat 18\, Hasselt\, 3500
ATTACH;FMTTYPE=image/jpeg:https://www.socialekalender.be/wp-content/uploads/2026/02/repaircafe.jpg
END:VEVENT
BEGIN:VEVENT
DTSTART;TZID=Europe/Brussels:20260425T133000
DTEND;TZID=Europe/Brussels:20260425T153000
DTSTAMP:20260425T045419
CREATED:20260107T075157Z
LAST-MODIFIED:20260108T144408Z
UID:11271-1777123800-1777131000@www.socialekalender.be
SUMMARY:Repaircafé Beringen
DESCRIPTION:De repaircafés zijn vrij toegankelijke bijeenkomsten waar je terechtkan voor herstellingen van allerhande voorwerpen. Dat gaat van kleding tot elektrische apparaten\, meubels\, computers\, andere elektronica en het slijpen van messen. Bezoekers brengen defecte spullen mee\, ter plaatse bekijken vrijwillige deskundigen\, zoals elektriciens\, naaisters of timmerlieden hoe ze de spullen het beste kunnen herstellen. Dit doen ze samen met de eigenaar van het voorwerp. Zo leren die hoe ze in de toekomst zelf het probleem kunnen oplossen of hoe ze het vermijden. Het repaircafé van Beringen wordt iedere laatste zaterdag van de even maanden ingericht. Het wil ook een sociale ontmoetingsplaats zijn waar je gewoon iets kan drinken en een praatje slaan.
URL:https://www.socialekalender.be/evenement/repaircafe-beringen-4/
LOCATION:Inloophuis Beringen-Mijn\, Alfred Habetslaan 17\, Beverlo-Beringen\, 3581
ATTACH;FMTTYPE=image/jpeg:https://www.socialekalender.be/wp-content/uploads/2025/12/repair-cafe-4.jpg
ORGANIZER;CN="Repaircaf%C3%A9 Beringen":MAILTO:repaircafeberingen(at)gmail.com
END:VEVENT
BEGIN:VEVENT
DTSTART;TZID=Europe/Brussels:20260425T140000
DTEND;TZID=Europe/Brussels:20260425T170000
DTSTAMP:20260425T045419
CREATED:20260108T142507Z
LAST-MODIFIED:20260108T144504Z
UID:11286-1777125600-1777136400@www.socialekalender.be
SUMMARY:Repaircafé met café\, ruilhoek en volkskeuken in Meeuwen
DESCRIPTION:De Tandem vzw is een basisbeweging voor een duurzame\, solidaire en liefdevolle wereld. Ze is bekend om haar tuinierprojecten. Daarnaast organiseert ze elke laatste zaterdag van de pare maanden (en voorlaatste zaterdag van december) een repaircafé. Hier kan je allerlei toestellen\, fietsen\, kledij en juwelen laten herstellen. Je kan een nieuwe batterij in je horloge laten zetten\, en messen of scharen laten slijpen. Bezoekers die niet onmiddellijk iets willen laten herstellen zijn eveneens welkom in het café om er een stukje taart te eten of iets te drinken: koffie\, frisdrank\, wijn en allerlei bieren. De ruilhoek geeft bezoekers de kans om eigen spullen achter te laten of tweedehandsspullen mee naar huis te nemen (het een kan zonder het ander). Gastorganisaties stellen zichzelf voor. Meestal vindt er ook een ecologische workshop plaats. Het repaircafé met ruilhoek is vrij toegankelijk van 14 tot 17u. Wie wil meewerken als hersteller\, kan zich opgeven. Aansluitend is er tussen 17u en 18u een volkskeuken met wisselende gerechten (ook vegan)\, aan de prijs van € 6\, € 3 voor kinderen. Voor de maaltijd moet je wel inschrijven (tot de dinsdag voor het repaircafé). Meer info via  https://www.vzwdetandem.be/wat-is-een-repair-cafe/.
URL:https://www.socialekalender.be/evenement/repaircafe-met-cafe-ruilhoek-en-volkskeuken-in-meeuwen-11/
LOCATION:Het Heem\, Kloosterstraat 5\, Oudsbergen\, Limburg\, 3670\, België
ATTACH;FMTTYPE=image/jpeg:https://www.socialekalender.be/wp-content/uploads/2025/12/repair-cafe-4.jpg
END:VEVENT
BEGIN:VEVENT
DTSTART;TZID=Europe/Brussels:20260425T210000
DTEND;TZID=Europe/Brussels:20260425T233000
DTSTAMP:20260425T045419
CREATED:20260316T083630Z
LAST-MODIFIED:20260316T083630Z
UID:11488-1777150800-1777159800@www.socialekalender.be
SUMMARY:Avondwandeling naar boomkikkerconcert
DESCRIPTION:Na een inleidende presentatie in het café gaan we de nacht in op zoek naar de boomkikker en andere nachtgeluiden in De Dauteweyers.
URL:https://www.socialekalender.be/evenement/avondwandeling-naar-boomkikkerconcert/
LOCATION:café Het Ganzenbroek\, Stationsstraat 29\, Diepenbeek\, 3590
ATTACH;FMTTYPE=image/jpeg:https://www.socialekalender.be/wp-content/uploads/2026/03/boomkikker.jpg
ORGANIZER;CN="Koen Thonissen":MAILTO:koen.thonissen@gmail.com
END:VEVENT
END:VCALENDAR