BEGIN:VCALENDAR
VERSION:2.0
PRODID:-//Sociale Kalender - ECPv6.2.9//NONSGML v1.0//EN
CALSCALE:GREGORIAN
METHOD:PUBLISH
X-WR-CALNAME:Sociale Kalender
X-ORIGINAL-URL:https://www.socialekalender.be
X-WR-CALDESC:Evenementen voor Sociale Kalender
REFRESH-INTERVAL;VALUE=DURATION:PT1H
X-Robots-Tag:noindex
X-PUBLISHED-TTL:PT1H
BEGIN:VTIMEZONE
TZID:Europe/Brussels
BEGIN:DAYLIGHT
TZOFFSETFROM:+0100
TZOFFSETTO:+0200
TZNAME:CEST
DTSTART:20200329T010000
END:DAYLIGHT
BEGIN:STANDARD
TZOFFSETFROM:+0200
TZOFFSETTO:+0100
TZNAME:CET
DTSTART:20201025T010000
END:STANDARD
END:VTIMEZONE
BEGIN:VEVENT
DTSTART;TZID=Europe/Brussels:20200401T133000
DTEND;TZID=Europe/Brussels:20200401T133000
DTSTAMP:20260425T055332
CREATED:20200306T150219Z
LAST-MODIFIED:20200315T142144Z
UID:4014-1585747800-1585747800@www.socialekalender.be
SUMMARY:Internetveiligheid (geannuleerd)
DESCRIPTION:Een spreker van Safe on Web komt met de aanwezigen praten over de veiligheid van gegevens in mails en op andere locaties op het web.
URL:https://www.socialekalender.be/evenement/internetveiligheid/
LOCATION:PCS\, Tulpinstraat 75\, Hasselt\, Limburg\, 3500\, België
ATTACH;FMTTYPE=image/jpeg:https://www.socialekalender.be/wp-content/uploads/2020/03/safeonwebNLblog_2016-07-12-19-54-33_cache.jpg
END:VEVENT
BEGIN:VEVENT
DTSTART;TZID=Europe/Brussels:20200402T140000
DTEND;TZID=Europe/Brussels:20200402T140000
DTSTAMP:20260425T055332
CREATED:20200211T155700Z
LAST-MODIFIED:20200317T095021Z
UID:3964-1585836000-1585836000@www.socialekalender.be
SUMMARY:Wim Distelmans (Geannuleerd)
DESCRIPTION:Wim Distelmans is oncoloog en specialist palliatieve geneeskunde. Hij is ook oprichter van LEIF (LevensEinde InformatieCentrum) en voorzitter van de Federale Commissie Euthanasie. Hij komt spreken over een waardig levenseinde\, palliatieve sedatie\, voorafgaande zorgplanning enz.
URL:https://www.socialekalender.be/evenement/wim-distelmans/
LOCATION:Gemeenschapscentrum De Drieschaar\, Schuttenbergstraat 2\, As\, 3665
ATTACH;FMTTYPE=image/jpeg:https://www.socialekalender.be/wp-content/uploads/2020/02/distelmans.jpg
END:VEVENT
BEGIN:VEVENT
DTSTART;TZID=Europe/Brussels:20200417T190000
DTEND;TZID=Europe/Brussels:20200417T190000
DTSTAMP:20260425T055332
CREATED:20200315T143945Z
LAST-MODIFIED:20200331T073835Z
UID:4043-1587150000-1587150000@www.socialekalender.be
SUMMARY:Benefiettentoonstelling Martin Oluwadiran (vernissage) GEANNULEERD
DESCRIPTION:Van nu tot 31 mei kan je elke werkdag ’s middags van 11.30u tot 14u een tentoonstelling van Martin Oluwadiran bezoeken. Je kan eventueel van de gelegenheid gebruikmaken om ook iets te eten in het sociaal restaurant van Klavertjevier. De werken worden verkocht ten voordele van het Noodfonds van de Verenigde Protestantse Kerk van België\, aan gereduceerde prijzen. Op 17 april vindt er een officiële voorstelling plaats met Roger Vandebroek (vzw Vriendschap)\, Bernadette De Bruyn (godsdienstlerares)\, en Lianne de Oude (dominee). Schepen Habib El Ouakili zal de tentoonstelling openen (al is ze nu al toegankelijk).
URL:https://www.socialekalender.be/evenement/benefiettentoonstelling-martin-oluwadiran-vernissage/
LOCATION:Klavertjevier\, Fonteinstraat 69\, Hasselt\, Limburg\, 3500\, België
ATTACH;FMTTYPE=image/jpeg:https://www.socialekalender.be/wp-content/uploads/2020/03/RB_HAS_190416_Martin_Oluwadiran.jpg
ORGANIZER;CN="Perspectief vzw":MAILTO:joschreurs54@gmail.com
END:VEVENT
BEGIN:VEVENT
DTSTART;TZID=Europe/Brussels:20200418T203000
DTEND;TZID=Europe/Brussels:20200418T223000
DTSTAMP:20260425T055332
CREATED:20200121T173833Z
LAST-MODIFIED:20200331T073956Z
UID:3896-1587241800-1587249000@www.socialekalender.be
SUMMARY:Kennismaking met de boomkikker GEANNULEERD
DESCRIPTION:De boomkikker is aan een mooie remonte bezig\, en in Limburg hebben we nu verschillende leefbare populaties. Toch blijft hij een onbekende voor de plaatselijke bevolking. We gaan tijdens een natuurwandeling met Peter Engelen op zoek naar hem.
URL:https://www.socialekalender.be/evenement/kennismaking-met-de-boomkikker/
LOCATION:Parking Okay\, Hoogstraat 161\, Niel-bij-As\, Limburg\, 3668\, België
ATTACH;FMTTYPE=image/jpeg:https://www.socialekalender.be/wp-content/uploads/2020/01/boomkikker_JH_001_1200x600.jpg
END:VEVENT
BEGIN:VEVENT
DTSTART;TZID=Europe/Brussels:20200425T130000
DTEND;TZID=Europe/Brussels:20200425T170000
DTSTAMP:20260425T055332
CREATED:20200315T145337Z
LAST-MODIFIED:20200315T145337Z
UID:4055-1587819600-1587834000@www.socialekalender.be
SUMMARY:Repaircafé in Sledderlo
DESCRIPTION:Een repaircafé is een bijeenkomst waar mensen hun spullen met de hulp van anderen herstellen. In Sledderlo werken ze breed: pc’s\, laptops\, software\, elektrische toestellen\, fietsen\, kleding en horloges. Er zijn een 10-tal vaklui aanwezig met het nodige materiaal. De herstellingen zijn gratis\, maar voor wisselstukken kan de aankoopprijs gevraagd worden. Maximum drie stukken per persoon. Er is ook drank aanwezig\, zodat het repaircafé een sociale activiteit wordt. Iedereen is welkom\, al is het maar om een praatje te slaan.
URL:https://www.socialekalender.be/evenement/repaircafe-in-sledderlo-3/
LOCATION:Buurthuis  Sledderlo\, Bijlkestraat 16\, Genk\, Limburg\, 3600\, België
ATTACH;FMTTYPE=image/jpeg:https://www.socialekalender.be/wp-content/uploads/2019/05/Repair-Café-1024x682.jpg
END:VEVENT
BEGIN:VEVENT
DTSTART;TZID=Europe/Brussels:20200425T193000
DTEND;TZID=Europe/Brussels:20200425T213000
DTSTAMP:20260425T055332
CREATED:20200215T072133Z
LAST-MODIFIED:20200331T074039Z
UID:3976-1587843000-1587850200@www.socialekalender.be
SUMMARY:When Arabs danced (docu) UITGESTELD
DESCRIPTION:Een documentaire van de Marokkaans-Belgische cineast Jawad Rhalib\, met muziek van Simon Fransquet. Nederlands ondertiteld. De moeder van de filmmaker was buikdanseres. In een niet zo ver verleden stond deze Arabische dans voor sensualiteit en vrouwelijkheid. Steeds meer verklaren fundamentalisten\, in de naam van Allah\, dansen\, muziek en andere artistieke expressie als onrein. Rhalib werd geleerd dat hij zich moest schamen voor zijn moeder. Wat zijn de effecten van deze radicale ommekeer voor dansers en kunstenaars in de Arabisch wereld? Blijven ze koppig verder doen en vechten ze voor de vrijheid van meningsuiting of sijpelt er toch een vorm van zelfcensuur in hun werk? Met getuigenissen van de Belgische theatermakers van action zoo humaine\, de gelauwerde actrice Hiam Abbass (‘Insyriated’)\, de Iraans-Belgische theatermaakster Sachli Gholamalizad en zijn eigen moeder toont Jawad Rhalib in When Arabs Danced hoe artiesten in heel de Arabische wereld zich verzetten tegen en zoeken naar een antwoord op deze aanval op de (artistieke) vrijheid.
URL:https://www.socialekalender.be/evenement/when-arabs-danced-docu/
LOCATION:kerk van Oud-Waterschei\, André Dumontlaan 218\, Genk\, 3600
ATTACH;FMTTYPE=image/jpeg:https://www.socialekalender.be/wp-content/uploads/2020/02/when-arabs-danced.jpg
END:VEVENT
BEGIN:VEVENT
DTSTART;TZID=Europe/Brussels:20200426T140000
DTEND;TZID=Europe/Brussels:20200426T170000
DTSTAMP:20260425T055332
CREATED:20200215T073306Z
LAST-MODIFIED:20200215T073306Z
UID:3985-1587909600-1587920400@www.socialekalender.be
SUMMARY:Franciscus en de sultan (einde expo)
DESCRIPTION:In 2019 was het 800 jaar geleden dat Franciscus van Assisi het onmogelijke deed. Tijdens de vijfde kruistocht trok hij\, tegen de kruisvaardersmentaliteit in\, naar Egypte om er sultan Al-Kamil te ontmoeten voor vredesgesprekken. Een ontmoeting die tot de verbeelding spreekt en ook vandaag nog model staat voor respect voor andere religies. Sinds enkele maanden loopt hierover een tentoonstelling in museum De Mindere onder de titel “Gedurfd”. Het succes ervan tart alle verwachtingen\, en daarom werd ze met vier maanden verlengd.Het museum is open van dinsdag tot zaterdag van 10u tot 12.30u en van 13u tot 17u.\, op zon- en feestdagen van 14 tot 17u.
URL:https://www.socialekalender.be/evenement/franciscus-en-de-sultan-einde-expo/
LOCATION:Museum de Mindere\, Capusienessenstraat 1\, St Truiden\, Limburg\, 3800\, België
ATTACH;FMTTYPE=image/png:https://www.socialekalender.be/wp-content/uploads/2019/12/Sint-Franciscus.png
END:VEVENT
BEGIN:VEVENT
DTSTART;TZID=Europe/Brussels:20200428T193000
DTEND;TZID=Europe/Brussels:20200428T220000
DTSTAMP:20260425T055332
CREATED:20200111T105804Z
LAST-MODIFIED:20200111T105804Z
UID:3866-1588102200-1588111200@www.socialekalender.be
SUMMARY:Moet er nog vlees zijn?
DESCRIPTION:Onze overmatige vleesconsumptie zorgt voor heel wat negatieve effecten op onze gezondheid\, het dierenwelzijn en het milieu. Ook economisch houdt de Belgische vleesproductie geen steek: vele veehouders staan met het water aan de lippen. Laurens De Meyer van de Bond Beter Leefmilieu schreef er zopas een boek over en stelt voor om onze vleesconsumptie en -productie te halveren. Jos De Clercq leest het boek en stelt het ons voor. Jos is boer op de Natlandhoeve in Zepperen\, een gemengd biologisch bedrijf. Je hoeft het boek niet op voorhand te lezen.
URL:https://www.socialekalender.be/evenement/moet-er-nog-vlees-zijn/
LOCATION:Assjet\, Toerkomststraat 32\, HASSELT\, LIMBURG\, 3500\, België
ATTACH;FMTTYPE=image/jpeg:https://www.socialekalender.be/wp-content/uploads/2020/01/laurent-de-meyer.jpeg
END:VEVENT
END:VCALENDAR