BEGIN:VCALENDAR
VERSION:2.0
PRODID:-//Sociale Kalender - ECPv6.2.9//NONSGML v1.0//EN
CALSCALE:GREGORIAN
METHOD:PUBLISH
X-ORIGINAL-URL:https://www.socialekalender.be
X-WR-CALDESC:Evenementen voor Sociale Kalender
REFRESH-INTERVAL;VALUE=DURATION:PT1H
X-Robots-Tag:noindex
X-PUBLISHED-TTL:PT1H
BEGIN:VTIMEZONE
TZID:Europe/Brussels
BEGIN:DAYLIGHT
TZOFFSETFROM:+0100
TZOFFSETTO:+0200
TZNAME:CEST
DTSTART:20200329T010000
END:DAYLIGHT
BEGIN:STANDARD
TZOFFSETFROM:+0200
TZOFFSETTO:+0100
TZNAME:CET
DTSTART:20201025T010000
END:STANDARD
END:VTIMEZONE
BEGIN:VEVENT
DTSTART;TZID=Europe/Brussels:20200703T133000
DTEND;TZID=Europe/Brussels:20200703T160000
DTSTAMP:20260424T101751
CREATED:20200623T190228Z
LAST-MODIFIED:20200623T190228Z
UID:4186-1593783000-1593792000@www.socialekalender.be
SUMMARY:Cultuurwandeling Borgloon
DESCRIPTION:Onder leiding van een gids van Toerisme Borgloon maken we een wandeling van 5 kilometer in het project Pit-kunst in de open ruimte van Borgloon. Kunst\, erfgoed en landschap zijn drie basisingrediënten voor een verrassend cultuurbezoek. Zo komen we onder andere langs het bekende ‘doorkijkkerkje’. Doe alvast je stevige schoenen aan! We vragen ook om een mondmasker te dragen. Mensen met een klein budget betalen slechts € 5\, personen met een verhoogde tegemoetkoming € 2.
URL:https://www.socialekalender.be/evenement/cultuurwandeling-borgloon/
LOCATION:Stadhuis Borgloon\, Markt z/n\, Borgloon\, Limburg\, 3840\, België
ATTACH;FMTTYPE=image/jpeg:https://www.socialekalender.be/wp-content/uploads/2020/06/borgloon-doorkijkkerk.jpg
END:VEVENT
BEGIN:VEVENT
DTSTART;TZID=Europe/Brussels:20200704T150000
DTEND;TZID=Europe/Brussels:20200704T160000
DTSTAMP:20260424T101751
CREATED:20200623T190910Z
LAST-MODIFIED:20200624T144035Z
UID:4190-1593874800-1593878400@www.socialekalender.be
SUMMARY:Kringlopen voor een leefbare wereld
DESCRIPTION:De ernst en urgentie van de klimaatopwarming dringt tot vandaag nog niet door bij de politici. Onder invloed van de machtige bedrijfslobby blijven ze zich focussen op een economisch model van eindeloze groei. Een model dat geen rekening houdt met het ecologisch plafond van onze planeet\, en evenmin met het sociaal fundament van haar inwoners. De vraag om verandering zal frequenter en zichtbaarder moeten worden\, en samen kunnen we daarvoor zorgen. We geloven in de kracht van samenhorigheid\, en ook in die van regelmaat. Daarom willen we iedereen met een hart voor mens en natuur graag uitnodigen om vanaf zaterdag 20 juni deel te nemen aan de wekelijkse stiltewandeling op De Ring (Groene Boulevard) voor een sociaal rechtvaardige en klimaatvriendelijke wereld. Met onze boodschap in de hand trachten we iedere zaterdag vanaf 15u op een vreedzame manier in stilte één maal rond de kleine ring van Hasselt te wandelen. Het initiatief gaat uit van De Ring\, een spontaan burgerinitiatief dat naast de vele digitale platformen een laagdrempelig analoog platform wil creëren waar mensen die kiezen voor een betere wereld enerzijds hun vraag om verandering zichtbaar kunnen maken en anderzijds verbinding kunnen maken met elkaar. Ook in tijden van corona is het belangrijk dat de stem om verandering gehoord blijft. Daarom respecteren we de veiligheidsmaatregelen door achter elkaar te wandelen\, 1\,5 meter afstand te houden en niet samen te scholen voor of na de wandeling. We begonnen met en twintigtal mensen op 20 juni\, en herhalen de wandeling elke zaterdag. Wie weet kan onze stem wel groeien totdat De Ring helemaal rond is! Tot op De Ring?
URL:https://www.socialekalender.be/evenement/kringlopen-voor-een-leefbare-wereld/
LOCATION:Kolonel Dusartplein\, Kolonel Dusartplein\, Hasselt\, 3500
ATTACH;FMTTYPE=image/jpeg:https://www.socialekalender.be/wp-content/uploads/2020/06/De-Ring-5.jpg
END:VEVENT
BEGIN:VEVENT
DTSTART;TZID=Europe/Brussels:20200711T080000
DTEND;TZID=Europe/Brussels:20200711T130000
DTSTAMP:20260424T101751
CREATED:20200623T183653Z
LAST-MODIFIED:20200623T183653Z
UID:4180-1594454400-1594472400@www.socialekalender.be
SUMMARY:Biomarkt
DESCRIPTION:Limburg is erg rijk aan basisinitiatieven met een ecologisch en/of sociaal profiel. Hierdoor is er een sterk netwerk gegroeid van mensen en groepen die bewust\, duurzaam en solidair door het leven willen gaan. Tot ons groot geluk kunnen de werkingen stilaan weer recht veren na de versoepeling van de coronamaatregelen. Op zaterdag 23 mei was het zover voor de wekelijkse biomarkt in Winterslag. Sinds die dag kan de Vennestraat weer elke zaterdagochtend ontwaken met een levendige markt. Enkele meters verder\, ter hoogte van de Hoefstadstraat 21\, openen dan ook de kramen van de biomarkt. Het is een initiatief van vzw Rosendal Marked\, een project naar Deense inspiratie van Gilberte Claes. De bioboerderij Het Vrije Veld van Souliman Diraa verleende er dadelijk haar medewerking aan. Drie verkooppunten zorgen voor een gevarieerd aanbod. Binnen staat Gilberte achter de toog en biedt ze een assortiment van ter plaatse gebakken broden\, taarten en gebak aan. Robin Geurts is er de bakker van dienst. Daarnaast verkoopt Gilberte nog sappen en ook kazen vanuit de korte keten (Karditsel\, Catharinadal). Buiten brengt Souliman groenten en fruit aan de man\, deels van eigen teelt\, deels van andere Limburgse bioboeren\, aangevuld met enkele producten uit de biologische groothandel. Even verderop staat Bram Kriekels van Mycotopia (Diepenbeek) met verschillende soorten zelfgeteelde paddenstoelen. De biomarkt zal het jaar rond present zijn\, ook in juli en augustus.
URL:https://www.socialekalender.be/evenement/biomarkt-4/
LOCATION:Hoefstadstraat\, Hoefstadstraat\, Winterslag-Genk\, Limburg\, 3600\, België
ATTACH;FMTTYPE=image/jpeg:https://www.socialekalender.be/wp-content/uploads/2020/06/Souliman-biomarkt2-scaled.jpg
END:VEVENT
BEGIN:VEVENT
DTSTART;TZID=Europe/Brussels:20200711T133000
DTEND;TZID=Europe/Brussels:20200711T163000
DTSTAMP:20260424T101751
CREATED:20200401T154711Z
LAST-MODIFIED:20200401T154711Z
UID:4103-1594474200-1594485000@www.socialekalender.be
SUMMARY:Waterwandeling in Vochtig Haspengouw
DESCRIPTION:Water is altijd op weg en wij leven er continu mee samen. Wat betekent dat concreet? Gedurende een tocht van drie uur maak je kennis met stromend en stilstaand water in VochtigHaspengouw. We evalueren zelf de biologische waterkwaliteit van een lokale vijver. Je ontdekt de vele uitdagingen op vlak van zoetwater in de wereld. En je Waterwandeling in Vochtig HaspengouwWaterwandeling in Vochtig Haspengouw meer over het begrip ‘integraal waterbeheer’. Davy Huygen van Natuurpunt begeleidt ons hierbij. Aangepast schoeisel\, bijvoorbeeld laarzen\, is aangewezen.  Korting mogelijk voor mensen met een krap budget. Mensen met een verhoogde tegemoetkoming betalen slechts € 2 (neem hiervoor contact op met Horizont vzw).
URL:https://www.socialekalender.be/evenement/waterwandeling-in-vochtig-haspengouw/
LOCATION:Kapel van Helshoven\, Helshovenweg 18\, Borgloon\, Limburg\, 3840\, België
ATTACH;FMTTYPE=image/jpeg:https://www.socialekalender.be/wp-content/uploads/2020/04/Kapel_Helshoven.jpg
END:VEVENT
BEGIN:VEVENT
DTSTART;TZID=Europe/Brussels:20200715T140000
DTEND;TZID=Europe/Brussels:20200715T150000
DTSTAMP:20260424T101751
CREATED:20200704T122358Z
LAST-MODIFIED:20200704T122358Z
UID:4222-1594821600-1594825200@www.socialekalender.be
SUMMARY:Rondleiding in Greenville
DESCRIPTION:Van het zwarte goud naar het groene goud: onder deze titel organiseert CleanTechPunt geleide bezoeken aan Greenville in het oude mijngebouw van Houthalen. Aandacht gaat hierbij naar het erfgoed van het mijnverleden en naar de nieuwe groene circulaire economie in deze Limburgse regio. Elke dinsdag-\, woensdag- en donderdagnamiddag in juli en augustus. Rondleiding start vanaf 6 personen\, met een maximum van 15 deelnemers. Omdat alles coronaproof verloopt\, is inschrijven verplicht. Gelieve met gepast geld te betalen.
URL:https://www.socialekalender.be/evenement/rondleiding-in-greenville/
LOCATION:Greenville\, oud mijngebouw\, Centrum-Zuid 1111\, Houthalen\, 3530
ATTACH;FMTTYPE=image/jpeg:https://www.socialekalender.be/wp-content/uploads/2020/07/wp-content_uploads_2019_05_LRM_Greenville2019-118-2000x1333-1.jpg
END:VEVENT
BEGIN:VEVENT
DTSTART;TZID=Europe/Brussels:20200715T183000
DTEND;TZID=Europe/Brussels:20200715T210000
DTSTAMP:20260424T101751
CREATED:20200409T192523Z
LAST-MODIFIED:20200409T192523Z
UID:4109-1594837800-1594846800@www.socialekalender.be
SUMMARY:Natuurverkenning terril Beringen
DESCRIPTION:De Limburgse steenkoolterrils zijn zich volop aan het ontwikkelen tot bijzondere biotopen. Op die van Beringen ligt er een natuurreservaat van het Agentschap Natuur en Bos. Samen met gids Luc Vanoppen trekken we er op pad en ontdekken er speciale soorten zoals Franse silene en veldparelmoervlinder.
URL:https://www.socialekalender.be/evenement/natuurverkenning-terril-beringen/
LOCATION:B-MINE\, Koolmijnlaan 201\, Beringen\, Limburg\, 3582\, België
ATTACH;FMTTYPE=image/jpeg:https://www.socialekalender.be/wp-content/uploads/2020/04/terril-vanuit-de-lucht.jpg
END:VEVENT
BEGIN:VEVENT
DTSTART;TZID=Europe/Brussels:20200721T100000
DTEND;TZID=Europe/Brussels:20200721T160000
DTSTAMP:20260424T101751
CREATED:20200710T093827Z
LAST-MODIFIED:20200710T093843Z
UID:4637-1595325600-1595347200@www.socialekalender.be
SUMMARY:Stiltedag
DESCRIPTION:Op de stiltedag van 21 juli worden activiteiten voorgesteld die je helpen om thuis te komen bij jezelf\, in contact met wat er in jou leeft\, in contact met jouw eigen Bron. Het gaat hier om activiteiten zoals meditatie\, een ontspanningsoefening\, yoga\, een wandeling in het nabijgelegen natuurreservaat de Teut\, … maar je bent vrij hier wel of niet aan deel te nemen. Je kan ervoor kiezen om je terug te trekken en om je stiltedag helemaal zelf in te vullen. We sluiten de dag af met een moment van delen voor wie dit wil. Begeleiding: Sabine Meyers. Draag gemakkelijke kledij\, breng eventueel een yogamat mee als je ze hebt\, en misschien een flesje water. Bij de prijs is koffie en thee met koekjes\, biologische vegetarische maaltijdsoep en brood inbegrepen. Met je deelname steun je de werking van Siloam na de coronasluiting\, maar als de prijs je verhindert om te komen\, aarzel dan niet om te telefoneren.
URL:https://www.socialekalender.be/evenement/stiltedag/
LOCATION:Siloam\, Holsteenweg 17\, Zonhoven\, 3520\, België
ATTACH;FMTTYPE=image/jpeg:https://www.socialekalender.be/wp-content/uploads/2019/08/heidelandschap.jpg
END:VEVENT
BEGIN:VEVENT
DTSTART;TZID=Europe/Brussels:20200726T123000
DTEND;TZID=Europe/Brussels:20200726T123000
DTSTAMP:20260424T101751
CREATED:20200712T070256Z
LAST-MODIFIED:20200712T070256Z
UID:4642-1595766600-1595766600@www.socialekalender.be
SUMMARY:Rondleiding door voedselbos en permatuin
DESCRIPTION:Een voedselbos is een zorgvuldig ontworpen ecosysteem van nuttige planten (en soms ook dieren). In plaats van nette rijen van één soort plant (monocultuur)\, mengen voedselbossen een gevarieerd assortiment voedselproducerende (en andere) planten die elkaar voeden\, verschillende voedingsstoffen uit de bodem gebruiken en de beschikbare ruimte optimaal benutten. Dit bootst de structuur van een natuurlijk bos na – het meest stabiele en duurzame type ecosysteem in ons klimaat. Belangrijk is dat de bodem bijna altijd bedekt is – wat resulteert in een rijke ondergrondse biodiversiteit en een gezonde bodem rijk aan koolstof\, mineralen en andere voedingsstoffen. Voedselbossen kunnen variëren van een kleine huishoudelijke tuin tot zeer grote commerciële projecten (ook bekend als agro-forestry). Ons project is middelgroot (ongeveer 4 hectare). Het is 10 jaar geleden omgezet van een maïsveld en is nu volwassen en productief. De biologisch gecertificeerde producten worden verkocht aan abonnees en andere klanten. De site wordt ook gebruikt als demonstratiesite voor cursussen en rondleidingen. Iedere zondag om 12.30 is er een rondleiding. Kosten 5 euro p/p incl. een proevertje soep. U hoeft zich niet vooraf aan te melden. De rondleiding start op de parkeerplaats bij het kasteel. Een rondleiding op aanvraag voor een specifieke groep is ook mogelijk en kost tot 15 pers. 75 eur per uur.
URL:https://www.socialekalender.be/evenement/rondleiding-door-voedselbos-en-permatuin/
LOCATION:Kasteel Nieuwenhoven\, Engelbamp 55\, Sint-Truiden\, 3800
ATTACH;FMTTYPE=image/png:https://www.socialekalender.be/wp-content/uploads/2020/07/PDC-2020-2021-300x300-1.png
END:VEVENT
BEGIN:VEVENT
DTSTART;TZID=Europe/Brussels:20200729T214500
DTEND;TZID=Europe/Brussels:20200729T214500
DTSTAMP:20260424T101751
CREATED:20200704T131806Z
LAST-MODIFIED:20200704T131806Z
UID:4250-1596059100-1596059100@www.socialekalender.be
SUMMARY:Bosfilm in Nieuwenhoven
DESCRIPTION:Het Provinciaal Domein Nieuwenhoven draait af en toe een film in open lucht. Bij de keuze wordt er rekening mee gehouden dat hij boeiend is voor het ganse gezin. Op 29 juli kan je gaan kijken naar “Becoming Astrid”\, een biografische film uit 2018 die het merkwaardige leven beschrijft van de Zweedse schrijfster Astrid Lindgren\, bij ons nog het meest bekend van Pippi Langkous. De film is een Zweeds-Deense coproductie en duurt 123 minuten. Best een dekentje\, zitmeubel en zaklamp meebrengen. Het is een gratis aanbod\, maar inschrijven is verplicht en kan via https://www.bosplus.be/nl/boswinkel/2951/filmvoorstellingen/17842/29-7-2020-becoming-astrid-sint-truiden.
URL:https://www.socialekalender.be/evenement/bosfilm-in-nieuwenhoven/
LOCATION:Domein Nieuwenhoven\, Hasseltse Steenweg z/n\, St Truiden\, Limburg\, 3800\, België
ATTACH;FMTTYPE=image/jpeg:https://www.socialekalender.be/wp-content/uploads/2020/07/lindgren-astrid.jpg
END:VEVENT
END:VCALENDAR