BEGIN:VCALENDAR
VERSION:2.0
PRODID:-//Sociale Kalender - ECPv6.2.9//NONSGML v1.0//EN
CALSCALE:GREGORIAN
METHOD:PUBLISH
X-ORIGINAL-URL:https://www.socialekalender.be
X-WR-CALDESC:Evenementen voor Sociale Kalender
REFRESH-INTERVAL;VALUE=DURATION:PT1H
X-Robots-Tag:noindex
X-PUBLISHED-TTL:PT1H
BEGIN:VTIMEZONE
TZID:Europe/Brussels
BEGIN:DAYLIGHT
TZOFFSETFROM:+0100
TZOFFSETTO:+0200
TZNAME:CEST
DTSTART:20200329T010000
END:DAYLIGHT
BEGIN:STANDARD
TZOFFSETFROM:+0200
TZOFFSETTO:+0100
TZNAME:CET
DTSTART:20201025T010000
END:STANDARD
END:VTIMEZONE
BEGIN:VEVENT
DTSTART;TZID=Europe/Brussels:20200802T150000
DTEND;TZID=Europe/Brussels:20200802T170000
DTSTAMP:20260424T005859
CREATED:20200724T163147Z
LAST-MODIFIED:20200724T163147Z
UID:4685-1596380400-1596387600@www.socialekalender.be
SUMMARY:75 jaar Hiroshima en Nagasaki: opening expo
DESCRIPTION:De stad Leuven\, actief lid van Mayors for Peace\, zet een tentoonstelling op over de 75ste verjaardag van de bombardementen op Hiroshima en Nagasaki. Zij bestaat uit portretten van “hibakusha” (= slachoffers van de kernbommen). Op 2 augustus geeft prof. Tom Sauer een kanselrede. De tentoonstelling zal daarna iedere vrijdag\, zaterdag en zondag te bezichtigen zijn van 13.30u tot 16.30u\, tot 30 augustus.
URL:https://www.socialekalender.be/evenement/75-jaar-hiroshima-en-nagasaki-opening-expo/
LOCATION:St Michielsvredeskerk\, Naamsestraat\, Leuven\, Vlaams Brabant\, 3000\, België
ATTACH;FMTTYPE=image/jpeg:https://www.socialekalender.be/wp-content/uploads/2020/07/Hiroshima-1.jpeg
END:VEVENT
BEGIN:VEVENT
DTSTART;TZID=Europe/Brussels:20200805T123000
DTEND;TZID=Europe/Brussels:20200805T150000
DTSTAMP:20260424T005859
CREATED:20200724T162633Z
LAST-MODIFIED:20200724T162633Z
UID:4679-1596630600-1596639600@www.socialekalender.be
SUMMARY:75 jaar Hiroshima en Nagasaki: wake
DESCRIPTION:Stil protest tegen de waanzin van kernwapens. Bij de bombardementen op Hiroshima en Nagasaki lieten 300.000 mensen het leven. Vandaag de dag worden nog steeds miljoenen levens bedreigd door ongeveer 13.490 kernkoppen. Een 20-tal ervan liggen op Belgische bodem. Neem deel aan de stille wake\, gevolgd door enkele toespraken en een kraanvogelactie. We sturen drie volle dozen met 1.000 kraanvogels naar de getroffen steden en naar onze zusterorganisatie van Pax Christi in Japan. Doe jouw kraanvogel in de doos\, dan sturen we hem samen met de andere op.
URL:https://www.socialekalender.be/evenement/75-jaar-hiroshima-en-nagasaki-wake/
LOCATION:Grote Markt\, Grote Markt\, Hasselt\, Limburg\, 3500\, België
ATTACH;FMTTYPE=image/jpeg:https://www.socialekalender.be/wp-content/uploads/2020/07/Hiroshima.jpeg
END:VEVENT
BEGIN:VEVENT
DTSTART;TZID=Europe/Brussels:20200805T194500
DTEND;TZID=Europe/Brussels:20200805T220000
DTSTAMP:20260424T005859
CREATED:20200702T135313Z
LAST-MODIFIED:20200702T135313Z
UID:4196-1596656700-1596664800@www.socialekalender.be
SUMMARY:Mannenvuur
DESCRIPTION:De missie van Mannenwerk vzw is de ontwikkeling en expressie van “gezonde\, authentieke en creatieve mannelijkheid” en deze kwaliteiten dienstbaar uitdragen in de samenleving. Elke eerste woensdag van de maand is er in Zemst een samenkomst rond het vuur\, bij elk weer.
URL:https://www.socialekalender.be/evenement/mannenvuur/
LOCATION:Oase\, Bautelareweg 14\, Zemst\, 1980\, België
ATTACH;FMTTYPE=image/jpeg:https://www.socialekalender.be/wp-content/uploads/2020/07/mannenvuur.jpg
END:VEVENT
BEGIN:VEVENT
DTSTART;TZID=Europe/Brussels:20200809T140000
DTEND;TZID=Europe/Brussels:20200809T153000
DTSTAMP:20260424T005859
CREATED:20200702T145124Z
LAST-MODIFIED:20200729T184407Z
UID:4212-1596981600-1596987000@www.socialekalender.be
SUMMARY:Herdenking Hiroshima en Nagasaki
DESCRIPTION:Het is precies 75 jaar geleden dat de eerste atoombommen onze geschiedenis veranderden. MELK (Missie Einde Limburgse Kernwapens) is een nieuwe vredesorganisatie die deze datum aangrijpt om het menselijk streven naar een kernwapenvrije wereld en vrede op de agenda te zetten. Samenkomst om 14u aan het jeugdhuis Hostel H. Om 14.30u is er een wandeling naar het nabijgelegen vredespark\, en om 15u worden er witte duiven losgelaten. \nDenk erom je mondmasker mee te brengen!
URL:https://www.socialekalender.be/evenement/herdenking-hiroshima-en-nagasaki/
LOCATION:Youth Hostel\, Spporwegstraat 80\, Hasselt\, Limburg\, 3500\, België
ATTACH;FMTTYPE=image/jpeg:https://www.socialekalender.be/wp-content/uploads/2020/07/vredespark.jpg
END:VEVENT
BEGIN:VEVENT
DTSTART;TZID=Europe/Brussels:20200809T140000
DTEND;TZID=Europe/Brussels:20200809T160000
DTSTAMP:20260424T005859
CREATED:20200719T091309Z
LAST-MODIFIED:20200719T091309Z
UID:4662-1596981600-1596988800@www.socialekalender.be
SUMMARY:Herdenkingswandeling Willy Peumans
DESCRIPTION:Op 27 juli 2019 overleed de Genkse natuurbeschermer Willy Peumans. Vele jaren was hij conservator van reservaat De Maten. Maar daarnaast was hij een van de grote inspirators van het Heempark\, en actief lid van NatuurbeschermingsActie Limburg (nu Limburgse Milieukoepel). Samen gaan we stilstaan bij zijn geliefkoosde plekken en boeiende verhalen. Wegens de coronamaatregelen is inschrijven verplicht en dragen we een mondmasker. Honden niet toegelaten.
URL:https://www.socialekalender.be/evenement/herdenkingswandeling-willy-peumans/
LOCATION:Slagmolen\, Slagmolenweg\, Termien-Genk\, Limburg\, 3600\, België
ATTACH;FMTTYPE=image/jpeg:https://www.socialekalender.be/wp-content/uploads/2020/07/Willy-Peumans.jpg
END:VEVENT
BEGIN:VEVENT
DTSTART;TZID=Europe/Brussels:20200815T110000
DTEND;TZID=Europe/Brussels:20200815T170000
DTSTAMP:20260424T005859
CREATED:20200807T152848Z
LAST-MODIFIED:20200807T152848Z
UID:4717-1597489200-1597510800@www.socialekalender.be
SUMMARY:Kunstzinnige wandel- en fietsroute
DESCRIPTION:Vrijetijdscampus De Drieschaar\, het gemeentehuis\, de Sint-Aldegondiskerk\, het station: op deze 4 verschillende plaatsen kan men te voet of per fiets vertrekken voor een lus langs stopplaatsen met een divers cultureel aanbod: schilderijen\, keramiek\, porselein\, juwelen\, wenskaarten\, de vredesmuur\, … In de Sint-Aldegondiskerk (foto) wordt muziek gebracht\, en aan de gemeentemolen (Mieleke) leest Stan Mardaga poëzie en verhalen in het Asserse dialect. Aan het station kan je het houten model van een boortoren beklimmen\, en er iets drinken of eten op de historische site. De route is volledig uitgepijld\, en de stopplaatsen worden aangeduid met groene ballonnen. Iedereen wordt gevraagd om de handen te ontsmetten en de sociale afstand te respecteren. Op plaatsen waar meer mensen samenzijn is gebruik van het mondmasker verplicht.
URL:https://www.socialekalender.be/evenement/kunstzinnige-wandel-en-fietsroute/
LOCATION:As\, As\, Limburg\, 3665\, België
ATTACH;FMTTYPE=image/jpeg:https://www.socialekalender.be/wp-content/uploads/2020/08/Sint-Aldegondiskerk.jpg
END:VEVENT
BEGIN:VEVENT
DTSTART;TZID=Europe/Brussels:20200817T110000
DTEND;TZID=Europe/Brussels:20200817T110000
DTSTAMP:20260424T005859
CREATED:20200710T091258Z
LAST-MODIFIED:20200710T091258Z
UID:4620-1597662000-1597662000@www.socialekalender.be
SUMMARY:Sociaal scoutskamp
DESCRIPTION:Open Kamp Limburg organiseert een scoutskamp voor maatschappelijk kwetsbare kinderen en jongeren\, deels uit de pleegzorg\, instellingen en asielcentra\, deels uit kansarme gezinnen. Het is dus een verhaal van diversiteit in een week vol spel\, plezier en vriendschap. Deze zomer vindt het kamp plaats in en rond de jeugdlokalen van scouts Boseind in Neerpelt\, van 17 tot 22 augustus. De kinderen en jongeren\, van 8 tot 17 jaar\, worden ingedeeld in leeftijdsgroepen. De kostprijs voor kinderen uit gezinnen bedraagt € 25 voor het eerste kind en € 20 vanaf het tweede -via de mutualiteit kan men daar nog een deel van terugkrijgen.
URL:https://www.socialekalender.be/evenement/sociaal-scoutskamp/
LOCATION:Roosendijk 109A\, Neerpelt(\, Limburg\, 3910\, België
ATTACH;FMTTYPE=image/jpeg:https://www.socialekalender.be/wp-content/uploads/2020/07/scouts-open-kamp-scaled.jpg
END:VEVENT
BEGIN:VEVENT
DTSTART;TZID=Europe/Brussels:20200822T090000
DTEND;TZID=Europe/Brussels:20200822T120000
DTSTAMP:20260424T005859
CREATED:20200306T153832Z
LAST-MODIFIED:20200306T153832Z
UID:4029-1598086800-1598097600@www.socialekalender.be
SUMMARY:Biotoopherstel in bronnenamfitheater
DESCRIPTION:Natuurpunt Zuidoost-Limburg organiseert beheerswerken in een bronnengebied bij de Keiberg in Riksingen. Voor wie mee de handen uit de mouwen wil steken: laarzen en werkhandschoenen zijn een noodzaak.
URL:https://www.socialekalender.be/evenement/biotoopherstel-in-bronnenamfitheater/
LOCATION:Kerk van Riksingen\, Sint Geertruistraat\, Tongeren\, Limburg\, België
ATTACH;FMTTYPE=image/jpeg:https://www.socialekalender.be/wp-content/uploads/2020/03/Keiberg.jpg
END:VEVENT
BEGIN:VEVENT
DTSTART;TZID=Europe/Brussels:20200822T210000
DTEND;TZID=Europe/Brussels:20200822T210000
DTSTAMP:20260424T005859
CREATED:20200127T135338Z
LAST-MODIFIED:20200815T141833Z
UID:3912-1598130000-1598130000@www.socialekalender.be
SUMMARY:Vleermuizenwandeling (GEANNULEERD)
DESCRIPTION:De Asserse afdeling van Natuurpunt schafte zich vorig jaar een batdetector aan. Met dit toestel kunnen we de ultrasone geluiden van vleermuizen verschuiven naar voor de mens hoorbare toonhoogtes\, en de soort determineren via het internet. Het werd op 29 juni 2019 uitgetest\, tijdens een wandeling aan de terril. In een half uur werden maar liefst zeven soorten vleermuizen gehoord. Op 17 augustus werden nog twee bijkomende soorten waargenomen aan de plas bij het natuurreservaat Heiderbos. As is dus uitzonderlijk rijk aan deze nachtdieren. Op 22 augustus gaan we verder op onderzoek\, in het gebied rond het Rouwmortelven.
URL:https://www.socialekalender.be/evenement/vleermuizenwandeling-2/
LOCATION:Station As\, Stationsstraat 124\, As\, 3665\, België
ATTACH;FMTTYPE=image/jpeg:https://www.socialekalender.be/wp-content/uploads/2020/01/downloadfile.jpg
END:VEVENT
BEGIN:VEVENT
DTSTART;TZID=Europe/Brussels:20200823T080000
DTEND;TZID=Europe/Brussels:20200823T220000
DTSTAMP:20260424T005859
CREATED:20200807T151716Z
LAST-MODIFIED:20200807T151716Z
UID:4703-1598169600-1598220000@www.socialekalender.be
SUMMARY:Wereldwandeling Hasselt (einde)
DESCRIPTION:Van 15 tot 23 augustus kan je een hartvormige route van 4 km door Hasselt wandelen. Op 15 stopplaatsen onderweg kom je grote posters tegen met een QR-code. Via die code zie je een filmpje of beeld van een Hasselts project of organisatie die bijdraagt aan de vermindering van armoede en ongelijkheid. Je kijkt binnen in een stukje van het werk van Los Gorriones\, Zonder Honger naar Bed\, Hasselt Gastvrij\, De Trawanten\, Do Well\, DOMO\, OKAN Campus Hast\, een pop-up van de Wereldwinkel samen met De Wroeter\, Laat Laos Leren\,  project AZO en de Gouden Draad\, Anonymous Rebels en ruilwinkel Het Wisselke. Wandel of fiets deze route met je eigen bubbel en laat je inspireren door de verschillende getuigenissen. Startpunt is de Dienst Toerisme\, waar je ook de wandelkaart kan oppikken voor vertrek. Breng je smartphone mee. Misschien moet je vooraf een QR-scanner installeren\, maar vaak werkt het ook via je camera.
URL:https://www.socialekalender.be/evenement/wereldwandeling-hasselt-einde/
LOCATION:Dienst Toerisme Hasselt\, Maastrichterstraat 59\, Hasselt\, Limburg\, 3500\, België
ATTACH;FMTTYPE=image/png:https://www.socialekalender.be/wp-content/uploads/2020/08/Wereldwandeling-1.png
END:VEVENT
BEGIN:VEVENT
DTSTART;TZID=Europe/Brussels:20200823T123000
DTEND;TZID=Europe/Brussels:20200823T123000
DTSTAMP:20260424T005859
CREATED:20200712T070733Z
LAST-MODIFIED:20200712T070733Z
UID:4648-1598185800-1598185800@www.socialekalender.be
SUMMARY:Rondleiding door voedselbos en permatuin
DESCRIPTION:Een voedselbos is een zorgvuldig ontworpen ecosysteem van nuttige planten (en soms ook dieren). In plaats van nette rijen van één soort plant (monocultuur)\, mengen voedselbossen een gevarieerd assortiment voedselproducerende (en andere) planten die elkaar voeden\, verschillende voedingsstoffen uit de bodem gebruiken en de beschikbare ruimte optimaal benutten. Dit bootst de structuur van een natuurlijk bos na – het meest stabiele en duurzame type ecosysteem in ons klimaat. Belangrijk is dat de bodem bijna altijd bedekt is – wat resulteert in een rijke ondergrondse biodiversiteit en een gezonde bodem rijk aan koolstof\, mineralen en andere voedingsstoffen. Voedselbossen kunnen variëren van een kleine huishoudelijke tuin tot zeer grote commerciële projecten (ook bekend als agro-forestry). Ons project is middelgroot (ongeveer 4 hectare). Het is 10 jaar geleden omgezet van een maïsveld en is nu volwassen en productief. De biologisch gecertificeerde producten worden verkocht aan abonnees en andere klanten. De site wordt ook gebruikt als demonstratiesite voor cursussen en rondleidingen. Iedere zondag om 12.30 is er een rondleiding. Kosten 5 euro p/p incl. een proevertje soep. U hoeft zich niet vooraf aan te melden. De rondleiding start op de parkeerplaats bij het kasteel. Een rondleiding op aanvraag voor een specifieke groep is ook mogelijk en kost tot 15 pers. 75 eur per uur.
URL:https://www.socialekalender.be/evenement/rondleiding-door-voedselbos-en-permatuin-2/
LOCATION:Kasteel Nieuwenhoven\, Engelbamp 55\, Sint-Truiden\, 3800
ATTACH;FMTTYPE=image/png:https://www.socialekalender.be/wp-content/uploads/2020/07/PDC-2020-2021-300x300-1.png
END:VEVENT
BEGIN:VEVENT
DTSTART;TZID=Europe/Brussels:20200823T140000
DTEND;TZID=Europe/Brussels:20200823T140000
DTSTAMP:20260424T005859
CREATED:20200603T072741Z
LAST-MODIFIED:20200719T090620Z
UID:4173-1598191200-1598191200@www.socialekalender.be
SUMMARY:Kruidenexpeditie (GEANNULEERD)
DESCRIPTION:Met kruidenspecialiste én natuurgids Nette Makrozky maken we een wandeling door natuurgebied Negenoord. Ondertussen staan we stil bij de verschillende wonderen en geheimen van de planten en andere facetten van de natuurrijkdom.
URL:https://www.socialekalender.be/evenement/kruidenexpeditie/
LOCATION:Maascentrum De Wissen\, Negenoordlaan 2\, Dilsen-Stokkem\, 3650\, België
ATTACH;FMTTYPE=image/jpeg:https://www.socialekalender.be/wp-content/uploads/2020/06/4399828_stock-photo-wild-flowers.jpg
ORGANIZER;CN="Limburgs Landschap vzw":MAILTO:info@limburgs-landschap.be
END:VEVENT
BEGIN:VEVENT
DTSTART;TZID=Europe/Brussels:20200824T133000
DTEND;TZID=Europe/Brussels:20200824T160000
DTSTAMP:20260424T005859
CREATED:20200705T093349Z
LAST-MODIFIED:20200705T093349Z
UID:4268-1598275800-1598284800@www.socialekalender.be
SUMMARY:Zomeruniversiteit over sociale rechtvaardigheid
DESCRIPTION:In een sociale rechtvaardige samenleving heeft elke mens toegang tot basisbehoeften zoals vrijheid\, veiligheid\, onderwijs en voedsel. Zo is het welzijn van iedereen gewaarborgd. Maar hoe rechtvaardig is onze samenleving vandaag? Tijdens de coronacrisis werd bijvoorbeeld weer pijnlijk duidelijk dat ongetwijfeld goedbedoelde maatregelen niet altijd rechtvaardig zijn. En wat kunnen we dan doen om onze samenleving rechtvaardiger te maken? Op deze vragen gaan we dieper in tijdens deze zomeruniversiteit. De eerste dag gaat over het begrip ‘sociale rechtvaardigheid’: hoe kunnen we onze samenleving rechtvaardig invullen? Op de tweede dag gaan we dieper in op een sociaal rechtvaardig klimaatbeleid. “Willen we de opwarming van de aarde een halt toeroepen\, dan moeten er heel wat maatregelen getroffen worden. Hoe zorgen we ervoor dat die maatregelen de zwaksten uit onze samenleving niet verdringen?” We sluiten op woensdag af met het thema sociaal rechtvaardige digitalisering. Onze samenleving gaat steeds meer digitaal. Niet iedereen is digitaal geschoold en er is een ongelijke toegang tot digitale hulpbronnen. Met bijdragen van Antoon Vandevelde\, Els Hertogen\, Nawal Farih\, Sacha Dierickx\, Stefan Goemaere\, Ilse Mariën\, Sara Van Damme en Tanja Camps. Om de studiedagen coronaveilig te laten verlopen kunnen we slechts 50 personen per dag toelaten. Het is evenwel mogelijk om de zomeruniversiteit digitaal te volgen. Inschrijven is verplicht.
URL:https://www.socialekalender.be/evenement/zomeruniversiteit-over-sociale-rechtvaardigheid/
LOCATION:OC De Hazelaar\, Merellaan 17\, Hasselt\, Limburg\, 3500\, België
ATTACH;FMTTYPE=image/jpeg:https://www.socialekalender.be/wp-content/uploads/2020/07/bewegingnetlimburg_logo_900.jpg
ORGANIZER;CN="Beweging.net Limburg":MAILTO:limburg@beweging.net
END:VEVENT
BEGIN:VEVENT
DTSTART;TZID=Europe/Brussels:20200825T140000
DTEND;TZID=Europe/Brussels:20200825T150000
DTSTAMP:20260424T005859
CREATED:20200704T122733Z
LAST-MODIFIED:20200704T122733Z
UID:4229-1598364000-1598367600@www.socialekalender.be
SUMMARY:Rondleiding in Greenville
DESCRIPTION:Van het zwarte goud naar het groene goud: onder deze titel organiseert CleanTechPunt geleide bezoeken aan Greenville in het oude mijngebouw van Houthalen. Aandacht gaat hierbij naar het erfgoed van het mijnverleden en naar de nieuwe groene circulaire economie in deze Limburgse regio. Elke dinsdag-\, woensdag- en donderdagnamiddag in juli en augustus. Rondleiding start vanaf 6 personen\, met een maximum van 15 deelnemers. Omdat alles coronaproof verloopt\, is inschrijven verplicht. Gelieve met gepast geld te betalen.
URL:https://www.socialekalender.be/evenement/rondleiding-in-greenville-2/
LOCATION:Greenville\, oud mijngebouw\, Centrum-Zuid 1111\, Houthalen\, 3530
ATTACH;FMTTYPE=image/jpeg:https://www.socialekalender.be/wp-content/uploads/2020/07/wp-content_uploads_2019_05_LRM_Greenville2019-118-2000x1333-1.jpg
END:VEVENT
BEGIN:VEVENT
DTSTART;TZID=Europe/Brussels:20200830T100000
DTEND;TZID=Europe/Brussels:20200830T120000
DTSTAMP:20260424T005859
CREATED:20200710T090517Z
LAST-MODIFIED:20200710T091434Z
UID:4612-1598781600-1598788800@www.socialekalender.be
SUMMARY:Bleri Lleshi stelt nieuw boek voor
DESCRIPTION:De Protestantse Kerk van Hasselt en de basiskerkgemeenschap Het Veer houden een oecumenische kerkdienst\, en laten hierbij een gastspreker aan het woord. Het is de politiek filosoof en jongerenwerker Bleri Lleshi\, verbonden aan de hogeschool UCLL\, die zijn nieuwste boek komt voorstellen dat als titel draagt: Wat na Corona? Brief aan Vlaanderen. Het is de bedoeling dat de aanwezigen achteraf met hem van gedachten wisselen.
URL:https://www.socialekalender.be/evenement/bleri-lleshi-stelt-nieuw-boek-voor/
LOCATION:H HARTKERK\, Heilig Hartplein\, Hasselt\, Limburg\, 3500\, België
ATTACH;FMTTYPE=image/jpeg:https://www.socialekalender.be/wp-content/uploads/2020/07/Bleri-Lleshi-2.jpg
END:VEVENT
BEGIN:VEVENT
DTSTART;TZID=Europe/Brussels:20200830T100000
DTEND;TZID=Europe/Brussels:20200830T170000
DTSTAMP:20260424T005859
CREATED:20200719T092543Z
LAST-MODIFIED:20200719T092543Z
UID:4675-1598781600-1598806800@www.socialekalender.be
SUMMARY:Expo over geisha's (laatste dag)
DESCRIPTION:Vanaf 10 juli tot 30 augustus loopt er in de Japanse tuin van Hasselt een fototentoonstelling over een typisch Japans cultureel fenomeen\, de geisha. Het betreft werken van de Maastrichtse fotograaf Paul van der Veer (1966). De toegang tot de Japanse tuin bedraagt € 6\, € 4\,5 voor 65+\, gratis tot 12 jaar. In het ceremoniehuis is een mondmasker verplicht. De tentoonstelling kan onderhevig zijn aan wisselende coronamaatregelen\, dus reserveer op voorhand.
URL:https://www.socialekalender.be/evenement/expo-over-geishas-laatste-dag/
LOCATION:Japanse tuin\, Gouverneur Verwilghensingel 23\, Hasselt\, 3500
ATTACH;FMTTYPE=image/jpeg:https://www.socialekalender.be/wp-content/uploads/2020/07/geisha.jpg
END:VEVENT
BEGIN:VEVENT
DTSTART;TZID=Europe/Brussels:20200830T130000
DTEND;TZID=Europe/Brussels:20200830T180000
DTSTAMP:20260424T005859
CREATED:20200702T140813Z
LAST-MODIFIED:20200702T140813Z
UID:4208-1598792400-1598810400@www.socialekalender.be
SUMMARY:Wolven in Limburg (einde expo)
DESCRIPTION:Ondertussen lopen er in West-Limburg vier wolvenwelpen te ravotten. Deze jongen van het wolvenkoppel August en Noëlla zijn de eerste waargenomen welpen in 150 jaar. De expo informeert de bezoekers over de aanwezigheid van wolven in Limburg. Hoe kun je wolven herkennen? Wat eten ze? Wat betekent de terugkeer van de wolven? Waarom kiezen ze voor Limburg? Hoe kunnen mens en dier samenleven? Hoe kan je je vee beschermen? Je komt oog in oog te staan met Roger\, de in maart 2018 in Opoeteren aangereden wolf die ondertussen werd opgezet. De tentoonstelling loopt van 1 juli tot 30 augustus. Open van dinsdag tot vrijdag (13-17u) en op zaterdag en zondag (13-18u).
URL:https://www.socialekalender.be/evenement/wolven-in-limburg-einde-expo/
LOCATION:Bezoekerscentrum Kiewit\, Natuurpunt\, Putvennestraat 112\, Hasselt-Kiewit\, 3500
ATTACH;FMTTYPE=image/jpeg:https://www.socialekalender.be/wp-content/uploads/2020/07/wolven-in-limburg.jpg
END:VEVENT
BEGIN:VEVENT
DTSTART;TZID=Europe/Brussels:20200830T140000
DTEND;TZID=Europe/Brussels:20200830T163000
DTSTAMP:20260424T005859
CREATED:20200710T092912Z
LAST-MODIFIED:20200821T060240Z
UID:4628-1598796000-1598805000@www.socialekalender.be
SUMMARY:Heidewandeling als aandenken aan Pol Vandewal (ANNULATIE)
DESCRIPTION:Op zaterdag 31 augustus 1996 kwam Pol Vandewal om bij een ongeval\, niet ver van zijn woning in Neerglabbeek. Natuurpunt Meeuwen-Gruitrode-Peer verloor hiermee een van zijn belangrijkste trekkers en inspirators. \nPol zag in 1940 het levenslicht in Neerglabbeek als 7° zoon uit een gezin van 13. Hij werkte als technicus bovengronds aan de mijn van Waterschei\, tot de sluiting in 1987. Van toen af werd hij een van de meest gedreven natuurbeschermers uit de streek. Vooral het gebied Solterheide lag hem nauw aan het hart\, en toen het door kiezelwinning werd bedreigd\, richtte Pol het N.A.N. op (Natuurbehoud Actie Neerglabbeek). Hij kende het gebied op zijn duimpje\, en hield als ornitholoog getrouw het jaarlijks broedvogelbestand bij. Hij zat ook in de plaatselijke vogelringwerkgroep\, en was actief rond de bescherming van de kerkuil en de plaatsing van broedkasten. Voor zijn paddenoverzetacties wist hij vele vrijwilligers te mobiliseren\, ook kinderen. In het Natuurhulpcentrum van Opglabbeek was hij een graag geziene vrijwilliger. Elk jaar wordt Pol herdacht met een natuurwandeling in de omgeving waar zijn hart lag. Gids Willy Lipkens besteedt dan aandacht aan de rijke natuur\, de landschappen en de stilte. Stevige schoenen zijn gemakkelijk op dit zandige terrein. Voor kinderwagens is het niet geschikt.
URL:https://www.socialekalender.be/evenement/heidewandeling-als-aandenken-aan-pol-vandewal/
LOCATION:Parking Sporting Nevok\, Groenstraat 38\, Gruitrode\, 3670\, België
ATTACH;FMTTYPE=image/jpeg:https://www.socialekalender.be/wp-content/uploads/2020/07/Herinneringswandeling-Pol-Vandewal-270817-1-1.jpg
END:VEVENT
END:VCALENDAR