BEGIN:VCALENDAR
VERSION:2.0
PRODID:-//Sociale Kalender - ECPv6.2.9//NONSGML v1.0//EN
CALSCALE:GREGORIAN
METHOD:PUBLISH
X-ORIGINAL-URL:https://www.socialekalender.be
X-WR-CALDESC:Evenementen voor Sociale Kalender
REFRESH-INTERVAL;VALUE=DURATION:PT1H
X-Robots-Tag:noindex
X-PUBLISHED-TTL:PT1H
BEGIN:VTIMEZONE
TZID:Europe/Brussels
BEGIN:DAYLIGHT
TZOFFSETFROM:+0100
TZOFFSETTO:+0200
TZNAME:CEST
DTSTART:20200329T010000
END:DAYLIGHT
BEGIN:STANDARD
TZOFFSETFROM:+0200
TZOFFSETTO:+0100
TZNAME:CET
DTSTART:20201025T010000
END:STANDARD
END:VTIMEZONE
BEGIN:VEVENT
DTSTART;TZID=Europe/Brussels:20201101T130000
DTEND;TZID=Europe/Brussels:20201101T180000
DTSTAMP:20260423T144612
CREATED:20200921T055734Z
LAST-MODIFIED:20200921T055734Z
UID:4808-1604235600-1604253600@www.socialekalender.be
SUMMARY:Wolven in Limburg (einde expo)
DESCRIPTION:Ondertussen lopen er in West-Limburg wolvenwelpen te ravotten. Deze jongen van het wolvenkoppel August en Noëlla zijn de eerste waargenomen welpen in 150 jaar. De expo informeert de bezoekers over de aanwezigheid van wolven in Limburg. Hoe kun je wolven herkennen? Wat eten ze? Wat betekent de terugkeer van de wolven? Waarom kiezen ze voor Limburg? Hoe kunnen mens en dier samenleven? Hoe kan je je vee beschermen? Je komt oog in oog te staan met Roger\, de in maart 2018 in Opoeteren aangereden wolf die ondertussen werd opgezet. De tentoonstelling loopt van 9 september tot 1 november. Open op woensdag\, vrijdag\, zaterdag en zondag van 13 tot 18u.
URL:https://www.socialekalender.be/evenement/wolven-in-limburg-einde-expo-2/
LOCATION:Thor Central Mijngebouw Waterschei\, André Dumontlaan 67\, Genk\, 3600
ATTACH;FMTTYPE=image/jpeg:https://www.socialekalender.be/wp-content/uploads/2020/09/wolven-in-limburg.jpg
END:VEVENT
BEGIN:VEVENT
DTSTART;TZID=Europe/Brussels:20201103T200000
DTEND;TZID=Europe/Brussels:20201103T214500
DTSTAMP:20260423T144612
CREATED:20200923T132755Z
LAST-MODIFIED:20201025T100248Z
UID:4843-1604433600-1604439900@www.socialekalender.be
SUMMARY:Lea Vanrompay over boeddhisme (geannuleerd)
DESCRIPTION:Lea Vanrompay is boeddhiste sinds 1977. Naast haar professionele activiteiten als lerares Germaanse talen heeft ze meegewerkt aan de oprichting en uitbouw van het Tibetaans Boeddhistisch Instituut in Antwerpen (1978) en Schoten (1993)\, aan Yeunten Ling in Hoei (1983) en Nalanda in Brussel (2000). Vanaf het begin is ze actief betrokken bij de Boeddhistische Unie in België en zijn streven naar de officiële erkenning van het boeddhisme in België. In 2010 dienden zich moeilijke tijden voor haar aan: verliessituaties en een levensbedreigende ziekte. Deze ervaringen boden haar de gelegenheid om het onderricht van de Boeddha over de zes perfecties te herontdekken en om aan zichzelf te werken in het dagelijkse leven.
URL:https://www.socialekalender.be/evenement/lea-vanrompay-over-boeddhisme/
LOCATION:Pastoor Moormanstraat 96\, Pastoor Moormanstraat 96\, Maastricht\, 6219AX\, Nederland
ATTACH;FMTTYPE=image/jpeg:https://www.socialekalender.be/wp-content/uploads/2020/09/Lea-Vanrompay.jpg
ORGANIZER;CN="Stichting Tibetaans Boeddhisme Limburg":MAILTO:info@tibetaans-boeddhisme.eu
END:VEVENT
BEGIN:VEVENT
DTSTART;TZID=Europe/Brussels:20201107T164500
DTEND;TZID=Europe/Brussels:20201107T164500
DTSTAMP:20260423T144612
CREATED:20201019T192207Z
LAST-MODIFIED:20201019T192207Z
UID:4947-1604767500-1604767500@www.socialekalender.be
SUMMARY:Dialectmis in Paal
DESCRIPTION:Deze vierde editie van de “Mès in ’t Böetings” kreeg als thema corona mee. Met dialectliedjes van Gust Caelen. Er zijn 80 zitplaatsen\, maar iedereen kan de mis ook live volgen via de streaming op paalonline.be.
URL:https://www.socialekalender.be/evenement/dialectmis-in-paal/
LOCATION:KERK PAAL
ATTACH;FMTTYPE=image/jpeg:https://www.socialekalender.be/wp-content/uploads/2020/10/kerk-Paal.jpg
END:VEVENT
BEGIN:VEVENT
DTSTART;TZID=Europe/Brussels:20201110T200000
DTEND;TZID=Europe/Brussels:20201110T210000
DTSTAMP:20260423T144612
CREATED:20200923T133121Z
LAST-MODIFIED:20200923T133121Z
UID:4848-1605038400-1605042000@www.socialekalender.be
SUMMARY:Boeddhistische zitmeditatie (Tibetaans)
DESCRIPTION:Stichting Tibetaans Boeddhisme Limburg bestaat uit een kring vrijwilligers die een nauwe band onderhouden met het Tibetaans Instituut Yeunten Ling  in Hoei. Sinds kort beschikken ze over een vaste meditatieruimte in Maastricht\, vlak bij de grens met Smeermaas-Lanaken. Ze organiseren heel wat vormingen\, yogasessies en zitmeditaties. Elke dinsdag (behalve als een lezing plaatsvindt) komen ze met een kleine kring samen voor meditatie. Het eerste kwartier wordt ingevuld met een tekst\, daarna volgen drie zitmeditaties van een kwartier. Achteraf kan men nog wat nablijven bij een thee met een koekje.
URL:https://www.socialekalender.be/evenement/boeddhistische-zitmeditatie-tibetaans/
LOCATION:Pastoor Moormanstraat 96\, Pastoor Moormanstraat 96\, Maastricht\, 6219AX\, Nederland
ATTACH;FMTTYPE=image/jpeg:https://www.socialekalender.be/wp-content/uploads/2020/09/tbl-meditatie.jpg
ORGANIZER;CN="Stichting Tibetaans Boeddhisme Limburg":MAILTO:info@tibetaans-boeddhisme.eu
END:VEVENT
BEGIN:VEVENT
DTSTART;TZID=Europe/Brussels:20201112T180000
DTEND;TZID=Europe/Brussels:20201112T193000
DTSTAMP:20260423T144612
CREATED:20201107T111930Z
LAST-MODIFIED:20201107T112211Z
UID:4980-1605204000-1605209400@www.socialekalender.be
SUMMARY:Over banken
DESCRIPTION:Het financiële systeem is in verscheidene opzichten de spin in het web van de markteconomie. Wanneer het over de kop gaat\, zoals in 2008\, heeft dat een rechtstreekse impact op de hele economie. Daarom ook wordt de sector aan banden gelegd door een uitgebreide regelgeving. Helpen die regels echter om een sector te creëren die beantwoordt aan onze verwachtingen? Welke verplichtingen hebben banken ten opzichte van welke stakeholders? Moet de sociale en economische impact van investeringen worden gemeten en aan klanten meegedeeld? Kortom\, hoe kan de financiële sector een meerwaarde betekenen voor de reële economie? Die en andere vragen worden behandeld tijdens de online gespreksavond ‘The Purpose of Finance’. De voertaal is Engels. David Pitt-Watson van de University of Cambridge geeft een lezing\, Luc Van Liedekerke van Universiteit Antwerpen\, Frank Vanaerschot van FairFin en Tom Van den Berghe van Febelfin reageren. Achteraf is er ruimte voor debat. De gespreksavond volgen is gratis\, maar op voorhand inschrijven is vereist. Andere webinars in dezelfde reeks vinden plaats op 4 en 9 november.
URL:https://www.socialekalender.be/evenement/over-banken/
LOCATION:ONLINE
ATTACH;FMTTYPE=image/png:https://www.socialekalender.be/wp-content/uploads/2020/11/4.png
END:VEVENT
BEGIN:VEVENT
DTSTART;TZID=Europe/Brussels:20201114T130000
DTEND;TZID=Europe/Brussels:20201114T170000
DTSTAMP:20260423T144612
CREATED:20200429T093540Z
LAST-MODIFIED:20201029T091756Z
UID:4144-1605358800-1605373200@www.socialekalender.be
SUMMARY:Repaircafé in Sledderlo ( geannuleeerd)
DESCRIPTION:Een repaircafé is een bijeenkomst waar mensen hun spullen met de hulp van anderen herstellen. In Sledderlo werken ze breed: computers\, smartphones\, software\, elektrische toestellen (senseo niet)\, fietsen\, kleding en horloges. Er zijn een 10-tal vaklui aanwezig met het nodige materiaal. De herstellingen zijn gratis\, maar voor wisselstukken kan de aankoopprijs gevraagd worden. Maximum drie stuks per persoon. Er is ook drank aanwezig\, zodat het repaircafé een sociale activiteit wordt. Iedereen is welkom\, al is het maar om een praatje te slaan.
URL:https://www.socialekalender.be/evenement/repaircafe-in-sledderlo-4/
LOCATION:Buurthuis  Sledderlo\, Bijlkestraat 16\, Genk\, Limburg\, 3600\, België
ATTACH;FMTTYPE=image/jpeg:https://www.socialekalender.be/wp-content/uploads/2018/05/download.jpg
END:VEVENT
BEGIN:VEVENT
DTSTART;TZID=Europe/Brussels:20201115T130000
DTEND;TZID=Europe/Brussels:20201115T200000
DTSTAMP:20260423T144612
CREATED:20201019T192713Z
LAST-MODIFIED:20201019T192713Z
UID:4951-1605445200-1605470400@www.socialekalender.be
SUMMARY:Tentoonstelling Gaston Wuestenbergs (afsluiting)
DESCRIPTION:Gaston Wuestenbergs (° Alken\, 1954) is lid van de groep ARTISIT\, een creatiecentrum voor actuele kunst in Genk. ARTISIT richt zich op de “psychotische zienswijze” als bron van inspiratie en wil de stereotype beeldvorming omtrent de kunst van psychotische personen doorbreken. Voor Gaston Wuestenbergs is kunst “denken op papier”. Hij wordt geïnspireerd door de natuurprocessen. Met deze tentoonstelling van 10.200 tekeningen en 25.000 bladzijden beschrijvende teksten wil hij ons tot bezinning brengen over de teloorgang van onze mooie wereld. De tentoonstelling loopt van 4 tot 15 november\, elke dag van 13 tot 20 uur.
URL:https://www.socialekalender.be/evenement/tentoonstelling-gaston-wuestenbergs-afsluiting/
LOCATION:Onder de Toren\, Thonissenlaan 15\, Hasselt\, Limburg\, 3500\, België
ATTACH;FMTTYPE=image/jpeg:https://www.socialekalender.be/wp-content/uploads/2020/10/gaston-wuestenbergs2.jpeg
END:VEVENT
BEGIN:VEVENT
DTSTART;TZID=Europe/Brussels:20201116T190000
DTEND;TZID=Europe/Brussels:20201116T220000
DTSTAMP:20260423T144612
CREATED:20201007T135912Z
LAST-MODIFIED:20201115T081325Z
UID:4905-1605553200-1605564000@www.socialekalender.be
SUMMARY:Alicja Gescinska over: wat is vrijheid? (geannuleerd)
DESCRIPTION:In 2012 werd Alicja Gescinska doctor in de filosofie aan de Universiteit van Gent.  De werken die ze sindsdien publiceerde hebben haar ruime bekendheid gegeven in Vlaanderen en Nederland. Ook buiten die grenzen gaat ze op zoek naar ‘hoe vrij een mens kan zijn’. Haar (werk-leef-studie-) verblijf in de VS is daar niet vreemd aan. Haar Poolse ‘ziel’ en de ervaring met haar ouders uit het woelige Warschau om asiel te zoeken in Vlaanderen\, liggen beslist aan de basis om zich als filosofe te verdiepen in vrijheid\, politiek\, religie\, enz… Maar ook de liefde en de verwondering voor (de schoonheid) van de mens in vele toonaarden\, drukt ze uit in vele registers van het publieke ‘debat’ met steeds nieuwe publicaties (boeken)\, columns\, essays en kritische twitters
URL:https://www.socialekalender.be/evenement/alicja-gescinska-over-wat-is-vrijheid/
LOCATION:Academiezaal\, Plankstraat 18\, Sint-Truiden\, 3800\, België
ATTACH;FMTTYPE=image/jpeg:https://www.socialekalender.be/wp-content/uploads/2020/10/alicjia.jpg
END:VEVENT
BEGIN:VEVENT
DTSTART;TZID=Europe/Brussels:20201118T200000
DTEND;TZID=Europe/Brussels:20201118T220000
DTSTAMP:20260423T144612
CREATED:20200306T151108Z
LAST-MODIFIED:20201115T081246Z
UID:4020-1605729600-1605736800@www.socialekalender.be
SUMMARY:Mystieke auteurs ontdekken: Hildegard von Bingen (geannuleerd)
DESCRIPTION:Deze benedictijnse abdis uit Duitsland verkreeg bekendheid omwille van haar mystieke teksten\, maar ook haar vocale composities en haar werken over geneeskrachtige kruiden. We lezen haar teksten\, luisteren naar haar muziek en delen wat het ons doet.
URL:https://www.socialekalender.be/evenement/mystieke-auteurs-ontdekken-hildegard-von-bingen/
LOCATION:Vormingplus\, Cellebroedersstraat 13-15\, Hasselt\, 3500
ATTACH;FMTTYPE=image/jpeg:https://www.socialekalender.be/wp-content/uploads/2020/03/hildegard-von-Bingen.jpg
END:VEVENT
BEGIN:VEVENT
DTSTART;TZID=Europe/Brussels:20201120T091500
DTEND;TZID=Europe/Brussels:20201120T091500
DTSTAMP:20260423T144612
CREATED:20201009T153303Z
LAST-MODIFIED:20201115T081205Z
UID:4924-1605863700-1605863700@www.socialekalender.be
SUMMARY:Van wonde naar verwondering (geannuleerd)
DESCRIPTION:Elk leven kent wonden die geheeld willen worden. Door een spirituele benadering kunnen die uitgroeien tot een bron van verwondering. Mededogen en overgave zijn daarbij aandachtspunten. Tijdens het weekend “Vanuit de wonde. Samen op weg naar verwondering”\, van vrijdag 20 november om 9.15u tot zondag 22 november om 16.30u in de abdij van Postel\, gaan de deelnemers intensief aan de slag\, aan de hand van diverse werkvormen en dialooguitwisselingen. Daarnaast is er aandacht voor stilte en meditatie\, op zoek naar wat wezenlijk is. Het weekend kost 185 euro\, inclusief maaltijden en overnachtingen\, en is een initiatief van Metgezel in Zingeving. Inschrijven vóór 30 oktober via telefoon\, mailadres of website. De inschrijving is definitief na betaling van een voorschot van 25 euro op rekeningnummer NL30TRIO 0390 3000 47.
URL:https://www.socialekalender.be/evenement/van-wonde-naar-verwondering/
LOCATION:limburg
ATTACH;FMTTYPE=image/jpeg:https://www.socialekalender.be/wp-content/uploads/2020/10/hqdefault.jpg
END:VEVENT
BEGIN:VEVENT
DTSTART;TZID=Europe/Brussels:20201120T190000
DTEND;TZID=Europe/Brussels:20201120T190000
DTSTAMP:20260423T144612
CREATED:20201019T193131Z
LAST-MODIFIED:20201115T081117Z
UID:4955-1605898800-1605898800@www.socialekalender.be
SUMMARY:Boekvoorstelling door Luc Vankrunkelsven (geannuleerd)
DESCRIPTION:Luc Vankrunkelsven van WERVEL (Werkgroep voor Rechtvaardige en Verantwoorde Landbouw vzw) stelt ons eerst de film “Voeten op de aarde” voor\, over de agro-ecologie in de Braziliaanse Cerrado (33′). Daarna stelt hij ons zijn nieuwste boek voor: “Een wereld van verdoken slavernij”. Alles gebeurt in een coronaveilige setting. Mondmasker verplicht.
URL:https://www.socialekalender.be/evenement/boekvoorstelling-door-luc-vankrunkelsven/
LOCATION:Atelier Warm&Proper\, Havenstraat 5\, Genk\, 3600
ATTACH;FMTTYPE=image/jpeg:https://www.socialekalender.be/wp-content/uploads/2020/10/Luc-Vankrunkelsven-boek.jpg
END:VEVENT
BEGIN:VEVENT
DTSTART;TZID=Europe/Brussels:20201123T194500
DTEND;TZID=Europe/Brussels:20201123T220000
DTSTAMP:20260423T144612
CREATED:20200704T125133Z
LAST-MODIFIED:20201113T095835Z
UID:4242-1606160700-1606168800@www.socialekalender.be
SUMMARY:Van Mammoet tot Big Mac  (UITGESTELD)
DESCRIPTION:We eten ons ziek. Dat is wat schrijvende dokter Staf Henderickx in zijn praktijk al te vaak moet vaststellen. Hij argumenteert waarom er een voedseltransitie nodig is en waarom we daar beter vandaag mee beginnen dan morgen. De lezing is gratis voor leden. Een lidmaatschap kost € 3\, of € 5 per gezin. Inschrijven verplicht.
URL:https://www.socialekalender.be/evenement/van-mammoet-tot-big-mac/
LOCATION:Cultuurcentrum Palethe\, Jeugdlaan 2\, Overpelt\, Limburg\, 3900\, België
ATTACH;FMTTYPE=image/jpeg:https://www.socialekalender.be/wp-content/uploads/2020/07/Staf-Henderickx2.jpg
END:VEVENT
BEGIN:VEVENT
DTSTART;TZID=Europe/Brussels:20201126T193000
DTEND;TZID=Europe/Brussels:20201126T220000
DTSTAMP:20260423T144612
CREATED:20201012T093642Z
LAST-MODIFIED:20201115T081046Z
UID:4935-1606419000-1606428000@www.socialekalender.be
SUMMARY:Mijn levensbeschouwing als inspiratie (geannuleerd)
DESCRIPTION:Hebben religies nog een toekomst? Zijn levensbeschouwingen nog een bron van inspiratie en zingeving? Bieden ze houvast in onzekere tijden? Een vrijzinnige humanist\, een katholiek\, een Grieks-orthodoxe christen en een moslim gaan over deze thema’s in gesprek. Ze vertellen hoe hun levensbeschouwing hen geïnspireerd heeft. Jonas Slaats leidt het gesprek.
URL:https://www.socialekalender.be/evenement/mijn-levensbeschouwing-als-inspiratie/
LOCATION:Cultuurcentrum\, Koninginnelaan 42\, Eisden-Maasmechelen\, Limburg\, 3630\, België
ATTACH;FMTTYPE=image/jpeg:https://www.socialekalender.be/wp-content/uploads/2020/10/levensbeschouwingen.jpg
END:VEVENT
BEGIN:VEVENT
DTSTART;TZID=Europe/Brussels:20201128T090000
DTEND;TZID=Europe/Brussels:20201128T120000
DTSTAMP:20260423T144612
CREATED:20200923T133515Z
LAST-MODIFIED:20201115T081016Z
UID:4852-1606554000-1606564800@www.socialekalender.be
SUMMARY:Workshop permacultuur (geannuleerd)
DESCRIPTION:De mens en de natuur duurzaam laten samenwerken in je groentetuin\, dat is het doel van permacultuur. Marleen Massonnet geeft praktische tips over het ontwerpsysteem en de teelt. Schrijf je in via de website www.centrumduurzaamgroen.be/vormingamber.
URL:https://www.socialekalender.be/evenement/workshop-permacultuur/
LOCATION:Zaal De Kruin\, Putvennestraat 108\, Hasselt\, Limburg\, 3500\, België
ATTACH;FMTTYPE=image/jpeg:https://www.socialekalender.be/wp-content/uploads/2020/09/voedselbos.jpg
END:VEVENT
BEGIN:VEVENT
DTSTART;TZID=Europe/Brussels:20201128T200000
DTEND;TZID=Europe/Brussels:20201128T210000
DTSTAMP:20260423T144612
CREATED:20201118T141309Z
LAST-MODIFIED:20201118T141309Z
UID:5004-1606593600-1606597200@www.socialekalender.be
SUMMARY:Startdag cohousing Moos°Herk
DESCRIPTION:Het samenhuizingsproject Moos°Herk in het voormalige gemeentehuis van  Sint-Lambrechts-Herk is van start gegaan. Het gaat om een coöperatief woonmodel bestaande uit 33 variërende woonunits met geneenschappelijke ruimten en deelmobiliteit. De bewoners gaan voor multigenerationeel samenleven\, waar kinderen vrij en veilig samen kunnen spelen\, met een uitgebreid sociaal netwerk. De site wordt door het stadsbestuur in erfpacht gegeven. \n  \nDe initiatiefnemers waren van plan om een opendeurdag te organiseren voor alle geïnteresseerden. In de plaats wordt nu iedereen uitgenodigd om deel te nemen aan een videosessie via zoom. Een eerste sessie vindt plaats om 16u\, de tweede om 20u.
URL:https://www.socialekalender.be/evenement/startdag-cohousing-moosherk/
LOCATION:ONLINE
ATTACH;FMTTYPE=image/jpeg:https://www.socialekalender.be/wp-content/uploads/2020/11/cohousing-Moos°Herk-scaled.jpg
END:VEVENT
BEGIN:VEVENT
DTSTART;TZID=Europe/Brussels:20201129T100000
DTEND;TZID=Europe/Brussels:20201129T120000
DTSTAMP:20260423T144612
CREATED:20200914T092417Z
LAST-MODIFIED:20201115T080932Z
UID:4802-1606644000-1606651200@www.socialekalender.be
SUMMARY:Oecumenische viering met Bleri Lleshi (Geannuleerd)
DESCRIPTION:De Protestantse Kerk van Hasselt en de basiskerkgemeenschap Het Veer houden een oecumenische kerkdienst\, en laten hierbij Bleri Lleshi aan het woord. Bleri is politiek filosoof en jongerenwerker\, verbonden aan de hogeschool UCLL. Hij gaf zopas een boek uit met als titel: Wat na Corona? Brief aan Vlaanderen. Hij zal in dialoog met de aanwezigen een zoektocht opzetten naar inspirerende acties om samen aan een nieuwe wereld te werken na de coronacrisis. In de weken en maanden erna gaan de initiatiefnemers voortwerken in een actieplatform om de concrete acties verder uit te werken.
URL:https://www.socialekalender.be/evenement/oecumenische-viering-met-bleri-lleshi/
LOCATION:Heilig Hartkerk\, Heilig Hartplein\, Hasselt\, Limburg\, 3500\, België
ATTACH;FMTTYPE=image/jpeg:https://www.socialekalender.be/wp-content/uploads/2020/09/Bleri-Lleshi-2.jpg
END:VEVENT
END:VCALENDAR