BEGIN:VCALENDAR
VERSION:2.0
PRODID:-//Sociale Kalender - ECPv6.2.9//NONSGML v1.0//EN
CALSCALE:GREGORIAN
METHOD:PUBLISH
X-WR-CALNAME:Sociale Kalender
X-ORIGINAL-URL:https://www.socialekalender.be
X-WR-CALDESC:Evenementen voor Sociale Kalender
REFRESH-INTERVAL;VALUE=DURATION:PT1H
X-Robots-Tag:noindex
X-PUBLISHED-TTL:PT1H
BEGIN:VTIMEZONE
TZID:Europe/Brussels
BEGIN:DAYLIGHT
TZOFFSETFROM:+0100
TZOFFSETTO:+0200
TZNAME:CEST
DTSTART:20210328T010000
END:DAYLIGHT
BEGIN:STANDARD
TZOFFSETFROM:+0200
TZOFFSETTO:+0100
TZNAME:CET
DTSTART:20211031T010000
END:STANDARD
END:VTIMEZONE
BEGIN:VEVENT
DTSTART;TZID=Europe/Brussels:20210201T110000
DTEND;TZID=Europe/Brussels:20210201T120000
DTSTAMP:20260422T194950
CREATED:20201224T092341Z
LAST-MODIFIED:20201225T134733Z
UID:5053-1612177200-1612180800@www.socialekalender.be
SUMMARY:Webinar over kernuitstap
DESCRIPTION:Uiteenzetting door Gilbert Eggermont.. Hij was professor in stralingsbescherming aan de VUB en leidde in het PISA-programma van het Studiecentrum voor Kernenergie in Mol onderzoekstrajecten over duurzaamheid\, ethiek\, expertcultuur\, veiligheidscultuur en de geschiedenis van de nucleaire controverse. 
URL:https://www.socialekalender.be/evenement/webinar-over-kernuitstap/
LOCATION:ONLINE
ATTACH;FMTTYPE=image/jpeg:https://www.socialekalender.be/wp-content/uploads/2020/12/Gilbert-Eggermont-3.jpg
END:VEVENT
BEGIN:VEVENT
DTSTART;TZID=Europe/Brussels:20210203T140000
DTEND;TZID=Europe/Brussels:20210203T140000
DTSTAMP:20260422T194950
CREATED:20210128T080908Z
LAST-MODIFIED:20210128T080908Z
UID:5105-1612360800-1612360800@www.socialekalender.be
SUMMARY:Ons voedselsysteem en verlies biodiversiteit
DESCRIPTION:Terwijl het aantal dieren dat wordt opgesloten in de krappe kooien en hokken van de vee-industrie nog altijd stijgt\, daalt het aantal wilde dieren in de natuur drastisch. De productie van zo goedkoop mogelijk voedsel put de aarde uit en zorgt ervoor dat dieren- en plantensoorten uitsterven. Wij zijn blij en trots samen te werken met vooraanstaande wetenschappers en de Verenigde Naties. Samen met hen bespreken we bij de presentatie van het rapport hoe we kunnen overstappen op een natuurvriendelijk voedselsysteem dat de biodiversiteit in stand houdt\, in het belang van dieren\, mensen en de aarde. De presentatie is in het Engels. De sprekers zijn: Jane Goodall (apenonderzoekster\, VN-ambassadrice voor de vrede)\, Inger Andersen (directeur VN-milieuprogramma UNEP)\, Tim Benton (onderzoeksdirecteur Chatham House)\, Philip Lymbery (global CEO CIWF). Je bent van harte welkom. Doe je mee?
URL:https://www.socialekalender.be/evenement/ons-voedselsysteem-en-verlies-biodiversiteit/
LOCATION:ONLINE
ATTACH;FMTTYPE=image/png:https://www.socialekalender.be/wp-content/uploads/2021/01/CIWF.png
END:VEVENT
BEGIN:VEVENT
DTSTART;TZID=Europe/Brussels:20210203T200000
DTEND;TZID=Europe/Brussels:20210203T220000
DTSTAMP:20260422T194950
CREATED:20210128T100033Z
LAST-MODIFIED:20210128T100033Z
UID:5120-1612382400-1612389600@www.socialekalender.be
SUMMARY:Boekvoorstelling door Roman Krznaric
DESCRIPTION:How can we be good ancestors? We live in the age of the tyranny of the now\, driven by 24/7 news\, the latest tweet\, and the buy-now button. With such frenetic short-termism at the root of contemporary crises – from the threats of climate change to the lack of planning for a global pandemic – the call for long-term thinking grows every day. But what is it\, has it ever worked\, and can we even do it? In The Good Ancestor\, leading public philosopher Roman Krznaric delves into history and the human mind to show that we can. From the pyramids to the NHS\, humankind has always had the innate ability to plan for posterity and take action that will resonate for decades\, centuries\, even millennia to come. If we want to be good ancestors and be remembered well by the generations who follow us\, now is the time to recover and enrich this imaginative skill. The Good Ancestor reveals six profound ways in which we can all learn to think long\, exploring uniquely human talents like ‘cathedral thinking’ that expand our time horizons and sharpen our foresight. Drawing on radical innovations from around the world\, Krznaric celebrates the time rebels who are reinventing democracy\, culture and economics so that we all have the chance to become good ancestors and create a better tomorrow. Language: English. Please register via info@oikos.be and pay as you like on account number BE07 8901 5430 1466 (BIC: VDSP BE 91 – vdk bank). Account name: Oikos Denktank.
URL:https://www.socialekalender.be/evenement/boekvoorstelling-door-roman-krznaric/
LOCATION:ONLINE
ATTACH;FMTTYPE=image/jpeg:https://www.socialekalender.be/wp-content/uploads/2021/01/Roman-Krznaric.jpg
END:VEVENT
BEGIN:VEVENT
DTSTART;TZID=Europe/Brussels:20210206T100000
DTEND;TZID=Europe/Brussels:20210206T100000
DTSTAMP:20260422T194950
CREATED:20210128T095415Z
LAST-MODIFIED:20210128T095415Z
UID:5116-1612605600-1612605600@www.socialekalender.be
SUMMARY:Gesprekstafel over Hasselt en ontwikkelingshulp
DESCRIPTION:De ontbijtsessies van “Hasselt in de wereld” zijn in deze coronatijden opgeschort. In de plaats organiseert de Dienst Gelijke Kansen\, samen met een reeks partners\, een tafelgesprek over internationale solidariteit met Meryame Kitir (Minister van ontwikkelingssamenwerking)\, Joost Venken (Hasseltse Schepen van Internationale Solidariteit) en Els Hertogen (foto\, directeur 11.11.11). Je kan vooraf vragen insturen via www.hasselt.be/hasseltindewereld. Op de dag zelf vind je een link via https://www.facebook.com/gelijkekansenhasselt.
URL:https://www.socialekalender.be/evenement/gesprekstafel-over-hasselt-en-ontwikkelingshulp/
LOCATION:ONLINE
ATTACH;FMTTYPE=image/jpeg:https://www.socialekalender.be/wp-content/uploads/2021/01/Els-Hertogen.jpg
END:VEVENT
BEGIN:VEVENT
DTSTART;TZID=Europe/Brussels:20210209T140000
DTEND;TZID=Europe/Brussels:20210209T140000
DTSTAMP:20260422T194950
CREATED:20201224T091528Z
LAST-MODIFIED:20201224T091528Z
UID:5048-1612879200-1612879200@www.socialekalender.be
SUMMARY:Limburgse klimaattop
DESCRIPTION:De klimaattop werd wegens de coronacrisis uitgesteld\, en zal nu toch online plaatsvinden. Gastspreker is Diederik Samsom\, de kabinetschef van de EU-commissaris voor klimaat Frans Timmermans.
URL:https://www.socialekalender.be/evenement/limburgse-klimaattop/
LOCATION:ONLINE
ATTACH;FMTTYPE=image/jpeg:https://www.socialekalender.be/wp-content/uploads/2019/07/schouwen-klimaat.jpg
END:VEVENT
BEGIN:VEVENT
DTSTART;TZID=Europe/Brussels:20210211T200000
DTEND;TZID=Europe/Brussels:20210211T200000
DTSTAMP:20260422T194950
CREATED:20210128T074424Z
LAST-MODIFIED:20210128T074424Z
UID:5092-1613073600-1613073600@www.socialekalender.be
SUMMARY:De veggiechallenge
DESCRIPTION:Overweeg je om gezonder te eten? Met de veggiechallenge dagen EVA vzw en Proveg je uit om 30 dagen lang minder vlees te eten. De maand wordt ingeluid op 1 maart. Isabelle de Nobel\, diëtiste gespecialiseerd in plantaardige voeding\, organiseert twee webinars op 11 februari en op 11 maart om je daarbij te informeren en te ondersteunen. Je kan ze De veggiechallengeof apart volgen. Meer info en inschrijving via www.evavzw.be/limburg.
URL:https://www.socialekalender.be/evenement/de-veggiechallenge/
LOCATION:ONLINE
ATTACH;FMTTYPE=image/jpeg:https://www.socialekalender.be/wp-content/uploads/2017/06/IMG_1441-kopie-1024x682.jpg
END:VEVENT
BEGIN:VEVENT
DTSTART;TZID=Europe/Brussels:20210217T193000
DTEND;TZID=Europe/Brussels:20210217T193000
DTSTAMP:20260422T194950
CREATED:20210131T105525Z
LAST-MODIFIED:20210131T105525Z
UID:5149-1613590200-1613590200@www.socialekalender.be
SUMMARY:Kan de Europese Green Deal het klimaat redden?
DESCRIPTION:Met de afkondiging van de Green Deal heeft de EU de ambitie om van Europa het eerste klimaatneutrale continent ter wereld te maken. De groene transitie is in de eerste plaats een agenda voor ‘regeneratieve’ groei’ op vlak van circulaire economie\, voedselproductie\, mobiliteit\, bouw- en renovatie\, … Maar is het wel een haalbare kaart om verder te groeien om te bloeien? En wie zal dat betalen? In deze online lezing (webinar) geeft prof. Pieter Leroy een kritisch inzicht in de ambities en de slaagkansen van de Europese Green Deal. Pieter Leroy was tot de zomer 2019 hoogleraar Milieu&Beleid aan de Radboud Universiteit Nijmegen en 20 jaar lang voorzitter van de stuurgroep Milieurapport Vlaanderen (MIRA).
URL:https://www.socialekalender.be/evenement/kan-de-europese-green-deal-het-klimaat-redden/
LOCATION:ONLINE
ATTACH;FMTTYPE=image/png:https://www.socialekalender.be/wp-content/uploads/2021/01/Pieter-Leroy.png
END:VEVENT
BEGIN:VEVENT
DTSTART;TZID=Europe/Brussels:20210221T091500
DTEND;TZID=Europe/Brussels:20210221T091500
DTSTAMP:20260422T194950
CREATED:20210207T081348Z
LAST-MODIFIED:20210208T141125Z
UID:5159-1613898900-1613898900@www.socialekalender.be
SUMMARY:Meditatieve natuurwandeling
DESCRIPTION:Elke maand begeleidt Joséé Knoops een meditatieve wandeling in de Duinengordel\, in lijn met de coronavoorschriften. De plaats van samenkomst varieert\, vertrek altijd stipt om 9.30u. Iedereen kan deelnemen na storting van € 8 op rek. BE50 0688 9682 2318.
URL:https://www.socialekalender.be/evenement/meditatieve-natuurwandeling/
LOCATION:’t Zaveltje\, Kattenbeekstraat 1\, Opoeteren\, Limburg\, 3680\, België
ATTACH;FMTTYPE=image/jpeg:https://www.socialekalender.be/wp-content/uploads/2021/02/Oudsberg.jpg
END:VEVENT
BEGIN:VEVENT
DTSTART;TZID=Europe/Brussels:20210223T193000
DTEND;TZID=Europe/Brussels:20210223T193000
DTSTAMP:20260422T194950
CREATED:20210128T101059Z
LAST-MODIFIED:20210128T101059Z
UID:5128-1614108600-1614108600@www.socialekalender.be
SUMMARY:Vogels net over de grens (webinar)
DESCRIPTION:Henk Sierdsema (Sovon) geeft een uiteenzetting over opmerkelijke vogelwaarnemingen in Nederlands-Limburg en Noord-Brabant. Achteraf praat Paula Ulenaers (Vlaamse landmaatschappij) over wintervoedingsprogramma’s voor akkervogels. Deze voordrachten vinden plaats in het kader van 30 jaar Limburgse Contactdag Natuuronderzoek. Het volledige weekprogramma met inschrijvingsformulier vind je terug via http://www.provinciaalnatuurcentrum.be/contactdagnatuuronderzoek2021. Enkele dagen vooraf krijg je een deelnameformulier. De lezingen worden opgenomen en zijn achteraf te herbekijken.
URL:https://www.socialekalender.be/evenement/vogels-net-over-de-grens-webinar/
LOCATION:ONLINE
ATTACH;FMTTYPE=image/jpeg:https://www.socialekalender.be/wp-content/uploads/2021/01/grauwe-gors-scaled.jpg
END:VEVENT
BEGIN:VEVENT
DTSTART;TZID=Europe/Brussels:20210224T110000
DTEND;TZID=Europe/Brussels:20210224T121500
DTSTAMP:20260422T194950
CREATED:20210128T072814Z
LAST-MODIFIED:20210128T072814Z
UID:5083-1614164400-1614168900@www.socialekalender.be
SUMMARY:Corona en de ethiek van oorlog en vrede
DESCRIPTION:Deze online studievoormiddag vindt via een zoomsessie plaats onder de noemer ‘Wanneer oorlog viraal gaat’. Er wordt dan gereflecteerd over de vraag wat de coronacrisis voor gevolgen heeft voor ons denken over de ethiek van oorlog en vrede. In welke mate is de mensheid in de context van een collectieve bedreiging in staat gezamenlijk op te treden? Hoe omgaan met de kwetsbaarheid van de ethiek in zo’n omstandigheden en hoe de ‘ontwapenende’ boodschap van het evangelie vormgeven in een context waar de ethiek zelf door een virus lijkt aangetast te worden? Kan de vredesethiek een bijdrage leveren tot een veerkrachtig planetair immuunsysteem dat autocratische bestrijdingsmodellen en nieuwe vormen van immoreel fanatisme weerstaat? Een eerste voordracht\, door Guido Vanheeswijck (UAntwerpen en KUL)\, kreeg als titel mee: “Corona of ethiek op het spel\, een filosofische reflectie”. Daarna spreekt Ellen Van Stichel (KUL) onder de titel: “Corona: tegen of met elkaar. Een reactie vanuit christelijke\, sociale ethiek”. Meer info met inschrijvingsformulier via www.paxchristi.be.
URL:https://www.socialekalender.be/evenement/corona-en-de-ethiek-van-oorlog-en-vrede/
LOCATION:ONLINE
ATTACH;FMTTYPE=image/jpeg:https://www.socialekalender.be/wp-content/uploads/2020/11/pax_christi_logo_survey3.jpg
END:VEVENT
BEGIN:VEVENT
DTSTART;TZID=Europe/Brussels:20210224T193000
DTEND;TZID=Europe/Brussels:20210224T193000
DTSTAMP:20260422T194950
CREATED:20210128T100624Z
LAST-MODIFIED:20210128T100624Z
UID:5124-1614195000-1614195000@www.socialekalender.be
SUMMARY:Bodemerosie in Limburg (webinar)
DESCRIPTION:Uiteenzetting door Jean Poesen (KUL). Deze voordracht vindt plaats in het kader van 30 jaar Limburgse Contactdag Natuuronderzoek. Het volledige weekprogramma met inschrijvingsformulier vind je terug via http://www.provinciaalnatuurcentrum.be/contactdagnatuuronderzoek2021. Enkele dagen vooraf krijg je een deelnameformulier. De lezingen worden opgenomen en zijn achteraf te herbekijken.
URL:https://www.socialekalender.be/evenement/bodemerosie-in-limburg-webinar/
LOCATION:ONLINE
ATTACH;FMTTYPE=image/png:https://www.socialekalender.be/wp-content/uploads/2021/01/bodemerosie.png
END:VEVENT
BEGIN:VEVENT
DTSTART;TZID=Europe/Brussels:20210224T200000
DTEND;TZID=Europe/Brussels:20210224T210000
DTSTAMP:20260422T194950
CREATED:20210213T135617Z
LAST-MODIFIED:20210213T135617Z
UID:5174-1614196800-1614200400@www.socialekalender.be
SUMMARY:Boeren en klimaat
DESCRIPTION:De aarde warmt op en het klimaat is in volle verandering. Overal ter wereld leveren familiale boeren inspanningen om hun impact op de klimaatverandering te beperken. Tegelijk heeft het wijzigende klimaat enorme gevolgen voor de wereldwijde voedselproductie. Hoe gaan boeren hiermee om? Wat voor invloed heeft dit op voedselsystemen?Tijdens deze online sessie op 24 februari gaat landbouwjournalist Jacques Van Outryve dieper in op het specifieke karakter van voedselsystemen. Hij gidst ons door de diverse uitdagingen waarmee landbouwers wereldwijd geconfronteerd worden en schetst een aantal creatieve oplossingen. Daarbij focust hij ook op voorbeelden uit de verschillende landen. Jacques Van Outryve is landbouwjournalist en gastdocent landbouwbeleid en bio-ethiek aan de Hogeschool Vives. Hij is een trouwe ambassadeur van ngo Trias en bezocht hij verschillende projecten in Oeganda\, Peru en de Filipijnen. Meer informatie en inschrijving via https://www.trias.ngo/nl/boeren-klimaat-een-wereldwijde-blik.
URL:https://www.socialekalender.be/evenement/boeren-en-klimaat/
LOCATION:ONLINE
ATTACH;FMTTYPE=image/jpeg:https://www.socialekalender.be/wp-content/uploads/2021/02/jacques-van-outryve.jpg
END:VEVENT
BEGIN:VEVENT
DTSTART;TZID=Europe/Brussels:20210225T193000
DTEND;TZID=Europe/Brussels:20210225T203000
DTSTAMP:20260422T194950
CREATED:20210131T105028Z
LAST-MODIFIED:20210131T105028Z
UID:5143-1614281400-1614285000@www.socialekalender.be
SUMMARY:Marc Heughebaert over wooncrisis (webinar)
DESCRIPTION:Ons land zit in een wooncrisis. De stijgende prijzen op de koopmarkt halen het nieuws\, de problematiek op de huurmarkt voor lagere inkomens is echter nijpender. Sociale woningen en voldoende betaalbare huurwoningen op de private markt voor de lagere middenklassen zijn nodig. Een grondige analyse door woonexpert Marc Heughebaert n.a.v. het woondossier in het laatste nummer van het magazine Oikos.
URL:https://www.socialekalender.be/evenement/marc-heughebaert-over-wooncrisis-webinar/
LOCATION:limburg
ATTACH;FMTTYPE=image/jpeg:https://www.socialekalender.be/wp-content/uploads/2021/01/Marc-Heughebaert.jpg
END:VEVENT
BEGIN:VEVENT
DTSTART;TZID=Europe/Brussels:20210226T121500
DTEND;TZID=Europe/Brussels:20210226T130000
DTSTAMP:20260422T194950
CREATED:20210131T104115Z
LAST-MODIFIED:20210131T104156Z
UID:5135-1614341700-1614344400@www.socialekalender.be
SUMMARY:Lachyoga
DESCRIPTION:Lachen is gezond. Het is goed voor het moreel en één van de beste remedies tegen stress. Een ideaal medicijn dus in deze coronatijd. Als kind doen we het spontaan tussen de 300 à 400 keer per dag. Als volwassene nog slechts 10 tot 15 keer. Gelukkig kunnen we leren om opnieuw vaker te lachen dankzij lachyoga. Deze unieke methode combineert lachen en ademen en gebruikt de lettergrepen HOHO HAHA HEHE HIHI. Het motto: je produceert een gemaakte lach om een echte lach op te wekken. Zo leer je weer meer lachen en ademen op een speelse manier. Begeleiding: Jean Vandersmissen. Online via zoom.
URL:https://www.socialekalender.be/evenement/lachyoga/
LOCATION:ONLINE
ATTACH;FMTTYPE=image/jpeg:https://www.socialekalender.be/wp-content/uploads/2021/01/lachyoga.jpg
END:VEVENT
BEGIN:VEVENT
DTSTART;TZID=Europe/Brussels:20210227T080000
DTEND;TZID=Europe/Brussels:20210227T130000
DTSTAMP:20260422T194950
CREATED:20210128T073331Z
LAST-MODIFIED:20210128T073331Z
UID:5086-1614412800-1614430800@www.socialekalender.be
SUMMARY:Biomarkt
DESCRIPTION:Limburg is erg rijk aan basisinitiatieven met een ecologisch en/of sociaal profiel. Hierdoor is er een sterk netwerk gegroeid van mensen en groepen die bewust\, duurzaam en solidair door het leven willen gaan. Ook tijdens deze coronacrisis blijven er onder de oppervlakte heel wat dingen doorleven en groeien. Zo is er sinds 23 mei weer een biomarkt in Winterslag. Elke zaterdag tijdens de markt in de Vennestraat opent zij haar deuren en kramen enkele meters verderop\, ter hoogte van de Hoefstadstraat 21. Het is een initiatief van vzw Rosendal Marked\, een project naar Deense inspiratie van Gilberte Claes. De bioboerderij Het Vrije Veld van Souliman Diraa verleende er dadelijk haar medewerking aan. Drie verkooppunten zorgen voor een gevarieerd aanbod. Binnen staat Gilberte achter de toog en biedt ze een assortiment van ter plaatse gebakken broden\, taarten en gebak aan. Robin Geurts is er de bakker van dienst. Daarnaast verkoopt Gilberte nog sappen en ook kazen vanuit de korte keten (Karditsel\, Catharinadal). Buiten brengt Souliman groenten en fruit aan de man\, deels van eigen teelt\, deels van andere Limburgse bioboeren\, aangevuld met enkele producten uit de biologische groothandel. Even verderop staat Bram Kriekels van Mycotopia (Diepenbeek) met verschillende soorten zelfgeteelde paddenstoelen. De biomarkt is het jaar rond present.
URL:https://www.socialekalender.be/evenement/biomarkt-8/
LOCATION:Hoefstadstraat\, Hoefstadstraat\, Winterslag-Genk\, Limburg\, 3600\, België
ATTACH;FMTTYPE=image/jpeg:https://www.socialekalender.be/wp-content/uploads/2020/07/boerenmarkt.jpg
END:VEVENT
BEGIN:VEVENT
DTSTART;TZID=Europe/Brussels:20210227T153000
DTEND;TZID=Europe/Brussels:20210227T171500
DTSTAMP:20260422T194950
CREATED:20201225T140314Z
LAST-MODIFIED:20210207T080513Z
UID:5066-1614439800-1614446100@www.socialekalender.be
SUMMARY:Limburgse contactdag natuuronderzoek
DESCRIPTION:We vieren dit jaar de dertigste verjaardag van LIKONA\, het huidige Limburgs Netwerk Natuuronderzoek. De coronacrisis zorgt ervoor dat we elkaar voor de eerste keer in die geschiedenis niet lijfelijk kunnen ontmoeten: de jaarlijkse contactdag moet dit jaar online plaatsvinden. Onder andere prof. dr. Valerie Trouet komt spreken\, over jaarringen van bomen en wat ze ons over het klimaat vertellen. Trouwens\, de hele voorafgaande week zullen er van maandag tot vrijdag webinars gehouden worden. Meer informatie op de website.
URL:https://www.socialekalender.be/evenement/limburgse-contactdag-natuuronderzoek/
LOCATION:ONLINE
ATTACH;FMTTYPE=image/jpeg:https://www.socialekalender.be/wp-content/uploads/2020/12/landschap-113104.jpg
END:VEVENT
END:VCALENDAR