BEGIN:VCALENDAR
VERSION:2.0
PRODID:-//Sociale Kalender - ECPv6.2.9//NONSGML v1.0//EN
CALSCALE:GREGORIAN
METHOD:PUBLISH
X-ORIGINAL-URL:https://www.socialekalender.be
X-WR-CALDESC:Evenementen voor Sociale Kalender
REFRESH-INTERVAL;VALUE=DURATION:PT1H
X-Robots-Tag:noindex
X-PUBLISHED-TTL:PT1H
BEGIN:VTIMEZONE
TZID:Europe/Brussels
BEGIN:DAYLIGHT
TZOFFSETFROM:+0100
TZOFFSETTO:+0200
TZNAME:CEST
DTSTART:20220327T010000
END:DAYLIGHT
BEGIN:STANDARD
TZOFFSETFROM:+0200
TZOFFSETTO:+0100
TZNAME:CET
DTSTART:20221030T010000
END:STANDARD
END:VTIMEZONE
BEGIN:VEVENT
DTSTART;TZID=Europe/Brussels:20220703T130000
DTEND;TZID=Europe/Brussels:20220703T170000
DTSTAMP:20260420T172850
CREATED:20220605T175926Z
LAST-MODIFIED:20220605T175926Z
UID:7148-1656853200-1656867600@www.socialekalender.be
SUMMARY:Leren composteren
DESCRIPTION:Tuinafval en groenteafval kan je perfect thuis verwerken door te composteren. Het kost niets\, en je bent duurzaam bezig. In de toontuin van het Heempark staan de compostmeesters je graag te woord met allerlei tips.
URL:https://www.socialekalender.be/evenement/leren-composteren/
LOCATION:Heempark\, Hoogzij 7\, Genk\, 3600\, België
ATTACH;FMTTYPE=image/jpeg:https://www.socialekalender.be/wp-content/uploads/2022/06/composteren.jpg
END:VEVENT
BEGIN:VEVENT
DTSTART;TZID=Europe/Brussels:20220704T000000
DTEND;TZID=Europe/Brussels:20220704T000000
DTSTAMP:20260420T172850
CREATED:20211208T153829Z
LAST-MODIFIED:20211208T153829Z
UID:6376-1656892800-1656892800@www.socialekalender.be
SUMMARY:Vertrek pegrimsmidweek
DESCRIPTION:We verblijven vijf dagen lang in twee comfortabele vakantiewoningen van het Eyserhof in Wittem (www.eyserhof.nl)\, midden in het prachtige Zuid-Limburgse heuvelland. Elke kamer beschikt over eigen sanitair. Een logistieke ploeg zorgt voor de maaltijden. We doen dagelijks een tocht van ongeveer vijftien kilometer\, met mogelijkheid tot inkorting. De verplaatsing naar Eys gebeurt met eigen wagen of al carpoolend. Het inhoudelijke thema is: de ziel gaat te voet. Wandelen brengt je vanuit je hoofd weer in je lijf. Je krijgt weer voeling met je ziel! Zo kom je in verbinding met het Grote Geheim van het leven dat gelovigen “God” noemen. Door contact met je ziel komt er bezieling in je leven. De deelnameprijs op basis van een tweepersoonskamer bedraagt € 190 per persoon voor overnachting\, maaltijden en organisatiekosten. Wie een eenpersoonskamer wenst\, betaalt € 280. Voor meer info en inschrijving: ga naar www.pelgrimswandelingen.be en klik op wandelingen\, vervolgens meerdaagse tochten.
URL:https://www.socialekalender.be/evenement/vertrek-pegrimsmidweek/
LOCATION:Eyserhof\, Wittemerweg 7\, Eys\, Limburg\, 6287 AA\, Nederland
ATTACH;FMTTYPE=image/jpeg:https://www.socialekalender.be/wp-content/uploads/2021/12/pelgrimstocht-2-1.jpg
END:VEVENT
BEGIN:VEVENT
DTSTART;TZID=Europe/Brussels:20220705T193000
DTEND;TZID=Europe/Brussels:20220705T213000
DTSTAMP:20260420T172850
CREATED:20220601T084359Z
LAST-MODIFIED:20220601T084359Z
UID:7117-1657049400-1657056600@www.socialekalender.be
SUMMARY:Werkgroep Armoede en Ecologisch Leven
DESCRIPTION:Het ecologisch bewustzijn groeit\, maar voor mensen in armoede is het niet zo evident om aansluiting te vinden bij een duurzame levensstijl. Zij hebben wel een kleinere ecologische voetafdruk omwille van hun beperkt budget. Zo kopen ze vaker tweedehandsspullen en verplaatsen ze zich minder vervuilend. Maar in het algemeen komen ze geregeld drempels tegen die het moeilijk maken om te participeren aan een ecologische leefwijze. Ze wonen vaak in huizen die niet energiezuinig zijn. Ze kopen veel huiswaar in plastiek\, omdat dit goedkoper is. Ze eten geregeld junkfood\, omdat dit betaalbaar is. Ze vinden de weg niet naar milieu- en natuurverenigingen. De recyclageparken zijn te duur en moeilijk bereikbaar. \nHet gaat om een serieuze drempel\, en de Universiteit voor het Maatschappelijk Belang wil er uitdrukkelijk bij stilstaan. Daarom komen we geregeld samen met een overlegplatform van partners uit de ecologische en de armoedeorganisaties om gezamenlijk na te denken\, om samen een open dialoog op te zetten. Ook mensen uit de vakbonden en de nutsbedrijven\, het beleid\, … zitten mee aan tafel. De veelvuldige respons maakt duidelijk dat het onderwerp leeft. Nieuwe mensen zijn zeker welkom. We komen samen in Winterslag\, in ’t Fabriek\, een rijwoning aan de Evence Coppéelaan 118 (even voorbij het mijngebouw rechts\, achter de fietswinkel).
URL:https://www.socialekalender.be/evenement/werkgroep-armoede-en-ecologisch-leven-5/
LOCATION:’t Fabriek\, Evence Copéelaan 118\, Winterslag - Genk\, Limburg\, 3600\, België
ATTACH;FMTTYPE=image/jpeg:https://www.socialekalender.be/wp-content/uploads/2021/10/Werkgroep-Armoede-en-Ecologisch-Leven-1-scaled.jpg
ORGANIZER;CN="Universiteit voor het Maatschappelijk Belang":MAILTO:felixbergers@hotmail.com
END:VEVENT
BEGIN:VEVENT
DTSTART;TZID=Europe/Brussels:20220706T140000
DTEND;TZID=Europe/Brussels:20220706T140000
DTSTAMP:20260420T172850
CREATED:20220629T150300Z
LAST-MODIFIED:20220629T150300Z
UID:7186-1657116000-1657116000@www.socialekalender.be
SUMMARY:Op boerderijbezoek bij Johan Hillen
DESCRIPTION:Johan Hillen is provinciaal voorzitter van de Boerenbond. Samen met echtgenote Ria en zoon Stef baat hij een melkveebedrijf uit. Hij hecht er belang aan dierenwelzijn\, landschapszorg en milieubeheer. Hij leidt ons rond tussen de koeien en landbouwmachines. Op de boerderij is een uitgebreid machinepark aanwezig. Deze uitstap is geschikt voor personen met beperkingen (oa. rolstoelgebruikers\, blinden\, …) en kinderen. Er zijn reducties mogelijk tot € 2\,20 (zie website).
URL:https://www.socialekalender.be/evenement/op-boerderijbezoek-bij-johan-hillen/
LOCATION:Johan Hillen\, Oude Postbaan 20\, Helchteren\, Limburg\, 3530\, België
ATTACH;FMTTYPE=image/jpeg:https://www.socialekalender.be/wp-content/uploads/2022/06/JohanHillen.jpg
END:VEVENT
BEGIN:VEVENT
DTSTART;TZID=Europe/Brussels:20220711T050000
DTEND;TZID=Europe/Brussels:20220711T050000
DTSTAMP:20260420T172850
CREATED:20211223T145435Z
LAST-MODIFIED:20211223T145435Z
UID:6390-1657515600-1657515600@www.socialekalender.be
SUMMARY:Moordballades bij zonsopgang in Zutendaal dialect
DESCRIPTION:Stijn Segers brengt met akoestische begeleiding het muzikaal project Muurd in het stiltegebied Zwarte Put\, op de grens tussen Zutendaal\, Gellik en Bilzen. Het repertoire omvat dialectliedjes over moorden die in Zutendaal plaatsvonden in de periode van 1740 tot 2015. De plaat is gratis te horen op de website www.tourbadour.com.
URL:https://www.socialekalender.be/evenement/moordballades-bij-zonsopgang-in-zutendaal-dialect/
LOCATION:Zwarte Put\, Roelen\, Zutendaal\, Limburg\, 3690\, België
ATTACH;FMTTYPE=image/jpeg:https://www.socialekalender.be/wp-content/uploads/2021/12/Muurd.jpg
END:VEVENT
BEGIN:VEVENT
DTSTART;TZID=Europe/Brussels:20220716T150000
DTEND;TZID=Europe/Brussels:20220716T160000
DTSTAMP:20260420T172850
CREATED:20220601T085331Z
LAST-MODIFIED:20220710T095835Z
UID:7129-1657983600-1657987200@www.socialekalender.be
SUMMARY:Kringlopen voor een leefbare wereld  (GEANNULEERD)
DESCRIPTION:Even voor de zomer van 2020 ging er in Hasselt een nieuwe burgerbeweging van start\, De Ring. Zij brengt mensen samen om te bouwen aan een warme samenleving met een duurzame levensstijl. Ook blijft ze de urgentie van een ingrijpend klimaatbeleid op de agenda zetten. Het is de bedoeling van De Ring om geregeld een wandeling te maken over het voetpad langs de Groene Boulevard in Hasselt (kringlopen)\, om zo een band te scheppen tussen de deelnemers. Sinds maart vindt het kringlopen maandelijks plaats\, elke derde zaterdag. De initiatiefnemers vinden direct menselijk contact een communicatieve meerwaarde in tijden van digitalisering. Het is telkens een kleurrijke optocht\, en iedereen wordt aangemoedigd om spandoeken en borden mee te brengen.
URL:https://www.socialekalender.be/evenement/kringlopen-voor-een-leefbare-wereld-11/
LOCATION:Kolonel Dusartplein\, Kolonel Dusartplein\, Hasselt\, 3500
ATTACH;FMTTYPE=image/jpeg:https://www.socialekalender.be/wp-content/uploads/2022/02/kringlopen-12.21-1.jpg
END:VEVENT
BEGIN:VEVENT
DTSTART;TZID=Europe/Brussels:20220720T100000
DTEND;TZID=Europe/Brussels:20220720T130000
DTSTAMP:20260420T172850
CREATED:20220616T092208Z
LAST-MODIFIED:20220616T092208Z
UID:7178-1658311200-1658322000@www.socialekalender.be
SUMMARY:Meer met minder (openluchttheater)
DESCRIPTION:Theatergezelschap Compagnie Tartaren komt naar Genk met het stuk ‘meer-minder’. Hierin vertellen de acteurs verhalen over hoe je met minder meer uit het leven haalt. Denk aan tiny houses\, ontspullen of al je bezittingen in één rugzak laten passen. Denk ook aan kiezen\, less is more en ont-moeten. Bewuste keuze\, noodzaak of filosofie? Het antwoord wordt gehaald uit de persoonlijke voorkeuren van de spelers.
URL:https://www.socialekalender.be/evenement/meer-met-minder-openluchttheater/
LOCATION:C-Mine\, C-Mine 10\, Genk\, Limburg\, 3600\, België
ATTACH;FMTTYPE=image/jpeg:https://www.socialekalender.be/wp-content/uploads/2022/06/compagnie-tartaren.jpg
END:VEVENT
BEGIN:VEVENT
DTSTART;TZID=Europe/Brussels:20220723T071500
DTEND;TZID=Europe/Brussels:20220723T190000
DTSTAMP:20260420T172850
CREATED:20220629T150947Z
LAST-MODIFIED:20220629T150947Z
UID:7194-1658560500-1658602800@www.socialekalender.be
SUMMARY:Uitstap: Grote Moskee\, Hortapaviljoen en Molenbeek
DESCRIPTION:In de voormiddag brengen we een bezoek aan De Grote Moskee in het Brusselse Jubelpark. Deze moskee heeft een lange en bewogen geschiedenis achter de rug. Een gids geeft ons meer uitleg. Naast de moskee ligt het Hortapaviljoen\, ontworpen door architect Victor Horta. Hier is ‘De menselijke driften’ te zien\, een reliëf van kunstenaar Jef Lambeaux. Samen met een gids ontdekken we het paviljoen. In de namiddag brengen we een bezoek aan Molenbeek. Een gids laat ons een andere kant zien van deze beruchte wijk. Begeleider: Sam Stefani. Afspraak stipt om 07:15 in de inkomhal van het station van Hasselt. Treintickets\, metrotickets en gidsprijzen zijn begrepen in de deelnameprijs. Middagmaal is niet begrepen. Tip: neem je eigen lunch mee. Kortingen mogelijk (zie website).
URL:https://www.socialekalender.be/evenement/uitstap-grote-moskee-hortapaviljoen-en-molenbeek/
ATTACH;FMTTYPE=image/jpeg:https://www.socialekalender.be/wp-content/uploads/2022/06/Grote-Moskee.jpg
END:VEVENT
BEGIN:VEVENT
DTSTART;TZID=Europe/Brussels:20220724T103000
DTEND;TZID=Europe/Brussels:20220724T103000
DTSTAMP:20260420T172850
CREATED:20220710T141520Z
LAST-MODIFIED:20220710T141520Z
UID:7246-1658658600-1658658600@www.socialekalender.be
SUMMARY:Processie in Godsheide
DESCRIPTION:De sacramentsprocessie ging voor de eerste keer uit in 1855. Nu 67 jaar later blijft deze oude traditie verder leven. De parochiekerk kreeg bij de inwijding de naam Kerk Onze-Lieve -Vrouw Bezoeking. Naast Onze-Lieve-Vrouw werd ook de Heilige Odilia vereerd. Zij werd aanroepen tegen koorts\, vallende ziekte en vooral oogproblemen. 18 juli was de feestdag van de Heilige Odilia en het begin van het octaaf.  De zondag erop was het feest in het dorp met kermis en familiebijeenkomsten. Na de mis ging de feestelijke processie uit. Zowel het Heilig Sacrament (het beeld van Maria) als de relikwieën van de Heilige Odilia werden meegedragen. Ook nu nog wordt deze traditie in ere gehouden en zal op zondag 24 juli de processie om 10.30u aan de parochiekerk vertrekken.  De Koninklijke Harmonie Demergalm stapt voorop. Hierna volgen de vlaggen van de verenigingen van Godsheide. De scoutsgroep draagt het beeld van Onze-Lieve-Vrouw en het baldakijn met het Heilig Sacrament. Voor het eerst en als het weer het toelaat wordt er achteraf een receptie georganiseerd in de tuin van de pastorie. Vanzelfsprekend is iedereen hartelijk welkom.
URL:https://www.socialekalender.be/evenement/processie-in-godsheide/
LOCATION:Kerk van Godsheide\, Kiezelstraat 132\, Hasselt\, Limburg\, 3500\, België
ATTACH;FMTTYPE=image/jpeg:https://www.socialekalender.be/wp-content/uploads/2022/07/processie-Godsheide.jpg
END:VEVENT
END:VCALENDAR