BEGIN:VCALENDAR
VERSION:2.0
PRODID:-//Sociale Kalender - ECPv6.2.9//NONSGML v1.0//EN
CALSCALE:GREGORIAN
METHOD:PUBLISH
X-WR-CALNAME:Sociale Kalender
X-ORIGINAL-URL:https://www.socialekalender.be
X-WR-CALDESC:Evenementen voor Sociale Kalender
REFRESH-INTERVAL;VALUE=DURATION:PT1H
X-Robots-Tag:noindex
X-PUBLISHED-TTL:PT1H
BEGIN:VTIMEZONE
TZID:Europe/Brussels
BEGIN:DAYLIGHT
TZOFFSETFROM:+0100
TZOFFSETTO:+0200
TZNAME:CEST
DTSTART:20220327T010000
END:DAYLIGHT
BEGIN:STANDARD
TZOFFSETFROM:+0200
TZOFFSETTO:+0100
TZNAME:CET
DTSTART:20221030T010000
END:STANDARD
END:VTIMEZONE
BEGIN:VEVENT
DTSTART;TZID=Europe/Brussels:20220803T100000
DTEND;TZID=Europe/Brussels:20220803T170000
DTSTAMP:20260420T142536
CREATED:20220710T143312Z
LAST-MODIFIED:20220710T143312Z
UID:7261-1659520800-1659546000@www.socialekalender.be
SUMMARY:Tentoonstelling over Phil Bosmans
DESCRIPTION:Op 1 juli is het precies 100 jaar geleden dat Phil Bosmans in Gruitrode werd geboren. De bekende pater en schrijver\, maar voornamelijk de bezieler achter Bond Zonder Naam\, overleed tien jaar geleden in het Antwerpse Mortsel. De kerkraad van Gruitrode grijpt de verjaardagsherdenking aan om tot eind 2023 de schijnwerpers op hem te richten. In de Sint-Gertrudiskerk ging zopas een eerste tentoonstelling open over het leven van de beroemde montfortaan. Ze toont tot eind 2022 hoe Phil Bosmans opgroeide in een boerengezin en studeerde aan het college van Rotselaar. Het was de ellende van de oorlog die zijn keuze als priester bepaalde. Ervoor droomde hij van een carrière als wielrenner en wilde hij in de voetstappen treden van zijn idolen Romain en Syvère Maes. De oorlog confronteerde de jonge Bosmans zodanig met armoede\, lijden en dood dat hij als priester aan de kant van de ‘kleine man’ wilde staan. Zes jaar later stortte hij volledig in\, geveld door een bloedziekte. Na zijn herstel zette zijn voormalige leraar Willy Loop hem ertoe aan om met de Bond Zonder Naam te starten. En dat is meteen het startpunt voor een tweede tentoonstelling die zal lopen doorheen het jaar  2023. De tentoonstelling is vrij te bezoeken in de parochiekerk op zaterdag\, zondag en woensdag\, telkens van 10 tot 17u.
URL:https://www.socialekalender.be/evenement/tentoonstelling-over-phil-bosmans/
LOCATION:Sint-Gertrudiskerk\, Heppeneert z/n\, Maaseik\, Limburg\, 3680\, België
ATTACH;FMTTYPE=image/jpeg:https://www.socialekalender.be/wp-content/uploads/2022/07/Phil-Bosmans.jpg
END:VEVENT
BEGIN:VEVENT
DTSTART;TZID=Europe/Brussels:20220806T100000
DTEND;TZID=Europe/Brussels:20220806T160000
DTSTAMP:20260420T142536
CREATED:20220710T100545Z
LAST-MODIFIED:20220710T100545Z
UID:7233-1659780000-1659801600@www.socialekalender.be
SUMMARY:Merwt\, de Hasseltse boerenmarkt
DESCRIPTION:Sinds kort is deze markt met boeren\, producenten en cateraars uit de buurt weer van start gegaan. Je vindt er proevertjes (eten en drinken)\, maar je kan er ook ontbijten en lunchen. Natuurlijk vind je er voorts een brede keuze voor je inkopen\, volgens het principe LEF: lokaal\, ecologisch en fair. Vanaf 5 februari weer elke eerste zaterdag van de maand.
URL:https://www.socialekalender.be/evenement/merwt-de-hasseltse-boerenmarkt-3/
LOCATION:Molenpoortplein\, Hasselt\, limburg\, 3500\, België
ATTACH;FMTTYPE=image/jpeg:https://www.socialekalender.be/wp-content/uploads/2021/12/merwt1.jpg
END:VEVENT
BEGIN:VEVENT
DTSTART;TZID=Europe/Brussels:20220806T110000
DTEND;TZID=Europe/Brussels:20220806T150000
DTSTAMP:20260420T142536
CREATED:20220713T122044Z
LAST-MODIFIED:20220713T122044Z
UID:7276-1659783600-1659798000@www.socialekalender.be
SUMMARY:Herdenking Hiroshima en Nagasaki
DESCRIPTION:Pax Christi herdenkt de slachtoffers van de atoombommen op Hiroshima en Nagasaki. Om 11u en om 13u vertrekt aan de kassa de verhalenwandeling “De witte kraanvogels”. Van 12u tot 15u loopt er in het glazen paviljoen (Okando) een workshop origami (papieren kraanvogels plooien). Om 12u is er een taiko-optreden (grote trom)\, gevolgd door een initiatie. Stiltecirkels om 12.45u en om 15u. Voor het volledige programma zie https://www.visithasselt.be/nl/japanse-tuin/origami-voor-de-vrede.
URL:https://www.socialekalender.be/evenement/herdenking-hiroshima-en-nagasaki-2/
LOCATION:Japanse tuin\, Gouverneur Verwilghensingel 23\, Hasselt\, 3500
ATTACH;FMTTYPE=image/jpeg:https://www.socialekalender.be/wp-content/uploads/2022/07/origami.jpg
END:VEVENT
BEGIN:VEVENT
DTSTART;TZID=Europe/Brussels:20220810T133000
DTEND;TZID=Europe/Brussels:20220810T133000
DTSTAMP:20260420T142536
CREATED:20220411T133725Z
LAST-MODIFIED:20220411T133725Z
UID:6942-1660138200-1660138200@www.socialekalender.be
SUMMARY:Wandelgesprek in Meeuwen
DESCRIPTION:Elkaar ontmoeten\, samen wandelen en ondertussen genieten van de omgeving en een goed gesprek. Dat kan deugd doen! We wandelen 10 kilometer aan een gezapig tempo. Huis van de Mens Bree organiseert regelmatig wandelgesprekken\, telkens door een ander landschap\, afwisselend 5 en 10 km lang. Andere wandelingen vinden plaats op 15/6 en 13/7. Ook het Huis van de Mens Genk organiseert een wandelgesprek op 15/6.
URL:https://www.socialekalender.be/evenement/wandelgesprek-in-meeuwen/
LOCATION:Dorpermolen\, Dorpermolenstraat\, Oudsbergen\, Limburg\, 3670\, België
ATTACH;FMTTYPE=image/jpeg:https://www.socialekalender.be/wp-content/uploads/2022/04/wandelgesprek.jpg
END:VEVENT
BEGIN:VEVENT
DTSTART;TZID=Europe/Brussels:20220813T140000
DTEND;TZID=Europe/Brussels:20220813T150000
DTSTAMP:20260420T142536
CREATED:20220710T140801Z
LAST-MODIFIED:20220710T140801Z
UID:7238-1660399200-1660402800@www.socialekalender.be
SUMMARY:Dialecttroubadour Piet Stinckens op folkfestival van Ham
DESCRIPTION:Het folkfestival van Ham is een begrip geworden voor de liefhebbers van authentieke muziek. Het is ook een evenement dat inzet op lokale\, seizoensgebonden en biologische catering\, samenwerking met sociale en lokale verenigingen en duurzaam materialengebruik. Het is dan ook een eer voor de dialectorganisatie Veldeke Bels(j) Lmburg dat ze dit jaar Piet Stinckens kan laten optreden. Piet\, onscheidbaar van zijn gitaar\, weet bij elke luisteraar de gevoelige snaar te raken met zijn liedjes over de mooie en tragische kant van het leven. Piet maakt hierbij altijd gebruik van zijn moedertaal\, het Brees. Voor het volledige programma en meer info zie www.folkfestivalham.be.
URL:https://www.socialekalender.be/evenement/dialecttroubadour-piet-stinckens-op-folkfestival-van-ham/
LOCATION:tent aan Genebosstraat 4\, Genebosstraat 4\, Kwaadmechelen-Ham\, Limburg\, 3945
ATTACH;FMTTYPE=image/jpeg:https://www.socialekalender.be/wp-content/uploads/2022/07/Piet-Stinckens5.jpg
END:VEVENT
BEGIN:VEVENT
DTSTART;TZID=Europe/Brussels:20220814T100000
DTEND;TZID=Europe/Brussels:20220814T170000
DTSTAMP:20260420T142536
CREATED:20220801T135058Z
LAST-MODIFIED:20220801T135058Z
UID:7336-1660471200-1660496400@www.socialekalender.be
SUMMARY:Vrijmetselarij (tentoonstelling)
DESCRIPTION:Onder de noemer “Boeddha in de tempel van Salomon” gaat deze tentoonstelling op zoek naar de bronnen van de symbolen en ritualen uit de vrijmetselarij\, die vaak ontleend zijn aan religieuze en andere levensbeschouwelijke tradities. Met objecten uit binnen- en buitenland. Tot 14 augustus elke dag te bezoeken van 10 tot 17u.
URL:https://www.socialekalender.be/evenement/vrijmetselarij-tentoonstelling/
LOCATION:universiteitsbibliotheek\, Ladeuzeplein 21\, Leuven\, Vlaams Brabant\, 3000\, België
ATTACH;FMTTYPE=image/jpeg:https://www.socialekalender.be/wp-content/uploads/2022/08/vrijmetselarij.jpg
END:VEVENT
BEGIN:VEVENT
DTSTART;TZID=Europe/Brussels:20220819T140000
DTEND;TZID=Europe/Brussels:20220819T140000
DTSTAMP:20260420T142536
CREATED:20220605T180646Z
LAST-MODIFIED:20220605T180646Z
UID:7155-1660917600-1660917600@www.socialekalender.be
SUMMARY:Colorafestival
DESCRIPTION:Op vrijdag 19\, zaterdag 20 en zondag 21 augustus verwelkomen we jullie graag in park De Bruul voor de 32ste editie van het Colora Festivalweekend. Het is een festival geschikt voor jong en oud\, georganiseerd door Masereelfonds Leuven\, Internationaal Comité vzw\, KNEPH Collectief en VLOER 1\, in samenwerking met Stad Leuven. Een reis rond de wereld met tal van muzikale ontdekkingen\, briljante circusshows\, spetterende vuurshows en nog veel meer. Meer informatie en programma: www.colora.org.
URL:https://www.socialekalender.be/evenement/colorafestival/
LOCATION:Park de Bruul\, Raoul Claesstraat\, Leuven\, Limburg\, 3000\, België
ATTACH;FMTTYPE=image/png:https://www.socialekalender.be/wp-content/uploads/2022/06/colora.png
END:VEVENT
BEGIN:VEVENT
DTSTART;TZID=Europe/Brussels:20220820T210000
DTEND;TZID=Europe/Brussels:20220820T210000
DTSTAMP:20260420T142536
CREATED:20220131T141433Z
LAST-MODIFIED:20220131T141433Z
UID:6591-1661029200-1661029200@www.socialekalender.be
SUMMARY:Vleermuizenwandeling
DESCRIPTION:De Asserse afdeling van Natuurpunt schafte zich enkele jaren geleden een batdetector aan. Met dit toestel kunnen we de ultrasone geluiden van vleermuizen verschuiven naar voor de mens hoorbare toonhoogtes\, en de soort determineren via het internet. Het werd op 29 juni 2019 uitgetest\, tijdens een wandeling aan de terril. In een half uur werden maar liefst zeven soorten vleermuizen gehoord. Op 17 augustus werden nog twee bijkomende soorten waargenomen aan de plas bij het natuurreservaat Heiderbos. As is dus uitzonderlijk rijk aan deze nachtdieren. Op 20 augustus gaan we verder op onderzoek.
URL:https://www.socialekalender.be/evenement/vleermuizenwandeling/
LOCATION:GC De Drieschaar\, Schuttenbergstraat 2\, As\, 3665
ATTACH;FMTTYPE=image/jpeg:https://www.socialekalender.be/wp-content/uploads/2022/01/vleermuis.jpg
END:VEVENT
BEGIN:VEVENT
DTSTART;TZID=Europe/Brussels:20220824T140000
DTEND;TZID=Europe/Brussels:20220824T160000
DTSTAMP:20260420T142536
CREATED:20220704T145229Z
LAST-MODIFIED:20220704T145229Z
UID:7222-1661349600-1661356800@www.socialekalender.be
SUMMARY:Bezoek aan voedselbos Achel
DESCRIPTION:Sinds 2019 is men in Hamont-Achel begonnen met het omvormen van een verwilderd stukje bos in Natura 2000-gebied tot voedselbos. Op ruim 0\,5 ha is nu een educatief\, natuurlijk en grotendeels inheems voedselbos gerealiseerd. Het is bedoeld om iedereen bewust te maken van de rijkdom en waarde van de natuur en om je de unieke kringloop en samenhang te leren van eetbare natuur voor mens en dier. Tijdens ons bezoek worden de principes toegelicht en besproken; ze kunnen als inspiratie en basis dienen voor verandering in de landbouw. De aanleg van het voedselbos gebeurde in overleg en samenwerking met de Stad Hamont-Achel\, het Agentschap voor Natuur en Bos en Regionaal Landschap Lage Kempen. Recentelijk heeft de Provincie Limburg hiervoor een subsidie verleend. De rondleiding wordt begeleid door Tineke Niesten. Er zijn reducties mogelijk tot € 2\,20 (zie website). Zorg voor aangepaste kleding en schoeisel omwille van steekgrage insecten. De rondleiding is niet geschikt voor kinderen. Honden zijn niet toegelaten in het voedselbos.
URL:https://www.socialekalender.be/evenement/bezoek-aan-voedselbos-achel/
LOCATION:Parking tegenover De Bever\, Beverbekerdijk 50\, Achel\, Limburg\, 3930\, België
ATTACH;FMTTYPE=image/jpeg:https://www.socialekalender.be/wp-content/uploads/2022/07/voedselbos1.jpg
END:VEVENT
BEGIN:VEVENT
DTSTART;TZID=Europe/Brussels:20220824T210000
DTEND;TZID=Europe/Brussels:20220824T230000
DTSTAMP:20260420T142536
CREATED:20220813T124132Z
LAST-MODIFIED:20220813T124132Z
UID:7361-1661374800-1661382000@www.socialekalender.be
SUMMARY:De eik en zijn bewoners (docu in open lucht)
DESCRIPTION:Laurent Charbonnier maakte al eerder een film over het (kleine) biologische leven in de nabije natuur: Microcosmos -le peuple de l ‘herbe (1996). Met ‘Le chène et ses habitants’ (pas uit) zoomt hij in op de bewoners van een 210 jaar oude eik van 17 meter hoogte in het bos van Sologne. Vogels\, eekhoorns\, muizen\, insecten: ze komen allemaal aan bod doorheen de verschillende seizoenen. Zonder gesproken commentaar\, met muziek. 77 minuten. Liefst eigen stoeltje meebrengen.
URL:https://www.socialekalender.be/evenement/de-eik-en-zijn-bewoners-docu-in-open-lucht/
LOCATION:Stedelijk Domein Kiewit\, Putvennestraat 108\, Kiewit - Hasselt\, 3500\, België
ATTACH;FMTTYPE=image/jpeg:https://www.socialekalender.be/wp-content/uploads/2022/08/Eik.jpg
END:VEVENT
BEGIN:VEVENT
DTSTART;TZID=Europe/Brussels:20220827T140000
DTEND;TZID=Europe/Brussels:20220827T163000
DTSTAMP:20260420T142536
CREATED:20220710T142848Z
LAST-MODIFIED:20220710T142848Z
UID:7255-1661608800-1661617800@www.socialekalender.be
SUMMARY:Kruidenwandeling in pastorietuin Ham
DESCRIPTION:Gids Aline Sponholz van vzw Marjolein neemt je mee op een interessante wandeling langs allerlei kruiden en bloemen. Ze vertelt je over hun specifieke eigenschappen en wat je er allemaal mee kunt doen. Achteraf ben je ervan overtuigd dat onkruid niet bestaat. Kortingen mogelijk tot € 2\,20 (zie website).
URL:https://www.socialekalender.be/evenement/kruidenwandeling-in-pastorietuin-ham/
LOCATION:Oude Pastorie\, Pastoriestraat 5\, Ham\, Limburg\, 3945\, België
ATTACH;FMTTYPE=image/jpeg:https://www.socialekalender.be/wp-content/uploads/2022/07/pastorie-Ham.jpg
END:VEVENT
BEGIN:VEVENT
DTSTART;TZID=Europe/Brussels:20220828T140000
DTEND;TZID=Europe/Brussels:20220828T170000
DTSTAMP:20260420T142536
CREATED:20220713T122526Z
LAST-MODIFIED:20220713T122526Z
UID:7280-1661695200-1661706000@www.socialekalender.be
SUMMARY:Zomerafsluiting in Heempark
DESCRIPTION:Gevarieerd programma aan activiteiten: tuinsafari\, composteren\, dieren van Natuurhulpcentrum vrijlaten\,\,… Alle info op https://www.heempark.be/spetterende-zomerafsluiting.
URL:https://www.socialekalender.be/evenement/zomerafsluiting-in-heempark/
LOCATION:Heempark\, Hoogzij 7\, Genk\, 3600\, België
ATTACH;FMTTYPE=image/png:https://www.socialekalender.be/wp-content/uploads/2022/07/heempark.png
END:VEVENT
BEGIN:VEVENT
DTSTART;TZID=Europe/Brussels:20220829T133000
DTEND;TZID=Europe/Brussels:20220829T163000
DTSTAMP:20260420T142536
CREATED:20220629T154246Z
LAST-MODIFIED:20220629T154246Z
UID:7210-1661779800-1661790600@www.socialekalender.be
SUMMARY:Zomeruniversiteit over ethisch omgaan met actuele uitdagingen
DESCRIPTION:De vele veranderingen overweldigen ons met de ene ondenkbare crisis na de andere: pandemie\, oorlog\, klimaat. Elk levensdomein wordt hierdoor op de proef gesteld: gezondheidssysteem\, zorg\, sociaal leven\, arbeidsmarkt\, onderwijs\, … Hoe gaan we ethisch verantwoord om met deze actuele uitdagingen en inzichten? We verdiepen ons hierover tijdens de zomeruniversiteit in drie domeinen: economie & arbeidsmarkt\, zorg & welzijn\, energie & klimaat. Met o.a. prof. Dr. Wim Pinxten (UHasselt)\, Josefine Vanhille (UA)\, Katrien Ruytjens (Intervisor en docent ethiek)\, Jo Brouns (Vlaams minister van Economie\, Innovatie\, Werk\, Sociale economie en Landbouw)\, Vera Jans (Vlaams Parlementslid)\, Filip Vanlommel (Dir. De Winning)\, David Dessers (schepen van o.a. klimaat en duurzaamheid in Leuven). Driedaagse over maandag\, dinsdag en woensdag. Gratis\, maar inschrijven verplicht (liefst via website).
URL:https://www.socialekalender.be/evenement/zomeruniversiteit-over-ethisch-omgaan-met-actuele-uitdagingen/
LOCATION:Bewegingshuis\, Mgr. Broekxplein 6\, Hasselt\, 3500
ATTACH;FMTTYPE=image/jpeg:https://www.socialekalender.be/wp-content/uploads/2022/06/klimaatrechtvaardigheid-1.jpg
ORGANIZER;CN="Beweging.net Limburg":MAILTO:limburg@beweging.net
END:VEVENT
BEGIN:VEVENT
DTSTART;TZID=Europe/Brussels:20220831T090000
DTEND;TZID=Europe/Brussels:20220831T170000
DTSTAMP:20260420T142536
CREATED:20220801T133425Z
LAST-MODIFIED:20220801T133425Z
UID:7321-1661936400-1661965200@www.socialekalender.be
SUMMARY:Mens in de mijn (expo)
DESCRIPTION:Al sinds 1977 bezoekt fotograaf Leo van der Klej steenkoolmijnen in West-Europa en Japan\, vaak te voet of met de fiets. Hij gaat er in gesprek met de mensen. Dit is een overzichtstentoonstelling. Er zijn ook door de mijn geïnspireerde werken te bezichtigen van de studenten van de Academie Meylandt. Elke dag tot 31 augustus te bezichtigen van 9 tot 17u.
URL:https://www.socialekalender.be/evenement/mens-in-de-mijn-expo/
LOCATION:ZLDR Luchtfabriek\, Marktplein 5\, Zolder\, Limburg\, 3550\, België
ATTACH;FMTTYPE=image/jpeg:https://www.socialekalender.be/wp-content/uploads/2022/08/mijnwerker.jpg
END:VEVENT
BEGIN:VEVENT
DTSTART;TZID=Europe/Brussels:20220831T195000
DTEND;TZID=Europe/Brussels:20220831T195000
DTSTAMP:20260420T142536
CREATED:20220805T143047Z
LAST-MODIFIED:20220805T143047Z
UID:7344-1661975400-1661975400@www.socialekalender.be
SUMMARY:Zenmeditatie
DESCRIPTION:Deze meditatie vindt iedere woensdagavond plaats. Tweemaal een half uur zitmeditatie\, onderbroken door meditatief stappen (kinhin of wandelmeditatie). Er wordt dan ook samen naar een bezinnende tekst geluisterd. Achteraf wordt er nagepraat bij een kopje thee of koffie. Je hoeft niet vooraf te verwittigen. De ingang ligt achterom.
URL:https://www.socialekalender.be/evenement/zenmeditatie/
LOCATION:Siloam\, Holsteenweg 17\, Zonhoven\, 3520\, België
ATTACH;FMTTYPE=image/jpeg:https://www.socialekalender.be/wp-content/uploads/2022/08/zen-siloam.jpg
END:VEVENT
END:VCALENDAR