BEGIN:VCALENDAR
VERSION:2.0
PRODID:-//Sociale Kalender - ECPv6.2.9//NONSGML v1.0//EN
CALSCALE:GREGORIAN
METHOD:PUBLISH
X-ORIGINAL-URL:https://www.socialekalender.be
X-WR-CALDESC:Evenementen voor Sociale Kalender
REFRESH-INTERVAL;VALUE=DURATION:PT1H
X-Robots-Tag:noindex
X-PUBLISHED-TTL:PT1H
BEGIN:VTIMEZONE
TZID:Europe/Brussels
BEGIN:DAYLIGHT
TZOFFSETFROM:+0100
TZOFFSETTO:+0200
TZNAME:CEST
DTSTART:20220327T010000
END:DAYLIGHT
BEGIN:STANDARD
TZOFFSETFROM:+0200
TZOFFSETTO:+0100
TZNAME:CET
DTSTART:20221030T010000
END:STANDARD
END:VTIMEZONE
BEGIN:VEVENT
DTSTART;TZID=Europe/Brussels:20221201T193000
DTEND;TZID=Europe/Brussels:20221201T213000
DTSTAMP:20260420T050313
CREATED:20221104T150531Z
LAST-MODIFIED:20221104T150531Z
UID:7692-1669923000-1669930200@www.socialekalender.be
SUMMARY:Boeddhistische meditatiekring
DESCRIPTION:Iedere eerste donderdag van de maand begeleidt Johan Jacques een meditatiekring in Lanaken. De aanwezigen zitten twee keer dertig minuten in meditatie\, afgewisseld met kinhin (wandelmeditatie). Johan geeft ook een kort onderricht over een thema binnen het boeddhisme. Na de metta chant en luisterkring volgt er nog een samenzijn met een drankje.
URL:https://www.socialekalender.be/evenement/boeddhistische-meditatiekring/
LOCATION:Johan Jacques\, Bessemerstraat 95/1\, Lanaken\, Limburg\, 3620\, België
ATTACH;FMTTYPE=image/jpeg:https://www.socialekalender.be/wp-content/uploads/2022/11/Johan-Jacques-med.jpg
END:VEVENT
BEGIN:VEVENT
DTSTART;TZID=Europe/Brussels:20221202T183000
DTEND;TZID=Europe/Brussels:20221202T183000
DTSTAMP:20260420T050313
CREATED:20221123T131416Z
LAST-MODIFIED:20221123T131416Z
UID:7745-1670005800-1670005800@www.socialekalender.be
SUMMARY:Palestina\, journalistiek en fake news
DESCRIPTION:Journalisten die kritisch zijn voor de bezetting worden al langer geviseerd. We gaan hier dieper op in door te focussen op de moord op de Palestijnse journaliste Shireen Abu Akleh. Panelgesprek met Willem Staes (11.11.11)\, Tine Danckaerts (Mo*) en Sinan Oguzcan (Palestina Solidariteit) als moderator. Deuren open om 18u. Vanaf 21u nababbelen bij een Palestijns marktje.
URL:https://www.socialekalender.be/evenement/palestina-journalistiek-en-fake-news/
LOCATION:Universiteit Hasselt\, Campus Oude Gevangenis\, Martelarenlaan 42\, Hasselt\, 3500\, België
ATTACH;FMTTYPE=image/jpeg:https://www.socialekalender.be/wp-content/uploads/2022/11/Shireen-Abu-Akleh.jpg
END:VEVENT
BEGIN:VEVENT
DTSTART;TZID=Europe/Brussels:20221202T190000
DTEND;TZID=Europe/Brussels:20221202T190000
DTSTAMP:20260420T050313
CREATED:20221128T132904Z
LAST-MODIFIED:20221128T132904Z
UID:7764-1670007600-1670007600@www.socialekalender.be
SUMMARY:Franciscuswake met sleepover in Borgloon
DESCRIPTION:Jongeren van 12 tot 18 jaar komen samen om een nacht door te brengen in de bekende kerk van Borgloon\, om er in stilte te verblijven\, te bidden of te slapen. Je mag (behalve als je wil wakker blijven) altijd een slaapzak of veldbed meebrengen. Van 19u vrijdagavond tot 10u zaterdagmorgen.
URL:https://www.socialekalender.be/evenement/franciscuswake-met-sleepover-in-borgloon/
LOCATION:Sint-Odulphuskerk\, Speelplein 12\, 3840 Borgloon\, Speelplein 12\, Borgloon\, Limburg\, 3840\, België
ATTACH;FMTTYPE=image/jpeg:https://www.socialekalender.be/wp-content/uploads/2022/11/kerk-Borgloon.jpg
END:VEVENT
BEGIN:VEVENT
DTSTART;TZID=Europe/Brussels:20221203T090000
DTEND;TZID=Europe/Brussels:20221203T163000
DTSTAMP:20260420T050313
CREATED:20221113T133400Z
LAST-MODIFIED:20221113T133400Z
UID:7709-1670058000-1670085000@www.socialekalender.be
SUMMARY:Studiedag over Simone Weil
DESCRIPTION:Simone Weil (° 1909\, Parijs) leefde zeer ascetisch en geëngageerd: ze was aanvankelijk een actieve communiste\, werkte een tijdlang aan de lopende band in een fabriek\, geraakte verzeild in de Spaanse burgeroorlog en tijdens oorlog II maakte ze deel uit van de Franse Résistance.  Maar ze was tegelijk erg kritisch tegenover al deze verzetsbewegingen omdat ze vastliepen in teveel eigenbelang en machtshonger. Haar eigen verzet was gedragen door een Platoonse mystiek van het absoluut goede. Hoewel agnostisch opgevoed\, noemde ze zich later een ‘christen buiten de kerk’. Ze stierf in 1942 in grote eenzaamheid in Engeland ten gevolge van uitputting\, eetstoornissen en tuberculose. Pas na haar dood werden haar vele uitdagende essays en teksten onder het impuls van Albert Camus gepubliceerd. Inschrijven door voorafbetaling en via formulier (zie www.spes-forum.be).
URL:https://www.socialekalender.be/evenement/studiedag-over-simone-weil/
LOCATION:Campus Heilig Hart\, Naamse Steenweg 355\, Heverlee-Leuven\, Vlaams Brabant\, 3001\, België
ATTACH;FMTTYPE=image/png:https://www.socialekalender.be/wp-content/uploads/2022/11/Simone-Weil.png
END:VEVENT
BEGIN:VEVENT
DTSTART;TZID=Europe/Brussels:20221203T100000
DTEND;TZID=Europe/Brussels:20221203T160000
DTSTAMP:20260420T050313
CREATED:20221026T093313Z
LAST-MODIFIED:20221101T093136Z
UID:7609-1670061600-1670083200@www.socialekalender.be
SUMMARY:Merwt\, de Hasseltse boerenmarkt
DESCRIPTION:Sinds begin 2022 is deze markt met boeren\, producenten en cateraars uit de buurt weer van start gegaan. Je vindt er proevertjes (eten en drinken)\, maar je kan er ook ontbijten en lunchen. Natuurlijk vind je er voorts een brede keuze voor je inkopen\, volgens het principe LEF: lokaal\, ecologisch en fair. Elke eerste zaterdag van de maand.
URL:https://www.socialekalender.be/evenement/merwt-de-hasseltse-boerenmarkt-5/
LOCATION:Capucienenplein\, (bij Maastrichterstraat)\, Hasselt\, 3500
ATTACH;FMTTYPE=image/jpeg:https://www.socialekalender.be/wp-content/uploads/2021/12/merwt1.jpg
END:VEVENT
BEGIN:VEVENT
DTSTART;TZID=Europe/Brussels:20221206T190000
DTEND;TZID=Europe/Brussels:20221206T213000
DTSTAMP:20260420T050313
CREATED:20221026T094202Z
LAST-MODIFIED:20221123T130841Z
UID:7615-1670353200-1670362200@www.socialekalender.be
SUMMARY:Rector Bernard Vanheusden over de Universiteit Hasselt
DESCRIPTION:“De samenleving verduurzamen. Gezondheid en welzijn stimuleren. De economie versterken. Onderwijskansen vergroten. Erfgoed bewaren. Als civic universiteit bouwen we met ons onderwijs\, onderzoek en dienstverlening mee aan een steeds sterkere regio. Klimaat\, duurzaamheid\, diversiteit\, digitalisering\, globalisering\, ongelijkheid… Deze uitdagingen doorprikken oude zekerheden en dwingen regeringen\, bedrijven\, organisaties en burgers om maatschappijen fors te her-denken. In zo’n complexe wereld wordt van – publiek gefinancierde – universiteiten terecht verwacht dat ze hun verantwoordelijkheid opnemen en zich engageren. Zich terugtrekken achter hoge muren is géén optie. Kennis delen\, is een must.”\n\nIn deze bewoordingen beschrijft de Universiteit van Hasselt haar missie als civic universiteit. Rector Bernard Vanheusden komt hierover in een breder kader spreken in zijn thuisbasis\, het auditorium Louis Verhaegen op de universitaire campus Oude Gevangenis in Hasselt (Martelarenlaan 42). Inkom: 5 euro (3 euro voor studenten\, werklozen en gepensioneerden). Inschrijven niet nodig. Let op het vervroegde aanvangsuur: 19u.
URL:https://www.socialekalender.be/evenement/rector-bernard-vanheusden-over-de-universiteit-hasselt/
LOCATION:Universiteit Hasselt\, Campus Oude Gevangenis\, Martelarenlaan 42\, Hasselt\, 3500\, België
ATTACH;FMTTYPE=image/jpeg:https://www.socialekalender.be/wp-content/uploads/2022/10/Bernard-Vanheusden.jpg
END:VEVENT
BEGIN:VEVENT
DTSTART;TZID=Europe/Brussels:20221207T190000
DTEND;TZID=Europe/Brussels:20221207T190000
DTSTAMP:20260420T050313
CREATED:20221113T132852Z
LAST-MODIFIED:20221113T132852Z
UID:7703-1670439600-1670439600@www.socialekalender.be
SUMMARY:Debat over terugkeer wilde dieren
DESCRIPTION:50 jaar milieuactie en natuurbehoud in Limburg\, dat moet natuurlijk gevierd worden! Daarom slaan Limburgs Landschap\, de Limburgse Milieukoepel en Natuurpunt Limburg de handen ineen en organiseren ze samen hét event van het jaar: een debat over de omstreden terugkeer van wilde diersoorten in Vlaanderen\, over de waarde van natuur en andere hete hangijzers in de actualiteit!  Dirk Draulans (bioloog\, journalist)\, Ignace Schops (directeur RLKM\, voorzitter BBL) en Valerie Del Re (directeur Greenpeace België) verdedigen de standpunten van de natuur- en milieubeschermers. Baron de Villenfagne\, Lotte Arkens (voorzitter Groene Kring Limburg\, boerin\, advocate)\, Thomas Linssen (melkveehouder\, jager) en anderen vertolken de visie van de jagers\, landbouwers en ondernemers. Francesca Vanthielen is moderator en legt de deelnemers het vuur aan de schenen! Inschrijven via www.limburgsemilieukoepel.be/activiteiten.
URL:https://www.socialekalender.be/evenement/debat-over-terugkeer-wilde-dieren/
LOCATION:CC De Muze\, Dekenstraat 40\, Heusden Zolder\, 3550\, België
ATTACH;FMTTYPE=image/jpeg:https://www.socialekalender.be/wp-content/uploads/2022/11/wolf-1.jpg
END:VEVENT
BEGIN:VEVENT
DTSTART;TZID=Europe/Brussels:20221208T193000
DTEND;TZID=Europe/Brussels:20221208T193000
DTSTAMP:20260420T050313
CREATED:20221117T101959Z
LAST-MODIFIED:20221117T101959Z
UID:7735-1670527800-1670527800@www.socialekalender.be
SUMMARY:Evoluties in eetcultuur van jongerenvakanties
DESCRIPTION:In het kader van de reeks “Auteurslezingen” presenteert de Academie voor Streekgebonden Gastronomie deze uiteenzetting van Gerda Broeckmans. Zij geeft een uiteenzetting over wat jongeren aten en eten tijdens de jeugdkampen van de Christelijke Mutualiteit\, en of dat in het verlengde ligt van het dagdagelijkse eetpatroon thuis. Dit laatste was in elk geval de startvraag van mevr. Broeckmans voor haar afsluitende proef tot het behalen van haar master in de geschiedenis in 2019 aan de KU Leuven onder leiding van promotor prof. dr. Nelleke Teughels (Onderzoeksgroep Cultuurgeschiedenis vanaf 1750). \nWie een half uurtje vroeger komt\, kan kennismaken met het “Provenceaanbod” op basis van de lavendeloogst (ter plaatse gedistilleerd tot lavendel-essence) of lavendel die gebruikt wordt in badolie\, zepen\, lavendelkoekjes\, honing\, pralines\, likeur\, jenever en sinds kort ook in de Lavendel Gin.
URL:https://www.socialekalender.be/evenement/evoluties-in-eetcultuur-van-jongerenvakanties/
LOCATION:Lavendelhoeve\, Olmenbosstraat 25\, Stokrooi-Hasselt\, Limburg\, 3511\, België
ATTACH;FMTTYPE=image/jpeg:https://www.socialekalender.be/wp-content/uploads/2022/11/bivak-koken.jpg
END:VEVENT
BEGIN:VEVENT
DTSTART;TZID=Europe/Brussels:20221209T093000
DTEND;TZID=Europe/Brussels:20221209T130000
DTSTAMP:20260420T050313
CREATED:20221031T144704Z
LAST-MODIFIED:20221031T144704Z
UID:7640-1670578200-1670590800@www.socialekalender.be
SUMMARY:Colloquium n.a.v. Jaarboek Armoede
DESCRIPTION:De Universitaire Stichting Armoedebestrijding (UAntwerpen) stelt het (31ste) Jaarboek Armoede en Sociale Uitsluiting 2022 voor. Dit jaar staat het boek in het teken van migratie en armoede\, en is het kader iets mondialer. Met Jill Coene (USAB)\, Lore Van Praag (URotterdam)\, Els Hertogen (directeur 11.11.11) en panelgesprek. Afsluiting met een receptie. Inschrijven kan via www.usab.be.
URL:https://www.socialekalender.be/evenement/colloquium-n-a-v-jaarboek-armoede/
LOCATION:aula M.001\, UAntwerpen\, Sint-Jacobsstraat 2\, Antwerpen\, Antwerpen\, 2000\, België
ATTACH;FMTTYPE=image/jpeg:https://www.socialekalender.be/wp-content/uploads/2022/10/armoede-jaarboek-2.jpg
END:VEVENT
BEGIN:VEVENT
DTSTART;TZID=Europe/Brussels:20221209T200000
DTEND;TZID=Europe/Brussels:20221209T200000
DTSTAMP:20260420T050313
CREATED:20221113T134421Z
LAST-MODIFIED:20221113T134421Z
UID:7715-1670616000-1670616000@www.socialekalender.be
SUMMARY:Voorstelling Bilzers woordenboek\, deel 1
DESCRIPTION:Op de laatste dag van de tentoonstelling “Kalle ès zilver\, sjrijve ès good” wordt het eerste deel van het Bilzers woordenboek voorgesteld (tot de letter M). Auteur Patrick Slechten geeft een inleiding\, André Vandoren doet een uiteenzetting over de Bilzerse taal. Het boek telt 800 bladzijden. Het kan deze avond ook meegenomen worden na voorinschrijving aan de prijs van € 35\, te storten op rekening BE88 4527 0821 9141 t.n.v. BILISIUM vzw.\, Kloosterstraat 12\, 3740 Bilzen met vermelding ‘Bilzers woordenboek’.
URL:https://www.socialekalender.be/evenement/voorstelling-bilzers-woordenboek-deel-1/
LOCATION:Bibliotheek De Kimpel\, Eikenlaan 23\, Bilzen\, 3740
ATTACH;FMTTYPE=image/jpeg:https://www.socialekalender.be/wp-content/uploads/2022/11/bilzers-woordenboek-1.jpg
END:VEVENT
BEGIN:VEVENT
DTSTART;TZID=Europe/Brussels:20221210T150000
DTEND;TZID=Europe/Brussels:20221210T150000
DTSTAMP:20260420T050313
CREATED:20221128T133733Z
LAST-MODIFIED:20221128T133733Z
UID:7778-1670684400-1670684400@www.socialekalender.be
SUMMARY:Duurzaamheidswandeling Hasselt
DESCRIPTION:Deze begeleide wandeling loopt over 4\,5 km en doet 17 durzame projecten aan. Start en aankomst aan Vrijzinnig Punt\, met om 17u afsluiting met een drankje. De opbrengst gaat naar De Warmste Week. Met gids van Centrum voor Milieukunde. Inschrijven doe je hier.
URL:https://www.socialekalender.be/evenement/duurzaamheidswandeling-hasselt/
LOCATION:Vrijzinnig Punt en Boekhandel Grim
ATTACH;FMTTYPE=image/jpeg:https://www.socialekalender.be/wp-content/uploads/2022/11/duurzaam.jpg
END:VEVENT
BEGIN:VEVENT
DTSTART;TZID=Europe/Brussels:20221212T193000
DTEND;TZID=Europe/Brussels:20221212T220000
DTSTAMP:20260420T050313
CREATED:20221123T134700Z
LAST-MODIFIED:20221123T134700Z
UID:7756-1670873400-1670882400@www.socialekalender.be
SUMMARY:meditatie in traditie van Soto Zen
DESCRIPTION:Vanaf begin september gaan ook de zensessies in Godsheide weer van start. Centraal staat het zazen of de zitmeditatie\, op een kussen (op een bankje of een stoel kan ook). Dit gebeurt in een open en gastvrije groep van medebeoefenaars\, de sangha\, waarin iedere gemotiveerde zoeker\, van welke levensbeschouwing ook\, kan ’thuiskomen’. In deze groep wordt Soto Zen beoefend\, dit is de grootste zenschool in Japan met een traditie die teruggaat naar Dogen Zenji (1200-1253). De meditatie bestaat uit twee keer 35′ zazen\, afgewisseld met 10′ kinhin (wandelmeditatie). Nadien is er een korte ceremonie en een vragenronde. Je draagt best sobere en losse kledij in niet te felle kleuren (vb een training). Meditatiekussens en -matten zijn ter plaatse beschikbaar.  Deze zenmeditaties vinden elke maandag plaats in een achterliggend en losstaand paviljoen van Bethanië Godsheide\, Brugbemdenstraat 1\, 3500 Hasselt (dit is het vroegere bezinningscentrum van de jezuïeten). De toegangsweg naar de gebouwen ligt aan het kanaal in Godsheide. Het paviljoen ligt vlakbij de grote personeelsparking achteraan. De meditatie wordt begeleid door de zenmonnik Marc Journée (midden op de foto). Voor een sessie wordt er een bijdrage van € 8 gevraagd. Gelieve voor je eerste sessie vooraf contact op te nemen op onderstaand telefoonnummer.
URL:https://www.socialekalender.be/evenement/meditatie-in-traditie-van-soto-zen-3/
LOCATION:Bethanië Godsheide\, Brugbemdenstraat 1\, Hasselt\, 3500\, België
ATTACH;FMTTYPE=image/jpeg:https://www.socialekalender.be/wp-content/uploads/2022/11/Marc-Journée-en-Tokuda-1.jpg
ORGANIZER;CN="zenvereniging Gyoji":MAILTO:marc.journee@gmail.com
END:VEVENT
BEGIN:VEVENT
DTSTART;TZID=Europe/Brussels:20221217T130000
DTEND;TZID=Europe/Brussels:20221217T130000
DTSTAMP:20260420T050313
CREATED:20221128T133309Z
LAST-MODIFIED:20221128T133309Z
UID:7772-1671282000-1671282000@www.socialekalender.be
SUMMARY:Tijd tot 2024: samen tegen polarisatie
DESCRIPTION:De trend lijkt gezet: extreemrechts blijft stijgen in de peilingen en in het publieke debat verscherpen de tegenstellingen. Bruggenbouwers kijken het vaak met lede ogen aan\, verlamd door een gevoel van machteloosheid. Tijd om aan de slag te gaan! Op zaterdag 17 december gaan we in C-Mine Genk van start met een panelgesprek met Jihad Van Puymbroeck ( communicatiestrateeg)\, Meron Knikman (voorzitter van de Vrouwenraad) en Bleri Lleshi (auteur en docent). Na het panelgesprek vinden er drie werkgroepen plaats die je tools aanreiken om in je omgeving toxische polarisatie en extreemrechts tegen te gaan. Een initiatief van Motief vzw\, samen met 15 andere organisaties waaropnder de Universiteit voor het Maatschappelijk Belang.
URL:https://www.socialekalender.be/evenement/tijd-tot-2024-samen-tegen-polarisatie/
LOCATION:C-Mine\, C-Mine 10\, Genk\, Limburg\, 3600\, België
ATTACH;FMTTYPE=image/jpeg:https://www.socialekalender.be/wp-content/uploads/2022/11/polarisatie2.jpg
END:VEVENT
BEGIN:VEVENT
DTSTART;TZID=Europe/Brussels:20221219T100000
DTEND;TZID=Europe/Brussels:20221219T100000
DTSTAMP:20260420T050313
CREATED:20221208T162903Z
LAST-MODIFIED:20221208T162903Z
UID:7788-1671444000-1671444000@www.socialekalender.be
SUMMARY:Luc Vankrunkelsven stelt boek voor
DESCRIPTION:Luc Vankrunkelsven (° Diest\, 1956) werd in 1974 kloosterling in de abdij van Averbode en begon filosofie en theologie te studeren. In 1983 werd hij medewerker (en later directeur) van vormingscentrum Thagaste en het bezinningscentrum van de abdij van Averbode. Zo werd in 1985 vanuit een dag rond “Religieuzen en geld” Oever gesticht (het Overleg Ethisch Vermogensbeheer Religieuzen).  In 1986 ging Vankrunkelsven met Getuigen voor Vrede in de Verenigde Staten mee in dialoog over de oorlogen in Midden-Amerika. In 1987 begon hij met Vasten voor Vrede\, jaarlijkse vastenweekends rond de verjaardag van de moord op Mahatma Gandhi. Van 1989 tot 1990 was hij medewerker bij Pax Christi Vlaanderen. In 1990 lanceerde hij in opvolging van een bezinningsweekend met boeren en de Nederlandse priester en politicus Herman Verbeek de tot op vandaag actieve Wervel vzw\, Beweging voor een gezonde landbouw. Op deze voormiddag zal hij het vooral hebben over zijn nieuwste boek ‘Vernietiging en herstel’. Niet alleen ecosystemen worden aangevallen; volkeren worden verjaagd\, vermoord of vergiftigd. De Cerrado in Brazilië wordt vooral vernietigd voor monocultuur soja richting Europa en China. Rotterdam is de belangrijkste aanvoerhaven van deze soja voor het veevoer in Nederland en Vlaanderen. Terwijl in beide landen een hevig stikstofdebat woedt\, wordt vergeten dat het stikstofprobleem vooral te maken heeft met de import van overzeese soja. Vernietiging is wereldwijd. Er wordt niet alleen in Brazilië veel vernietigd. Het is helaas een fenomeen waar we als Europeanen – dikwijls onzichtbaar – mee te maken hebben\, ook al beseffen we het niet. Luc is ook in gesprek met vele organisaties die aan herstel werken. Herstel van het bodemleven is hierin cruciaal. Daarom eindigt het boek met een gesprek met agro-ecoloog Jeroen Watté van Wervel over het belang van herstel van de bodem.
URL:https://www.socialekalender.be/evenement/luc-vankrunkelsven-stelt-boek-voor/
LOCATION:Huis Ulburghs\, Sint-Annastraat 7\, Zolder\, 3550\, België
ATTACH;FMTTYPE=image/jpeg:https://www.socialekalender.be/wp-content/uploads/2022/12/Luc-Vankrunkelsven.jpg
END:VEVENT
BEGIN:VEVENT
DTSTART;TZID=Europe/Brussels:20221219T110000
DTEND;TZID=Europe/Brussels:20221219T110000
DTSTAMP:20260420T050313
CREATED:20221208T162312Z
LAST-MODIFIED:20221208T162312Z
UID:7784-1671447600-1671447600@www.socialekalender.be
SUMMARY:Leven in harmonie met de natuur
DESCRIPTION:Webinar met Matthijs Schouten\, bijzonder hoogleraar ecologie en filosofie van het natuurherstel aan de Universiteit van Wageningen en tevens boeddhistisch leraar. Volgens Schouten heeft de ecologische crisis vooral te maken met de vragen: wie denken wij mensen te zijn op deze planeet? En wat zullen we moeten worden om een duurzame toekomst op deze aarde te creëren voor onszelf en alle andere schepsels? Schouten ziet wereldwijd een kentering: meer en meer mensen realiseren zich dat ze deel uitmaken van de natuurlijke leefwereld en dat de natuur niet louter bestaat als gebruiksvoorwerp en als voorraadschuur van de mens. Zo is die eeuwenlang wel beschouwd. Die kanteling stemt Schouten hoopvol. Zo kunnen we langzamerhand natuurlijke mensen worden die de aarde niet langer uitputten\, maar in harmonie ermee leven. Meer info en inschrijven via https://www.grootoudersvoorhetklimaat.be/agenda/
URL:https://www.socialekalender.be/evenement/leven-in-harmonie-met-de-natuur/
LOCATION:ONLINE
ATTACH;FMTTYPE=image/jpeg:https://www.socialekalender.be/wp-content/uploads/2022/12/Matthijs-Schouten.jpg
END:VEVENT
END:VCALENDAR