BEGIN:VCALENDAR
VERSION:2.0
PRODID:-//Sociale Kalender - ECPv6.2.9//NONSGML v1.0//EN
CALSCALE:GREGORIAN
METHOD:PUBLISH
X-WR-CALNAME:Sociale Kalender
X-ORIGINAL-URL:https://www.socialekalender.be
X-WR-CALDESC:Evenementen voor Sociale Kalender
REFRESH-INTERVAL;VALUE=DURATION:PT1H
X-Robots-Tag:noindex
X-PUBLISHED-TTL:PT1H
BEGIN:VTIMEZONE
TZID:Europe/Brussels
BEGIN:DAYLIGHT
TZOFFSETFROM:+0100
TZOFFSETTO:+0200
TZNAME:CEST
DTSTART:20230326T010000
END:DAYLIGHT
BEGIN:STANDARD
TZOFFSETFROM:+0200
TZOFFSETTO:+0100
TZNAME:CET
DTSTART:20231029T010000
END:STANDARD
END:VTIMEZONE
BEGIN:VEVENT
DTSTART;TZID=Europe/Brussels:20230201T130000
DTEND;TZID=Europe/Brussels:20230201T160000
DTSTAMP:20260419T234842
CREATED:20221208T165111Z
LAST-MODIFIED:20221208T165111Z
UID:7811-1675256400-1675267200@www.socialekalender.be
SUMMARY:Meertaligheid in de opvoeding
DESCRIPTION:De taalacademie rond meertaligheid en interculturele communicatie (Limburgs provinciebestuur) nodigt je uit op deze gespreksavond met Lieve Lenaerts (vormingscentrum HIVSET). Zij geeft praktijkvoorbeelden en toont hoe we van meertaligheid in de opvoeding een troef kunnen maken\, hoe we deze kunnen inzetten om de taalvaardigheid van jonge kinderen te verhogen. Ook de ouders komen aan bod in het verhaal. Meer informatie en inschrijven via http://onderwijs.limburg.be/taalacademie20230201.
URL:https://www.socialekalender.be/evenement/meertaligheid-in-de-opvoeding/
LOCATION:Provinciehuis (Boudewijnzaal)\, Universiteitslaan 1\, Hasselt\, 3500
ATTACH;FMTTYPE=image/jpeg:https://www.socialekalender.be/wp-content/uploads/2022/12/meertalig-opvoeden.jpg
END:VEVENT
BEGIN:VEVENT
DTSTART;TZID=Europe/Brussels:20230201T194500
DTEND;TZID=Europe/Brussels:20230201T194500
DTSTAMP:20260419T234842
CREATED:20230104T141531Z
LAST-MODIFIED:20230104T141531Z
UID:7852-1675280700-1675280700@www.socialekalender.be
SUMMARY:Zenmeditatie in Siloam
DESCRIPTION:Deze meditatie vindt iedere woensdagavond plaats. Tweemaal een half uur zitmeditatie\, onderbroken door meditatief stappen (kinhin of wandelmeditatie). Er wordt dan ook samen naar een bezinnende tekst geluisterd. Achteraf wordt er nagepraat bij een kopje thee of koffie. Je hoeft niet vooraf te verwittigen. De ingang ligt achterom.
URL:https://www.socialekalender.be/evenement/zenmeditatie-in-siloam/
LOCATION:Siloam\, Holsteenweg 17\, Zonhoven\, 3520\, België
ATTACH;FMTTYPE=image/jpeg:https://www.socialekalender.be/wp-content/uploads/2023/01/zen-siloam.jpg
END:VEVENT
BEGIN:VEVENT
DTSTART;TZID=Europe/Brussels:20230203T100000
DTEND;TZID=Europe/Brussels:20230203T120000
DTSTAMP:20260419T234842
CREATED:20230123T141306Z
LAST-MODIFIED:20230123T141306Z
UID:7889-1675418400-1675425600@www.socialekalender.be
SUMMARY:Mantelzorg binnen alle culturen
DESCRIPTION:Tijdens deze brainstorming willen de aanwezigen van gedachten wisselen over de mantelzorg vanuit een multicultureel perspectief. Het doelpubliek bestaat uit de welzijnsorganisaties en de mantelzorgers zelf\, maar iedereen is welkom. Gegroeid vanuit een aanzet van de participatieraad Kemp & Duin.
URL:https://www.socialekalender.be/evenement/mantelzorg-binnen-alle-culturen/
LOCATION:CM Gezondsheidpunt\, Dieplaan 13\, Genk\, Limburg\, 3600\, België
ATTACH;FMTTYPE=image/jpeg:https://www.socialekalender.be/wp-content/uploads/2023/01/mantelzorg.jpg
END:VEVENT
BEGIN:VEVENT
DTSTART;TZID=Europe/Brussels:20230204T100000
DTEND;TZID=Europe/Brussels:20230204T100000
DTSTAMP:20260419T234842
CREATED:20230110T101104Z
LAST-MODIFIED:20230110T101104Z
UID:7883-1675504800-1675504800@www.socialekalender.be
SUMMARY:Samen nadenken over de toekomst van Siloam
DESCRIPTION:Siloam is de bron waar Jezus de blinde naartoe zond. De man waste zich en zag. Een groep mensen gaf zichzelf deze naam vanuit het verlangen om te “zien”\, om het leven in al zijn diepte te ervaren\, in de verstilling van eigen lichaam en geest\, in het wonder van de natuur. Het gezelschap is christelijk geïnspireerd\, maar staat open voor alle mensen die onbevangen in het leven staan en luisterend ingesteld zijn. De groep opende in Zonhoven vlakbij natuurreservaat De Teut een huis dat ruimte en onderdak wil bieden voor mensen en groepen die zich vanuit hun eigen bewogenheid op hun weg willen herbronnen. Op 4 februari is iedereen welkom om na te denken over de toekomst van dit spirituele project.
URL:https://www.socialekalender.be/evenement/samen-nadenken-over-de-toekomst-van-siloam/
LOCATION:Huize Siloam\, Holsteenweg 17\, Zonhoven\, 3520
ATTACH;FMTTYPE=image/jpeg:https://www.socialekalender.be/wp-content/uploads/2023/01/Siloam-1.jpg
END:VEVENT
BEGIN:VEVENT
DTSTART;TZID=Europe/Brussels:20230204T100000
DTEND;TZID=Europe/Brussels:20230204T160000
DTSTAMP:20260419T234842
CREATED:20221026T093522Z
LAST-MODIFIED:20221101T093043Z
UID:7612-1675504800-1675526400@www.socialekalender.be
SUMMARY:Merwt\, de Hasseltse boerenmarkt
DESCRIPTION:Sinds begin 2022 is deze markt met boeren\, producenten en cateraars uit de buurt weer van start gegaan. Je vindt er proevertjes (eten en drinken)\, maar je kan er ook ontbijten en lunchen. Natuurlijk vind je er voorts een brede keuze voor je inkopen\, volgens het principe LEF: lokaal\, ecologisch en fair. Elke eerste zaterdag van de maand.
URL:https://www.socialekalender.be/evenement/merwt-de-hasseltse-boerenmarkt-6/
LOCATION:Capucienenplein\, (bij Maastrichterstraat)\, Hasselt\, 3500
ATTACH;FMTTYPE=image/jpeg:https://www.socialekalender.be/wp-content/uploads/2021/12/merwt1.jpg
END:VEVENT
BEGIN:VEVENT
DTSTART;TZID=Europe/Brussels:20230207T190000
DTEND;TZID=Europe/Brussels:20230207T213000
DTSTAMP:20260419T234842
CREATED:20221104T145659Z
LAST-MODIFIED:20230110T094515Z
UID:7688-1675796400-1675805400@www.socialekalender.be
SUMMARY:Sammy Mahdi over zijn politiek gedachtegoed
DESCRIPTION:Sammy Mahdi (° Elsene\, 1988) is de zoon van een Irakese vader en een Belgische moeder. Zijn vader vluchtte eind jaren 1970 als politiek vluchteling naar België. Sammy Mahdi studeerde politieke wetenschappen aan de VUB en behaalde er vervolgens een master internationaal en Europees recht. In maart 2017 werd hij verkozen tot voorzitter van Jong CD&V. Bijna twee jaar lang was hij staatssecretaris voor Asiel en Migratie\, tot hij op 25 juni 2022 partijvoorzitter werd. Op deze gespreksavond van de UMB gaat hij er dieper op in wat hem inspireerde om in de politiek te stappen en hoe zijn politiek gedachtegoed vorm kreeg. Achteraf is er tijd voor dialoog met de aanwezigen in het auditorium. Studenten\, werklozen en gepensioneerden genieten van een verlaagd tarief.
URL:https://www.socialekalender.be/evenement/sammy-mahdi-over-zijn-politiek-gedachtegoed/
LOCATION:Universiteit Hasselt\, Campus Oude Gevangenis\, Martelarenlaan 42\, Hasselt\, 3500\, België
ATTACH;FMTTYPE=image/jpeg:https://www.socialekalender.be/wp-content/uploads/2022/11/Sammy-Mahdi-2.jpg
END:VEVENT
BEGIN:VEVENT
DTSTART;TZID=Europe/Brussels:20230208T150000
DTEND;TZID=Europe/Brussels:20230208T170000
DTSTAMP:20260419T234842
CREATED:20221229T144554Z
LAST-MODIFIED:20221229T144554Z
UID:7828-1675868400-1675875600@www.socialekalender.be
SUMMARY:Voordrachten over vlier en permacultuur
DESCRIPTION:Yannick Bellemans\, eigenaar van een vlierplantage\, legt zich sinds 2012 toe op het produceren van drankjes op basis van vlierbloesem en -bessen. Na hem zal boomgaardier Ward Putzeys praten over begrippen als permacultuur\, voedselbossen en korte keten. Na afloop kan men vragen stellen en ook vlierstroop\, vlierbier en andere lokale producten kopen. Inschrijving verplicht.
URL:https://www.socialekalender.be/evenement/voordrachten-over-vlier-en-permacultuur/
LOCATION:´t Vlierhof\, Kersendaelstraat 1\, Vliermaal\, Limburg\, 3724\, België
ATTACH;FMTTYPE=image/png:https://www.socialekalender.be/wp-content/uploads/2022/12/vlierhof.png
END:VEVENT
BEGIN:VEVENT
DTSTART;TZID=Europe/Brussels:20230212T140000
DTEND;TZID=Europe/Brussels:20230212T160000
DTSTAMP:20260419T234842
CREATED:20230110T095910Z
LAST-MODIFIED:20230110T095910Z
UID:7873-1676210400-1676217600@www.socialekalender.be
SUMMARY:Mystic Moods
DESCRIPTION:Een warm klank- en kleurenbad met rustgevende muzikale composities en kleurrijke animaties. Duur: 75 minuten. Alle beelden en klanken door Koen Fossey. Je kan de voorstelling liggend of zittend op de grond bijwonen: breng dan je eigen matje\, kussentje en dekentje mee. Je kan de voorstelling ook gewoon zittend op een stoel volgen. De eerste sessie (kennismaking) kost € 10\, de volgende drie (op 19/2\, 19/3 en 26/3) kosten € 15 per sessie of € 36 voor de drie samen. Inschrijven verplicht\, betalen kan aan de inkom. Opbrengst ten voordele van de sportraad.
URL:https://www.socialekalender.be/evenement/mystic-moods/
LOCATION:zaal Steborg\, Broekstraat 1\, Stevoort\, 3520
ATTACH;FMTTYPE=image/jpeg:https://www.socialekalender.be/wp-content/uploads/2023/01/Koen-Fossey-herfstmandala.jpg
END:VEVENT
BEGIN:VEVENT
DTSTART;TZID=Europe/Brussels:20230215T183000
DTEND;TZID=Europe/Brussels:20230215T183000
DTSTAMP:20260419T234842
CREATED:20230123T141700Z
LAST-MODIFIED:20230123T141700Z
UID:7896-1676485800-1676485800@www.socialekalender.be
SUMMARY:Vrij en risicovol spelen
DESCRIPTION:Als je kinderen ziet spelen\, houd je soms je hart vast. Wat zij allemaal niet dúrven!? Spannend voor hen\, maar ook voor jou… Want hoe kun je kinderen tegelijk beschermen én uitdagingen laten aangaan? Het voelt als een constante spreidstand. Wil jij het liefst alle risico’s vermijden? Tijd voor nuance\, want de juiste risico’s zorgen net voor groei. Wat is risicovol spelen (niet)? Waarom is het belangrijk? En vooral: hoe pak je dat aan? Op 15 februari gaan we dieper in op dit thema met Helena Sienaert (Arteveldehogeschool Gent) met veel tips voor (groot)ouders\, leerkrachten\, jeugdleiding …. Achteraf is er een receptie als netwerkmoment. Inschrijven kan via https://www.provinciaalnatuurcentrum.be/kalender/
URL:https://www.socialekalender.be/evenement/vrij-en-risicovol-spelen/
LOCATION:PNC\, Craenevenne 86\, Bokrijk-Genk\, 3600
ATTACH;FMTTYPE=image/jpeg:https://www.socialekalender.be/wp-content/uploads/2023/01/spelende-kinderen.jpg
END:VEVENT
BEGIN:VEVENT
DTSTART;TZID=Europe/Brussels:20230215T193000
DTEND;TZID=Europe/Brussels:20230215T213000
DTSTAMP:20260419T234842
CREATED:20230110T100526Z
LAST-MODIFIED:20230110T100526Z
UID:7879-1676489400-1676496600@www.socialekalender.be
SUMMARY:Colors of dance
DESCRIPTION:Reeks van vier extatische danssessies Eerst is er een korte uitleg en workshop om jezelf vertrouwd te maken met de ruimte. Dan begint de danssessie en ga je volledig af op je eigen gevoel en energie van het moment. Afsluiten doen we samen in een lang rustmoment. Het dansen is vrij: ieder danst op zichzelf naar eigen gevoel. Tegelijk is het een energiek groepsgebeuren. Je beweegt doorheen de zaal\, zoekt en neemt de ruimte in die je nodig hebt. Al dansend maak je regelmatig even contact met andere dansers\, om daarna weer je eigen weg te dansen. Geen enkele danservaring is vereist. Je bent hier voor jezelf\, om te ervaren en te genieten. De eerste sessie (kennismaking) kost € 10\, de volgende drie (op 22/2 en op 1 en 15/3) kosten € 15 per sessie of € 36 voor de drie samen. Inschrijven verplicht\, betalen kan aan de inkom. Opbrengst ten voordele van de sportraad.
URL:https://www.socialekalender.be/evenement/colors-of-dance/
LOCATION:zaal Steborg\, Broekstraat 1\, Stevoort\, 3520
ATTACH;FMTTYPE=image/jpeg:https://www.socialekalender.be/wp-content/uploads/2023/01/Koen-Fossey-3-1.jpg
END:VEVENT
BEGIN:VEVENT
DTSTART;TZID=Europe/Brussels:20230215T200000
DTEND;TZID=Europe/Brussels:20230215T200000
DTSTAMP:20260419T234842
CREATED:20230130T154425Z
LAST-MODIFIED:20230130T154425Z
UID:7925-1676491200-1676491200@www.socialekalender.be
SUMMARY:Infoavond over Limburgs Platform Vluchtelingen (online)
DESCRIPTION:Het Limburgs Platform voor Mensen op de Vlucht organiseert een videosessie om de eigen werking voor te stellen\, maar ook met het oog op nieuwe kandidaat-vrijwilligers. Mensen op de vlucht willen hun leven hier zo snel mogelijk vormgeven en zoeken naar kansen voor een nieuwe toekomst. Toch botsen ze te vaak op allerlei drempels. Deze mensen hebben hier vaak geen eigen netwerk. Ze komen in een onbekende stad of gemeente waar ze niemand kennen. Om hen wegwijs te maken in het dagelijks leven zijn we op zoek naar warme vrijwilligers of buddy’s. Heb jij een warm hart voor de samenleving? Ben je sociaal\, maak je vlot contact met anderen en kan je omgaan met diversiteit? Vind je het leuk om zelf bij te leren en anderen wegwijs te maken in jouw buurt of gemeente? Of ben je hulpvaardig\, heb je verantwoordelijkheidszin en neem je vlot initiatief? Vrijwilligers bieden mensen op de vlucht informatieve\, juridische\, administratieve\, psychologische\, pedagogische en materiële ondersteuning. Ze bieden allerlei activiteiten en projecten aan zoals extra taallessen en/of schoolbegeleiding. Kunnen ondersteuning bieden bij het zoeken naar werk en opleiding. Helpen bij huisvestingsproblemen\, woonbegeleiding en woontraining. Helpen mensen hun netwerk verder uit te bouwen via huisbezoeken en ontmoetingsmomenten. Wil je hierover de nodige informatie krijgen? Nadat je je inschrijft ontvang je van ons de link voor de infosessie. Heb je goesting om in te stappen in ons aanbod? Dan maken we tijd voor een kennismakingsgesprek en zorgen we voor een korte opleiding zodat iedereen comfortabel aan de slag kan! Belangrijk is dat je je minstens één keer om de twee weken even kan vrijmaken\, dat je discretie opbrengt en dat je respect hebt voor andere mensen en hun ideeën.
URL:https://www.socialekalender.be/evenement/infoavond-over-limburgs-platform-vluchtelingen-online/
LOCATION:ONLINE
ATTACH;FMTTYPE=image/jpeg:https://www.socialekalender.be/wp-content/uploads/2023/01/diversiteit.jpg
END:VEVENT
BEGIN:VEVENT
DTSTART;TZID=Europe/Brussels:20230215T200000
DTEND;TZID=Europe/Brussels:20230215T220000
DTSTAMP:20260419T234842
CREATED:20230130T150944Z
LAST-MODIFIED:20230130T150944Z
UID:7900-1676491200-1676498400@www.socialekalender.be
SUMMARY:Mystieke auteurs ontdekken: Mevlana Rumi
DESCRIPTION:Mohamed DJalal ad-Din Balkhi Rumi of ‘Mevlana Rumi’ was een filosoof en dichter van Perzische afkomst en soefi-mysticus. ‘Mevlana’ betekent ‘onze meester’. Rumi is een van de belangrijkste personen uit de Perzische dichtkunst door zijn religieuze dichten die God prijzen. Tot op de dag van vandaag inspireren zijn teksten tal van mensen. Ook beroemdheden zoals Madonna en Deepak Chopra hebben Rumi’s poëzie omarmd. Zijn mystieke teksten zijn voor velen een hulpmiddel om naar binnen te kijken. Onder begeleiding van Sam Stefani lezen we enkele teksten en staan we erbij stil.
URL:https://www.socialekalender.be/evenement/mystieke-auteurs-ontdekken-mevlana-rumi/
LOCATION:Avansa\, Ceeleboedersstraat 13-15\, Hasselt\, Limburg\, 3500\, België
ATTACH;FMTTYPE=image/jpeg:https://www.socialekalender.be/wp-content/uploads/2023/01/Rumi.jpg
END:VEVENT
BEGIN:VEVENT
DTSTART;TZID=Europe/Brussels:20230220T193000
DTEND;TZID=Europe/Brussels:20230220T220000
DTSTAMP:20260419T234842
CREATED:20221123T134930Z
LAST-MODIFIED:20221123T134930Z
UID:7760-1676921400-1676930400@www.socialekalender.be
SUMMARY:meditatie in traditie van Soto Zen
DESCRIPTION:Vanaf begin september gaan ook de zensessies in Godsheide weer van start. Centraal staat het zazen of de zitmeditatie\, op een kussen (op een bankje of een stoel kan ook). Dit gebeurt in een open en gastvrije groep van medebeoefenaars\, de sangha\, waarin iedere gemotiveerde zoeker\, van welke levensbeschouwing ook\, kan ’thuiskomen’. In deze groep wordt Soto Zen beoefend\, dit is de grootste zenschool in Japan met een traditie die teruggaat naar Dogen Zenji (1200-1253). De meditatie bestaat uit twee keer 35′ zazen\, afgewisseld met 10′ kinhin (wandelmeditatie). Nadien is er een korte ceremonie en een vragenronde. Je draagt best sobere en losse kledij in niet te felle kleuren (vb een training). Meditatiekussens en -matten zijn ter plaatse beschikbaar.  Deze zenmeditaties vinden elke maandag plaats in een achterliggend en losstaand paviljoen van Bethanië Godsheide\, Brugbemdenstraat 1\, 3500 Hasselt (dit is het vroegere bezinningscentrum van de jezuïeten). De toegangsweg naar de gebouwen ligt aan het kanaal in Godsheide. Het paviljoen ligt vlakbij de grote personeelsparking achteraan. De meditatie wordt begeleid door de zenmonnik Marc Journée (midden op de foto). Voor een sessie wordt er een bijdrage van € 8 gevraagd. Gelieve voor je eerste sessie vooraf contact op te nemen op onderstaand telefoonnummer.
URL:https://www.socialekalender.be/evenement/meditatie-in-traditie-van-soto-zen-4/
LOCATION:Bethanië Godsheide\, Brugbemdenstraat 1\, Hasselt\, 3500\, België
ATTACH;FMTTYPE=image/jpeg:https://www.socialekalender.be/wp-content/uploads/2022/11/Marc-Journée-en-Tokuda-1.jpg
ORGANIZER;CN="zenvereniging Gyoji":MAILTO:marc.journee@gmail.com
END:VEVENT
END:VCALENDAR