BEGIN:VCALENDAR
VERSION:2.0
PRODID:-//Sociale Kalender - ECPv6.2.9//NONSGML v1.0//EN
CALSCALE:GREGORIAN
METHOD:PUBLISH
X-WR-CALNAME:Sociale Kalender
X-ORIGINAL-URL:https://www.socialekalender.be
X-WR-CALDESC:Evenementen voor Sociale Kalender
REFRESH-INTERVAL;VALUE=DURATION:PT1H
X-Robots-Tag:noindex
X-PUBLISHED-TTL:PT1H
BEGIN:VTIMEZONE
TZID:Europe/Brussels
BEGIN:DAYLIGHT
TZOFFSETFROM:+0100
TZOFFSETTO:+0200
TZNAME:CEST
DTSTART:20230326T010000
END:DAYLIGHT
BEGIN:STANDARD
TZOFFSETFROM:+0200
TZOFFSETTO:+0100
TZNAME:CET
DTSTART:20231029T010000
END:STANDARD
END:VTIMEZONE
BEGIN:VEVENT
DTSTART;TZID=Europe/Brussels:20230404T190000
DTEND;TZID=Europe/Brussels:20230404T213000
DTSTAMP:20260419T164222
CREATED:20230308T153456Z
LAST-MODIFIED:20230308T153456Z
UID:7998-1680634800-1680643800@www.socialekalender.be
SUMMARY:Johan Danen over de grote milieudossiers van Limburg
DESCRIPTION:Johan Danen schetst op deze gespreksavond een globaal beeld van de toestand van het leefmilieu in onze provincie en gaat graag in interactie met het publiek. Hij is sinds 2014 lid van het Vlaams Parlement voor Groen. Daar begon hij in de commissie leefmilieu\, energie en klimaat. Vandaag is hij vast lid van de onderwijscommissie. Daarnaast volgt hij de grote Limburgse dossiers op\, waarvan de meeste milieugerelateerd zijn. Voorheen was hij wetenschappelijk medewerker aan de Universiteit Hasselt\, speelde hij een pioniersrol in de uitbouw van de poot sociale economie na de mijnsluitingen en doceerde hij aan de PXL. \nLimburg staat bij velen van ons synoniem voor dè groene provincie. En inderdaad\, we mogen trots zijn op wat we op dat vlak te bieden hebben. Limburg groen en ecologisch gezond houden vraagt echter een permanente strijd. Voor en achter de schermen.Een aantal globale milieudossiers heeft een belangrijke impact in onze provincie: denken we maar aan het klimaat\, stikstof\, luchtvervuiling\, verlies aan biodiversiteit\,… Daarnaast heeft Limburg te maken met specifieke milieuthema’s: zandwinning\, ontbossing\, (historische) stortplaatsen\, de talloze en wijd verspreide koterijen\, luchtvervuiling rond industriële hotspots\,… Let op het vervroegde startuur: 19u. Studenten\, gepensioneerden en mensen met een uitkering genieten van een verlaagde inkomprijs. Inschrijven is verplicht en kan via info@umb-limburg.be.
URL:https://www.socialekalender.be/evenement/johan-danen-over-de-grote-milieudossiers-van-limburg/
LOCATION:Universiteit Hasselt Campus Oude Gevangenis\, Auditorium Louis Roppe\, Martelarenlaan 42\, Hasselt\, 3500\, België
ATTACH;FMTTYPE=image/jpeg:https://www.socialekalender.be/wp-content/uploads/2023/03/Johan-Danen.jpg
END:VEVENT
BEGIN:VEVENT
DTSTART;TZID=Europe/Brussels:20230415T130000
DTEND;TZID=Europe/Brussels:20230415T170000
DTSTAMP:20260419T164222
CREATED:20220713T123822Z
LAST-MODIFIED:20220713T123822Z
UID:7292-1681563600-1681578000@www.socialekalender.be
SUMMARY:Repaircafé in Sledderlo
DESCRIPTION:Een repaircafé is een bijeenkomst waar mensen hun spullen met de hulp van anderen herstellen. In Sledderlo werken ze breed: computers\, smartphones\, software\, elektrische toestellen (senseo niet)\, fietsen\, kleding en horloges. Er zijn een 10-tal vaklui aanwezig met het nodige materiaal. De herstellingen zijn gratis\, maar voor wisselstukken kan de aankoopprijs gevraagd worden. Maximum drie stuks per persoon. Er is ook drank aanwezig\, zodat het repaircafé een sociale activiteit wordt. Iedereen is welkom\, al is het maar om een praatje te slaan.
URL:https://www.socialekalender.be/evenement/repaircafe-in-sledderlo-2/
LOCATION:Buurthuis  Sledderlo\, Bijlkestraat 16\, Genk\, Limburg\, 3600\, België
ATTACH;FMTTYPE=image/jpeg:https://www.socialekalender.be/wp-content/uploads/2022/07/repair-café-4.jpg
END:VEVENT
BEGIN:VEVENT
DTSTART;TZID=Europe/Brussels:20230419T133000
DTEND;TZID=Europe/Brussels:20230419T190000
DTSTAMP:20260419T164222
CREATED:20230404T144049Z
LAST-MODIFIED:20230404T144820Z
UID:8116-1681911000-1681930800@www.socialekalender.be
SUMMARY:Limburgdaag: groot dialectevenement ter herdenking van scheiding beide Limburgen
DESCRIPTION:Op 19 april 1839 werden de twee Limburgen uit elkaar gerukt en gingen ze behoren tot twee landen. De inwoners werden hierover natuurlijk niet geconsulteerd: het Verdrag van Londen sprak dit uit over de hoofden van de betrokkenen. We zijn nu 184 jaar later\, en er worden enthousiast initiatieven genomen om de verbondenheid tussen Oost en West te versterken. De dialectorganisaties Veldeke Bels(j) Limburg en Veldeke Krink Ech zetten zo een actiedag op en kiezen de Pater Sangersbrug tussen Maaseik en Roosteren als centraal forum. Ze verlenen die zo ook een figuurlijke brugfunctie. \nDe activiteiten worden om half twee opgestart in de kerk van Sint-Catharina (Grote Kerkstraat 15\, in Maaseik vlakbij de brug). Als onthaal wordt aan de deelnemers een knapkoek bij een drankje aangeboden. Hier kan men tussen de toespraken door muziek horen van het Dörpskoer Laoneke en poëzie van Theo Van Dael. Na afloop trekken we\, deels te voet en deels met de huifkar\, naar een weide vlakbij de Maas in Roosteren. Deze plaats wordt het decor van het tweede deel van ons drieluik. De voorzitter van Veldeke Ech\, Jos Wackers\, neemt er het woord. Riky Simons brengt er een gedicht\, en ook Ton Theelen. Daarna maken we plaats voor een speciale én geheime symbolische actie\, een ritueel van verbondenheid. Dan gaat het weer oostwaarts\, ruim een kilometer verder\, tot Roosteren centrum. In het gemeenschapshuis sluiten we af met ons hoofdprogramma (ongeveer van 17.30u tot 19u). We krijgen daar internationale dialectpoëzie te horen van Annie Schreuders-Derks (NL) en Stan Mardaga (B). Muzikale optredens worden verzorgd door Sef Laugs (NL) en Piet Stinckens\, de troubadour uit het Belgische Bree. De twee burgemeesters Jos Hessels en Johan Tollenaere slaan de handen letterlijk in elkaar en geven een toespraak. Afsluiting met een kleine receptie. \nAlles op deze hoogdag voor onze gemeenschappelijke regionale taal is gratis. De buitenactiviteit op de wei aan de Maas is toegankelijk zonder voorinschrijving. Voor de twee binnenactiviteiten is inschrijving vereist. Het is de bedoeling dat iedereen zich voor beide activiteiten inschrijft en dus aan de hele dag mee gestalte geeft. Woensdag 12 april worden de inschrijvingen afgesloten. Het is de toeristische dienst van Maaseik die de inschrijvingen aan Belgische kant coördineert. We zouden graag van deze ingeschreven deelnemers de naam\, woonplaats\, mailadres en telefoonnummer hebben. De toeristische dienst is 7/7 open van 10 tot 17u; alleen op weekend- en feestdagen wordt er ’s middags even gesloten van 12.30u tot 13u.  Bij voorkeur inschrijven via een mailtje (visit@maaseik.be)\, eventueel kan dat ook via een telefoontje (089/81 92 90). Het maximum aantal deelnemers bedraagt 100: 50 uit België en 50 uit Nederland. Nog een tip: je kan je auto parkeren op de Hoekstraat in Roosteren\, tegenover de Roosterhoeve. Vanaf 13u kan je met de huifkar naar Maaseik. Na afloop staat je auto dan klaar om te vertrekken.
URL:https://www.socialekalender.be/evenement/limburgdaag-groot-dialectevenement-ter-herdenking-van-scheiding-beide-limburgen/
LOCATION:In Maaseik en Roosteren
ATTACH;FMTTYPE=image/jpeg:https://www.socialekalender.be/wp-content/uploads/2023/04/maasbrug-met-zicht-op-kerk.jpg
END:VEVENT
BEGIN:VEVENT
DTSTART;TZID=Europe/Brussels:20230419T193000
DTEND;TZID=Europe/Brussels:20230419T213000
DTSTAMP:20260419T164222
CREATED:20230321T153424Z
LAST-MODIFIED:20230321T153424Z
UID:8028-1681932600-1681939800@www.socialekalender.be
SUMMARY:Duurzaam in de verenigingen
DESCRIPTION:In deze workshop bekijkt Tine Driessen (Ecolimburg) met ons hoe we in het verenigingsleven duurzaamheid kunnen nastreven op eetfestijnen\, in materiaalgebruik\, verplaatsingen\,… Inschrijven via www.limburgsemilieukoepel.be/activiteiten.
URL:https://www.socialekalender.be/evenement/duurzaam-in-de-verenigingen/
LOCATION:Bezoekerscentrum Kiewit\, Natuurpunt\, Putvennestraat 112\, Hasselt-Kiewit\, 3500
ATTACH;FMTTYPE=image/jpeg:https://www.socialekalender.be/wp-content/uploads/2023/03/duurzaam.jpg
END:VEVENT
BEGIN:VEVENT
DTSTART;TZID=Europe/Brussels:20230420T130000
DTEND;TZID=Europe/Brussels:20230420T160000
DTSTAMP:20260419T164222
CREATED:20230301T142925Z
LAST-MODIFIED:20230301T142925Z
UID:7962-1681995600-1682006400@www.socialekalender.be
SUMMARY:Open ontmoetingsmoment bij Siloam
DESCRIPTION:Siloam is de naam van een spiritueel huis nabij natuurreservaat De Teut in Zonhoven waar er plaats is voor de verstilling van lichaam en geest en voor het wonder van de natuur. Sinds februari wordt er regelmatig -elke donderdagnamiddag- een open ontmoeting georganiseerd\, totaal gratuit\, zonder een vaste activiteit of thema. Het huis staat open voor iedereen die zin heeft in een gesprekje\, met een kopje koffie of thee. Je kan er ook gewoon even bezinnen\, of de benen strekken in de omgevende natuur.
URL:https://www.socialekalender.be/evenement/open-ontmoetingsmoment-bij-siloam/
LOCATION:Siloam\, Holsteenweg 17\, Zonhoven\, 3520\, België
ATTACH;FMTTYPE=image/jpeg:https://www.socialekalender.be/wp-content/uploads/2023/02/Siloam2.jpg
END:VEVENT
BEGIN:VEVENT
DTSTART;TZID=Europe/Brussels:20230420T190000
DTEND;TZID=Europe/Brussels:20230420T190000
DTSTAMP:20260419T164222
CREATED:20230321T153824Z
LAST-MODIFIED:20230321T153824Z
UID:8034-1682017200-1682017200@www.socialekalender.be
SUMMARY:De kunst van de burn-out
DESCRIPTION:Hoe kunnen Cultuurwetenschappen bijdragen aan het ter discussie stellen van gangbare stereotypen en heersende stigma’s rond burn-out? Hoe kan burn-out bijdragen tot het creëren van een meer mensgerichte\, duurzame mind-set? En vooral\, hoe spelen artistieke representaties van burn-out hierbij een rol? Al te vaak wordt een burn-out gezien als een individuele pathologie die veroorzaakt wordt door persoonlijke kwetsbaarheden. Maar wereldwijd trekken psychologen aan de bel omdat de COVID-19 pandemie ervoor zorgt dat mensen over alle beroepssectoren heen meer werkstress ervaren en burn-out steeds vaker voor komt. Tijd om onze visie bij te stellen. Hedendaagse kunst en cultuur(wetenschappen) kunnen hierin een belangrijke rol spelen. In deze lezing licht Sarah de Mul toe hoe de Cultuurwetenschappen kunnen bijdragen aan het ter discussie stellen van gangbare stereotypen en heersende stigma’s rond burn-out\, hoe burn-out kan bijdragen tot het creëren van een meer mensgerichte\, duurzame mindset\, en vooral\, hoe artistieke representaties van burn-out hierbij een rol kunnen spelen. Prof. dr. Sarah De Mul is hoogleraar Cultuur\, Diversiteit en Inclusie aan de Faculteit Cultuurwetenschappen van de Open Universiteit. In haar huidige onderzoeksproject richt ze zich op de rol van kunst in relatie tot zorg en veerkracht in het huidige tijdperk van stress en burn-out vanuit gender en diversiteitsperspectief. Inschrijven kan via https://fd7.formdesk.com/openuniversiteit/studium_generale_2022_2023.
URL:https://www.socialekalender.be/evenement/de-kunst-van-de-burn-out/
LOCATION:Universiteit Hasselt\, Campus Oude Gevangenis\, Martelarenlaan 42\, Hasselt\, 3500\, België
ATTACH;FMTTYPE=image/jpeg:https://www.socialekalender.be/wp-content/uploads/2023/03/burn-out.jpg
ORGANIZER;CN="Open Universiteit Hasselt":MAILTO:openuniversiteit@uhasselt.be
END:VEVENT
BEGIN:VEVENT
DTSTART;TZID=Europe/Brussels:20230420T190000
DTEND;TZID=Europe/Brussels:20230420T203000
DTSTAMP:20260419T164222
CREATED:20230402T092333Z
LAST-MODIFIED:20230402T092333Z
UID:8071-1682017200-1682022600@www.socialekalender.be
SUMMARY:Gemeenschap vormen in tijden van diversiteit
DESCRIPTION:De jongeren van ACV Genk en MC Attawassul vzw organiseren een panelgesprek tussen Vlaams minister Bart Somers\, prof. Mark Elchardus en de Gentse imam Khalid Benhaddou over “gemeenschapsvorming in tijden van diversiteit”. De moderatie ligt in handen van Timmie van Diepen (HBVL). Achteraf volgt er een iftar-netwerkmoment. Omdat er slechts plaats is voor 100 bezoekers is inschrijving verplicht. Dit kan via https://www.hetacv.be/formulier?form=32253.
URL:https://www.socialekalender.be/evenement/gemeenschap-vormen-in-tijden-van-diversiteit/
LOCATION:Crypte onder kerk\, Crypteplein 1\, Genk\, Limburg\, 3600\, België
ATTACH;FMTTYPE=image/jpeg:https://www.socialekalender.be/wp-content/uploads/2023/04/diversiteit-1.jpg
END:VEVENT
BEGIN:VEVENT
DTSTART;TZID=Europe/Brussels:20230420T200000
DTEND;TZID=Europe/Brussels:20230420T200000
DTSTAMP:20260419T164222
CREATED:20230329T154558Z
LAST-MODIFIED:20230329T154558Z
UID:8057-1682020800-1682020800@www.socialekalender.be
SUMMARY:Ignace Schops over de grote toekomst van mens en natuur
DESCRIPTION:In zijn boek “Gered door de boomkikker” vertelt Ignace Schops hoe industrie\, landbouw\, politiek en lokale en globale economie elkaar kunnen versterken en hoe we samen voor een omwenteling kunnen zorgen. Hij is directeur van het Nationaal Park Hoge Kempen en voorzitter van Bond Beter Leefmilieu. De deuren gaan open om 19u. Een samenwerking tussen Masereelfonds Hasselt\, Humanistisch Verbond Limburg en Natuurpunt.
URL:https://www.socialekalender.be/evenement/ignace-schops-over-de-grote-toekomst-van-mens-en-natuur/
LOCATION:Vrijzinnig Punt en Boekhandel Grim
ATTACH;FMTTYPE=image/jpeg:https://www.socialekalender.be/wp-content/uploads/2023/03/Ignace-Schops2.jpg
END:VEVENT
BEGIN:VEVENT
DTSTART;TZID=Europe/Brussels:20230422T090000
DTEND;TZID=Europe/Brussels:20230422T114500
DTSTAMP:20260419T164222
CREATED:20230321T154312Z
LAST-MODIFIED:20230321T154312Z
UID:8038-1682154000-1682163900@www.socialekalender.be
SUMMARY:Eerlijke kleding\, duurzame mode
DESCRIPTION:Op zaterdag 22 april krijg je een eerlijk lokaal ontbijt\, een boeiend panelgesprek en een inspirerende gesprekstafel over duurzame mode. Exact 10 jaar geleden stortte een kledingfabriek in Bangladesh in. Een dramatische gebeurtenis die leidde tot een ware Fashion Revolution. Een revolutie van minder en vooral beter consumeren\, van meer rechten voor kledingarbeiders én een eerlijk loon. Moet de huidige mode industrie – die zowel de tweede grootste als de tweede meest vervuilende industrie ter wereld is – helemaal op de schop? Of is er een alternatief? ‘100% SCHOON’ belicht\, samen met experts en ondernemers\, alle kanten van de fashionindustrie. Tijdens gesprekstafels inspireren we je met lokale en duurzame initiatieven\, want fair fashion is ook fun! En dit alles op de meest bijzondere locatie: het magazijn van kringwinkel Okazi\, waar we letterlijk tussen de balen kleding zitten die een tweede leven verdienen.
URL:https://www.socialekalender.be/evenement/eerlijke-kleding-duurzame-mode/
LOCATION:Magazijn Kringwinkel Okazi\, Stadsheide 6\, Hasselt\, Limburg\, 3500\, België
ATTACH;FMTTYPE=image/jpeg:https://www.socialekalender.be/wp-content/uploads/2023/03/schone-kleren.jpg
END:VEVENT
BEGIN:VEVENT
DTSTART;TZID=Europe/Brussels:20230423T093000
DTEND;TZID=Europe/Brussels:20230423T093000
DTSTAMP:20260419T164222
CREATED:20230414T162913Z
LAST-MODIFIED:20230414T162913Z
UID:8150-1682242200-1682242200@www.socialekalender.be
SUMMARY:Lenteontmoeting met ontbijt bij de Limburgse alevieten
DESCRIPTION:Ook dit jaar organiseren de alevieten een lenteontmoeting met een uitgebreid culinair buffet. Zoals gewoonlijk is het ook opgevat als een dialoogmoment waarin er aan tafel van gedachten kan gewisseld worden over levensfilosofie en politieke actualiteit. De opbrengst gaat naar initiatieven voor de opvang van de slachtoffers van de aardbeving. Wegens de beperkte capaciteit van het huis aan de M. Scheperslaan\, wordt de plaats van afspraak het Ontmoetingscentrum in de Pastoor Paquaylaan 127 in Heusden-Zolder.
URL:https://www.socialekalender.be/evenement/lenteontmoeting-met-ontbijt-bij-de-limburgse-alevieten/
LOCATION:OC\, Pasttor Paquaylaan 127\, Heusden-Zolder\, Limburg\, 3550\, België
ATTACH;FMTTYPE=image/jpeg:https://www.socialekalender.be/wp-content/uploads/2023/04/Turks-ontbijt.jpg
END:VEVENT
BEGIN:VEVENT
DTSTART;TZID=Europe/Brussels:20230423T100000
DTEND;TZID=Europe/Brussels:20230423T100000
DTSTAMP:20260419T164222
CREATED:20230308T154939Z
LAST-MODIFIED:20230308T154939Z
UID:8016-1682244000-1682244000@www.socialekalender.be
SUMMARY:Al wandelend mediteren in Maasmechelen
DESCRIPTION:Door al wandelend te mediteren leer je op een natuurlijke manier te onthaasten. Aan de hand van betekenisvolle teksten en eenvoudige oefeningen creëer je samen met de groep een zekere rust en verbondenheid. Heerlijk voor iedereen die behoefte heeft aan stilte\, rust en inspiratie. Deze wandeling is enkel bedoeld voor volwassenen. Je bent ingeschreven na een seintje\, liefst per mail. De bijdrage kan ter plaatse betaald worden of door overschrijving op rekening BE50 0688 9682 2318. Na de wandeling kan je deelnemen aan een pastabuffet in Moai. Als je wil reserveren\, meld dit dan bij het begin van de wandeling aan de gids.
URL:https://www.socialekalender.be/evenement/al-wandelend-mediteren-in-maasmechelen/
LOCATION:Wandelbord Mechelse Heide\, Joseph Smeetslaan 280\, Maasmechelen\, Limburg\, 3630\, België
ATTACH;FMTTYPE=image/jpeg:https://www.socialekalender.be/wp-content/uploads/2023/03/bos-1.jpg
END:VEVENT
BEGIN:VEVENT
DTSTART;TZID=Europe/Brussels:20230424T094500
DTEND;TZID=Europe/Brussels:20230424T120000
DTSTAMP:20260419T164222
CREATED:20230301T145501Z
LAST-MODIFIED:20230301T145501Z
UID:7984-1682329500-1682337600@www.socialekalender.be
SUMMARY:"De gelovige atheïst" (boekbespreking)
DESCRIPTION:Stefan Roumen (Humanistisvh Verbond) zal het boek “De gelovige atheïst” van Sander Herreman voorstellen. Met nabespreking.
URL:https://www.socialekalender.be/evenement/de-gelovige-atheist-boekbespreking/
LOCATION:Huis Ulburghs\, Sint-Annastraat 7\, Zolder\, 3550\, België
ATTACH;FMTTYPE=image/jpeg:https://www.socialekalender.be/wp-content/uploads/2019/12/Ulburghshuis.jpg
END:VEVENT
BEGIN:VEVENT
DTSTART;TZID=Europe/Brussels:20230425T193000
DTEND;TZID=Europe/Brussels:20230425T193000
DTSTAMP:20260419T164222
CREATED:20230403T140008Z
LAST-MODIFIED:20230403T140008Z
UID:8079-1682451000-1682451000@www.socialekalender.be
SUMMARY:De strijd tegen klimaatverandering
DESCRIPTION:Jaar na jaar worden warmterecords gebroken. Met de huidige internationale klimaatplannen zullen we niet onder de 1\,5 graad opwarming blijven\, wat ernstige gevolgen heeft voor mens en natuur. Als we niets doen\, sterft een derde van alle plant- en diersoorten mogelijk nog binnen een eeuw uit. Drie experts geven huin visie en gaan daarna met elkaar in gesprek: Ignace Schops (voorzitter Bond Beter Leefmilieu\, directeur van het Regionaal Landschap Kempen en Maasland\, ondervoorzitter van de Klimaatzaak\, lid van het Climate Leadership Corps van Al Gore\, Nadia Soudzilovskaia (hoofd van de Ecotron UHasselt en professor in Klimaatverandering en Ecosysteemdiensten) en Valerie Trouet (wetenschappelijk directeur van het nieuwe Klimaatcentrum in Ukkel\, professor aan de universiteit van Arizona en wereldwijd bekend voor haar klimaatonderzoek aan de hand van jaarringen van bomen). Inschrijven is verplicht en kan gebeuren via www.uhasselt.be/50jaar\, agenda lustrumlezingen.
URL:https://www.socialekalender.be/evenement/de-strijd-tegen-klimaatverandering/
LOCATION:UHasselt (auditorium Louis Verhaegen) Campus Oude Gevangenis\, Martelarenlaan 42\, Hasselt\, 3500
ATTACH;FMTTYPE=image/jpeg:https://www.socialekalender.be/wp-content/uploads/2021/10/klimaatverandering.jpg
END:VEVENT
BEGIN:VEVENT
DTSTART;TZID=Europe/Brussels:20230429T090000
DTEND;TZID=Europe/Brussels:20230429T120000
DTSTAMP:20260419T164222
CREATED:20230104T140217Z
LAST-MODIFIED:20230104T140217Z
UID:7844-1682758800-1682769600@www.socialekalender.be
SUMMARY:Bosbaden in Thorpark
DESCRIPTION:Bosbaden: een manier om je batterijen terug op te laden. Bosbaden is je onderdompelen in een natuurlijke omgeving. In dit geval de bosrijke omgeving van het Thorpark in Waterschei. De begeleidster Marijke Bastiaens laat je ervaren hoe helend de kracht van de natuur kan zijn door laagdrempelige en creatieve uitnodigingen/oefeningen. Je wandelt aan een rustig tempo en je legt een drietal kilometer af. Zonder tijdsdruk. Zo krijg je de tijd om de omgeving met al je zintuigen te ervaren. Het is een moment om te onthaasten\, nieuwe energie op te doen en je innerlijke batterijen op te laden. Praktisch: stevig schoeisel en een lange broek. Je kleedt je best op het weer (bij regenweer een regenjas\, bij koude meerdere laagjes aandoen). Het gaat dus ook door bij regen. Horloges mogen thuisblijven. Gsm liefst uitzetten.
URL:https://www.socialekalender.be/evenement/bosbaden-in-thorpark/
LOCATION:Stiemerhub\, André Dumontlaan 16\, Genk\, Limburg\, 3600\, België
ATTACH;FMTTYPE=image/jpeg:https://www.socialekalender.be/wp-content/uploads/2023/01/bosbad.jpg
END:VEVENT
BEGIN:VEVENT
DTSTART;TZID=Europe/Brussels:20230430T093000
DTEND;TZID=Europe/Brussels:20230430T120000
DTSTAMP:20260419T164222
CREATED:20230329T153850Z
LAST-MODIFIED:20230329T153850Z
UID:8052-1682847000-1682856000@www.socialekalender.be
SUMMARY:Het bos verkennen
DESCRIPTION:We gaan op ontdekkingstocht in de bossen van Ophovenerheide. We staan stil bij de kenmerken en eigenschappen van de bomen\, hun geschiedenis in onze cultuur en of ze genezende eigenschappen hebben. Je bent ingeschreven na een seintje\, liefst per mail. De bijdrage kan ter plaatse betaald worden of door overschrijving op rekening BE50 0688 9682 2318.
URL:https://www.socialekalender.be/evenement/het-bos-verkennen/
LOCATION:Wandelbord Sentowerpark\, Leemkuilstraat 21\, OPGLABBEEK\, LIMBURG\, 3660\, België
ATTACH;FMTTYPE=image/jpeg:https://www.socialekalender.be/wp-content/uploads/2021/09/bos-kempen.jpg
END:VEVENT
END:VCALENDAR