BEGIN:VCALENDAR
VERSION:2.0
PRODID:-//Sociale Kalender - ECPv6.2.9//NONSGML v1.0//EN
CALSCALE:GREGORIAN
METHOD:PUBLISH
X-ORIGINAL-URL:https://www.socialekalender.be
X-WR-CALDESC:Evenementen voor Sociale Kalender
REFRESH-INTERVAL;VALUE=DURATION:PT1H
X-Robots-Tag:noindex
X-PUBLISHED-TTL:PT1H
BEGIN:VTIMEZONE
TZID:Europe/Brussels
BEGIN:DAYLIGHT
TZOFFSETFROM:+0100
TZOFFSETTO:+0200
TZNAME:CEST
DTSTART:20230326T010000
END:DAYLIGHT
BEGIN:STANDARD
TZOFFSETFROM:+0200
TZOFFSETTO:+0100
TZNAME:CET
DTSTART:20231029T010000
END:STANDARD
END:VTIMEZONE
BEGIN:VEVENT
DTSTART;TZID=Europe/Brussels:20230502T193000
DTEND;TZID=Europe/Brussels:20230502T193000
DTSTAMP:20260419T164217
CREATED:20230419T095341Z
LAST-MODIFIED:20230419T095341Z
UID:8168-1683055800-1683055800@www.socialekalender.be
SUMMARY:Armoedevakbond overlegt over woonnood
DESCRIPTION:Op dinsdag 2 mei nodigt de Armoedevakbond je uit voor een eerste brainstormavond rond de zuil “Huisvesting” van zijn Verzetsplan. Drie grote thema’s: alleenwonenden op de woningmarkt\, goedkopere manieren van wonen en alternatieve woonvormen. Wil je je eigen ervaringen hieromtrent delen? Goed\, want samen kunnen we meer dan alleen. Zo kunnen we een grotere druk uitoefenen op het beleid.
URL:https://www.socialekalender.be/evenement/armoedevakbond-overlegt-over-woonnood/
LOCATION:Regenbooghuis\, Meldertstraat 38\, Hasselt\, 3500\, België
ATTACH;FMTTYPE=image/jpeg:https://www.socialekalender.be/wp-content/uploads/2023/04/wooncrisis-2.jpg
END:VEVENT
BEGIN:VEVENT
DTSTART;TZID=Europe/Brussels:20230505T190000
DTEND;TZID=Europe/Brussels:20230505T190000
DTSTAMP:20260419T164217
CREATED:20230414T161212Z
LAST-MODIFIED:20230414T161212Z
UID:8138-1683313200-1683313200@www.socialekalender.be
SUMMARY:Weekend over Thomas Merton in Averbode
DESCRIPTION:Midden in de Koude Oorlog\, in 1962\, schreef de Amerikaanse trappist en sociaal activist Thomas Merton (1915-1968) ‘Vrede in het na-christelijke tijdperk’. Het boek\, een ethische en spirituele reflectie over oorlog\, mocht van zijn oversten echter niet verschijnen. Pas in 2004 werd de originele versie gepubliceerd en in 2022 vertaalde Willy Eurlings het werk naar het Nederlands. De tekst staat centraal tijdens een weekend over Merton in de abdij van Averbode. Willy Eurlings licht het boek zelf toe. Parkeren kan binnen de muren van de abdij. Het verblijf kost € 200. Einde voorzien op zondag om 17.30u. Een initiatief van CIMIC vzw en de Vrienden van Thomas Merton. Meer informatie en inschrijven via www.cimic-npo.org.
URL:https://www.socialekalender.be/evenement/weekend-over-thomas-merton-in-averbode/
LOCATION:Abdij van Averbode\, Abdijstraat 1\, Averbode\, Vlaams Brabant\, 3271\, België
ATTACH;FMTTYPE=image/jpeg:https://www.socialekalender.be/wp-content/uploads/2023/04/Thomas-Merton.jpg
END:VEVENT
BEGIN:VEVENT
DTSTART;TZID=Europe/Brussels:20230505T190000
DTEND;TZID=Europe/Brussels:20230505T210000
DTSTAMP:20260419T164217
CREATED:20230415T123418Z
LAST-MODIFIED:20240122T125903Z
UID:8162-1683313200-1683320400@www.socialekalender.be
SUMMARY:Dialoog over misdaad\, straf en herstel
DESCRIPTION:Gedetineerden en vrije burgers gaan met elkaar in gesprek. De media berichten ons dagelijks over misdaad en straf. ‘Eigen schuld\, dikke bult’\, zeggen velen. Is er dan een alternatief? Kunnen we streven naar herstel voor zowel slachtoffer\, dader en samenleving? Wat betekent dat? En hoe doen we dat dan? Hoe denk jij erover? Overal in Vlaanderen en Brussel worden dialooggroepen opgericht waar gedetineerden en vrije burgers met deze vragen aan de slag gaan. In een eerste sessie verdiepen gedetineerden en vrije burgers in aparte sessies zich in het thema\, formuleren meningen\, bezorgdheden\, dromen\,… In een volgende sessie gaan ze met elkaar in dialoog op zoek naar antwoorden. De inzichten uit deze dialoogsessies worden meegenomen naar een herstelconferentie in november 2023. Deze herstelconferentie formuleert aanbevelingen voor een samenleving gericht op herstel. Een tweede sessie vindt plaats in de gevangenis op 10 mei van 18.45u tot 20.15u. Begeleiding: Ruben Thijs en Hugo Keunen. Meer informatie en inschrijven via www.avansa-limburg onder activiteiten.
URL:https://www.socialekalender.be/evenement/dialoog-over-misdaad-straf-en-herstel/
LOCATION:Avansa\, Ceeleboedersstraat 13-15\, Hasselt\, Limburg\, 3500\, België
END:VEVENT
BEGIN:VEVENT
DTSTART;TZID=Europe/Brussels:20230505T193000
DTEND;TZID=Europe/Brussels:20230505T210000
DTSTAMP:20260419T164217
CREATED:20230414T164016Z
LAST-MODIFIED:20230414T164016Z
UID:8155-1683315000-1683320400@www.socialekalender.be
SUMMARY:Feestelijke opening expo donuteconomie
DESCRIPTION:De donuteconomie is een model van economische ontwikkeling met respect voor de sociale en ecologische grenzen. Bezoek de expo én laat je met onze documentaire ‘De 25% revolutie’ inspireren door lokale en internationale helden die voor verandering zorgen. Je proeft van de expo\, onze boeiende documentaire en natuurlijk van een heerlijke receptie met donuts in vele vormen. Inschrijven kan via www.avansa-limburg.be\, activiteiten. \n\n\n\n\n\n\n\n\n\n\nHome\nAvansa\, samen naar beter. Wij vinden levenslang leren belangrijk. Want leren maakt mensen sterker. En sterke mensen maken de samenleving beter.\nwww.avansa-limburg.be\n\n\n\n\n\n\n 
URL:https://www.socialekalender.be/evenement/feestelijke-opening-expo-donuteconomie/
LOCATION:Pastoraal Centrum\, Tulpinstraat 75\, Kiewit-Hasselt\, 3500
ATTACH;FMTTYPE=image/jpeg:https://www.socialekalender.be/wp-content/uploads/2023/04/donuteconomie-2.jpg
END:VEVENT
BEGIN:VEVENT
DTSTART;TZID=Europe/Brussels:20230506T100000
DTEND;TZID=Europe/Brussels:20230506T160000
DTSTAMP:20260419T164217
CREATED:20230403T143232Z
LAST-MODIFIED:20230403T143232Z
UID:8096-1683367200-1683388800@www.socialekalender.be
SUMMARY:Merwt\, de Hasseltse boerenmarkt
DESCRIPTION:Sinds begin 2022 is deze markt met boeren\, producenten en cateraars uit de buurt weer van start gegaan. Je vindt er proevertjes (eten en drinken)\, maar je kan er ook ontbijten en lunchen. Natuurlijk vind je er voorts een brede keuze voor je inkopen\, volgens het principe LEF: lokaal\, ecologisch en fair. Elke eerste zaterdag van de maand.
URL:https://www.socialekalender.be/evenement/merwt-de-hasseltse-boerenmarkt-7/
LOCATION:Molenpoortplein\, Hasselt\, limburg\, 3500\, België
ATTACH;FMTTYPE=image/jpeg:https://www.socialekalender.be/wp-content/uploads/2023/04/merwt1-3.jpg
END:VEVENT
BEGIN:VEVENT
DTSTART;TZID=Europe/Brussels:20230507T110000
DTEND;TZID=Europe/Brussels:20230507T163000
DTSTAMP:20260419T164217
CREATED:20230329T155155Z
LAST-MODIFIED:20230329T155155Z
UID:8063-1683457200-1683477000@www.socialekalender.be
SUMMARY:Herdenkingsdag aan Fort Breendonk
DESCRIPTION:Waarom is 8 mei geen feestdag meer in België? Het is toch een historische datum van formaat. De dag waarop in 1945 nazi-Duitsland overwonnen werd. Maar het bedreigende extreemrechtse gedachtegoed is daarmee helemaal niet verdwenen\, dat is vandaag duidelijk. Laten we van 8 mei opnieuw een feestdag maken\, om te herdenken en te waarschuwen. Zondag 7 mei houdt de 8-meicoalitie een herdenkingsdag in en aan het Fort van Breendonk met een uitgebreid\, afwisselend programma. Er is ook mogelijkheid tot een gegidste rondleiding in het Fort. We nodigen je graag uit deel te nemen aan deze boeiende\, zinvolle 8-meiherdenking. Er is ruime parkeergelegenheid\, maar je kunt ook mee met de bus. Op vraag van de Limburgse 8-meicoalitie legt ACOD-Limburg op zondag 7 mei een bus in naar Breendonk\, vertrekkend uit Genk (9 u.)\, Hasselt-Kuringen (9.30 u.) en Lummen (10 u.). Daarvoor kun je inschrijven (aantal plaatsen beperkt). Schrijf hier in om een plaatsje op de bus te reserveren: Inschrijvingsformulier bus naar Fort Breendonk op zondag 7 mei 2023 (google.com).  We voorzien om terug uit Breendonk te vertrekken om 16u. Vertrekuren staan op het inschrijvingsformulier (afhankelijk van de opstapplaats). Tussen haakjes: op de Fort-site in Breendonk zal er aan stoelen en tafels geen gebrek zijn\, er is eetgelegenheid\, maar eerder beperkt. Picknick meenemen is aan te raden. Drank zal er voldoende zijn. Op het programma: jazzconcert met Simon Gronowski\, bloemenneerlegging\, 5 documentaires\, fototentoonstelling\, boekvoorstelling.
URL:https://www.socialekalender.be/evenement/herdenkingsdag-aan-fort-breendonk/
LOCATION:Fort Breendonk\, Brandstraat 57\, Willebroek\, Antwerpen\, 2830\, België
ATTACH;FMTTYPE=image/jpeg:https://www.socialekalender.be/wp-content/uploads/2023/03/Breendonk.jpg
END:VEVENT
BEGIN:VEVENT
DTSTART;TZID=Europe/Brussels:20230508T200000
DTEND;TZID=Europe/Brussels:20230508T200000
DTSTAMP:20260419T164217
CREATED:20230419T095808Z
LAST-MODIFIED:20230419T095808Z
UID:8175-1683576000-1683576000@www.socialekalender.be
SUMMARY:Vrij op 8 mei: herdenking einde WOII
DESCRIPTION:8 mei 1945 betekende het einde van WOII en van de nazidictatuur. Een brede groep van Belgische organisaties en individuen wil van 8 mei weer een speciale dag maken: een dag van feesten\, herdenken en bezinnen over vrede en vrijheid. Een vrije dag ook. Op zondag 7 mei wordt er een grote herdenkingsdag gehouden in Breendonk (zie website). Op maandag 8 mei openen 10 theaters hun deuren voor een cultureel programma. In Hasselt wordt dit verzorgd door Het Nieuwstedelijk en Cinema Zed i.s.m. de 8-meicoalitie Limburg. Met o.a. acrice Sara Vertongen\, Karin De Greeve\, audio- en beeldarchief\, Omroerkoor en Citékoor. Open café voor en na. Deuren open om 19u.
URL:https://www.socialekalender.be/evenement/vrij-op-8-mei-herdenking-einde-woii/
LOCATION:de Nieuwe Zaal\, Scheepvaartkaai 16\, Hasselt\, Limburg\, 3500\, België
ATTACH;FMTTYPE=image/jpeg:https://www.socialekalender.be/wp-content/uploads/2023/04/Nieuwe-Zaal.jpg
END:VEVENT
BEGIN:VEVENT
DTSTART;TZID=Europe/Brussels:20230509T193000
DTEND;TZID=Europe/Brussels:20230509T193000
DTSTAMP:20260419T164217
CREATED:20230414T155937Z
LAST-MODIFIED:20230414T160217Z
UID:8125-1683660600-1683660600@www.socialekalender.be
SUMMARY:Diversiteitstafel over levensbeschouwingen
DESCRIPTION:Veel mensen zijn op weg naar levensverdieping\, langs verschillende wegen. In het verleden bleek een tafelgesprek hierover een publiekstrekker (20 personen)\, hartelijk en verfrissend. Ondertussen ontstond er in Godsheide een Trefcentrum voor Levensbeschouwingen\, op initiatief van de Universiteit voor het Maatschappelijk Belang. We gaan met elkaar hierover in dialoog. Bij aankomst en tijdens de pauze wordt er een gratis drankje aangeboden. Welkom vanaf 19u.
URL:https://www.socialekalender.be/evenement/diversiteitstafel-over-levensbeschouwingen/
LOCATION:Regenbooghuis\, Meldertstraat 38\, Hasselt\, 3500\, België
ATTACH;FMTTYPE=image/jpeg:https://www.socialekalender.be/wp-content/uploads/2023/04/levensbeschouwingen2-1.jpg
END:VEVENT
BEGIN:VEVENT
DTSTART;TZID=Europe/Brussels:20230513T100000
DTEND;TZID=Europe/Brussels:20230513T170000
DTSTAMP:20260419T164217
CREATED:20230502T151630Z
LAST-MODIFIED:20230502T151630Z
UID:8215-1683972000-1683997200@www.socialekalender.be
SUMMARY:Fietsen langs fairtrade-initiatieven
DESCRIPTION:  \nOp zaterdag 13 mei – Internationale dag van de Fair Trade – organiseren steden en gemeenten in heel Vlaanderen de Faire Ronde. Ook Hasselt doet mee! Tussen 10u en 17u kan je een prachtige fietstocht maken die je langs enkele Hasseltse handelaars en initiatieven met LEF (Lokaal\, Ecologisch en Fair) voert. De volledige fietstocht is 26 kilometer\, maar je kan onderweg op 6 schitterende locaties even verpozen voor een rondleiding\, lekker drankje of hapje. Elk van hen werkt mee aan een duurzame en eerlijke samenleving. De kaart kan je zelf downloaden (of gewoon live raadplegen tijdens het fietsen) hier. Welke locaties komen aan bod? De Oxfam-Wereldwinkel (viert zijn 50-jarig bestaan met een feestelijke receptie. Verder in dezelfde straat vind je nog enkele toffe adresjes met LEF\, zoals Okazi Boutique\, Fietsbar en Bakkersdochter)\, Let’s Tok (deze kippenren brengt mensen samen. Mogelijkheid tot picknick)\, Bio-planet (winkel van Colruyt met biologische en ecologische producten)\, Koe-vert (taverne met lokale en fairtradeproducten en sociale tewerkstelling. Met het codewoord “Faire Ronde” krijg je een gratis appelsapje)\, de tuinvrienden van Banneux (met 100 volkstuintjes\, nu met een hapje en een drankje)\, en het Jessenhofke (brouwerij van Gert en Christel\, die een proevertje aanbieden).
URL:https://www.socialekalender.be/evenement/fietsen-langs-fairtrade-initiatieven/
LOCATION:Verschillende Startplaatsen
ATTACH;FMTTYPE=image/jpeg:https://www.socialekalender.be/wp-content/uploads/2023/05/volkstuin-Banneux.jpg
END:VEVENT
BEGIN:VEVENT
DTSTART;TZID=Europe/Brussels:20230515T090000
DTEND;TZID=Europe/Brussels:20230515T153000
DTSTAMP:20260419T164217
CREATED:20230403T140615Z
LAST-MODIFIED:20230403T140615Z
UID:8084-1684141200-1684164600@www.socialekalender.be
SUMMARY:Ecologie en Christenzijn
DESCRIPTION:De christelijke vormingsorganisatie CCV Hasselt organiseert zijn jaarlijkse studiedag rond het thema “ecologie en christenzijn”. Hoe kunnen christenen aan het werk voor een eco-solidaire samenleving? \nMeer info via https://www.kerknet.be/ccv-hasselt/artikel/studiedag-zorgen-om-de-aarde
URL:https://www.socialekalender.be/evenement/ecologie-en-christenzijn/
LOCATION:Pastoraal Centrum\, Tulpinstraat 75\, Kiewit-Hasselt\, 3500
ATTACH;FMTTYPE=image/jpeg:https://www.socialekalender.be/wp-content/uploads/2023/04/klimaatrechtvaardigheid-1.jpg
END:VEVENT
BEGIN:VEVENT
DTSTART;TZID=Europe/Brussels:20230515T094500
DTEND;TZID=Europe/Brussels:20230515T120000
DTSTAMP:20260419T164217
CREATED:20230419T100217Z
LAST-MODIFIED:20230419T100217Z
UID:8179-1684143900-1684152000@www.socialekalender.be
SUMMARY:Mehmet Ustun in Ulburghshuis
DESCRIPTION:Mehmet Ustun is voorzitter van de Moslimexecutieve van België en erevoorzitter van de Sultan Ahmetmoskee in Heusden-Zolder.  Mehmet is afkomstig uit Turkije en bracht zijn jeugdjaren door in Antiochië\, een zeer oude stad\, met een lange geschiedenis van samenleven tussen gemeenschappen met verschillende spirituele tradities. Hij was vorige maand nog in die stad na de zware aardbeving die ze bijna volledig heeft verwoest. Hij is erg betrokken bij de “Werkgroep Interlevensbeschouwelijke Dialoog” van Heusden-Zolder en met de moslimgemeenschap in ons land.
URL:https://www.socialekalender.be/evenement/mehmet-ustun-in-ulburghshuis/
LOCATION:Huis Ulburghs\, Sint-Annastraat 7\, Zolder\, 3550\, België
ATTACH;FMTTYPE=image/jpeg:https://www.socialekalender.be/wp-content/uploads/2023/04/Mehmet-Ustun.jpg
END:VEVENT
BEGIN:VEVENT
DTSTART;TZID=Europe/Brussels:20230521T140000
DTEND;TZID=Europe/Brussels:20230521T150000
DTSTAMP:20260419T164217
CREATED:20230419T100626Z
LAST-MODIFIED:20230419T100626Z
UID:8183-1684677600-1684681200@www.socialekalender.be
SUMMARY:Mystic Moods
DESCRIPTION:Een warm klank- en kleurenbad met rustgevende muzikale composities en kleurrijke animaties. Duur: 60 minuten. Alle beelden en klanken door Koen Fossey. Je kan de voorstelling liggend op de grond bijwonen: breng dan je eigen matje\, hoofdkussen en dekentje mee. Je kan ook een matje met zitkussen meebrengen om op de grond te zitten\, en je kan de voorstelling eveneens gewoon zittend op een stoel volgen. Inschrijven gewenst maar niet verplicht\, betalen kan aan de inkom. Kom iets te vroeg -deuren open vanaf 13.30u.
URL:https://www.socialekalender.be/evenement/mystic-moods-3/
LOCATION:zaal Steborg\, Broekstraat 1\, Stevoort\, 3520
ATTACH;FMTTYPE=image/jpeg:https://www.socialekalender.be/wp-content/uploads/2023/04/Koen-Fossey-herfstmandala-3.jpg
END:VEVENT
BEGIN:VEVENT
DTSTART;TZID=Europe/Brussels:20230522T193000
DTEND;TZID=Europe/Brussels:20230522T193000
DTSTAMP:20260419T164217
CREATED:20230104T135832Z
LAST-MODIFIED:20230104T135832Z
UID:7840-1684783800-1684783800@www.socialekalender.be
SUMMARY:Daniël Acke over niet-religieuze spiritualiteit
DESCRIPTION:Op 1 mei 2022 ging in Godsheide het Trefcentrum voor Levensbeschouwingen van start. Hiermee wil de Universiteit voor het Maatschappelijk Belang de stap zetten van dialoog naar actieve samenwerking tussen levensbeschouwingen. Samen willen we bouwen aan een spirituele herberg waarin iedereen welkom is. In dit licht vinden er in de plaatselijke kerk o.a. lezingen plaats. De vijfde spreker is Daniël Acke\, professor-emeritus van de VUB\, die zich focust op niet-religieuze spiritualiteit en mystiek van de 20ste eeuw tot vandaag. Hij schenkt bijzondere aandacht aan Albert Camus en aan de filosoof Leo Apostel. Deze laatste verraste in de jaren ’80 menig vriend en vijand door na te denken en te publiceren over wat wij zouden leren kennen als “atheïstische spiritualiteit”. Zijn betrachting was “een systematische houding en strategie gericht op ervaringen die onze relatie met de diepste realiteit belichamen”. Cruciaal was daarbij om zichzelf te zien “in het grootste geheel waartoe men denkt te behoren” en zich te richten “op de basisdoelen in dienst waarvan men het eigen leven stelt”. In samenwerking met Vrijzinnig Limburg.
URL:https://www.socialekalender.be/evenement/daniel-acke-over-niet-religieuze-spiritualiteit/
LOCATION:Kerk van Godsheide\, Kiezelstraat 132\, Hasselt\, Limburg\, 3500\, België
ATTACH;FMTTYPE=image/jpeg:https://www.socialekalender.be/wp-content/uploads/2023/01/Daniël-Acke.jpg
END:VEVENT
BEGIN:VEVENT
DTSTART;TZID=Europe/Brussels:20230527T103000
DTEND;TZID=Europe/Brussels:20230527T103000
DTSTAMP:20260419T164217
CREATED:20230521T132602Z
LAST-MODIFIED:20230521T132602Z
UID:8221-1685183400-1685183400@www.socialekalender.be
SUMMARY:Servisch-orthodoxe eredienst in Godsheide
DESCRIPTION:Godsheide wordt stilaan een symbool van open ontmoeting tussen religies en levensbeschouwingen. Een keer per maand staat de kerk ter beschikking voor een orthodoxe mis vanuit de Servische gemeenschap in Limburg en omgeving. Op zaterdag 27 mei is het feest en zal hun bisschop van West-Europa\, Justin Jeremic\, de viering bijwonen. Na de middag is er dan nog een gezellig samenzijn in de tuin achter de pastorie. Iedereen is welkom.
URL:https://www.socialekalender.be/evenement/servisch-orthodoxe-eredienst-in-godsheide/
LOCATION:Kerk van Godsheide\, Kiezelstraat 132\, Hasselt\, Limburg\, 3500\, België
ATTACH;FMTTYPE=image/jpeg:https://www.socialekalender.be/wp-content/uploads/2023/05/kerk-Godsheide.jpg
END:VEVENT
BEGIN:VEVENT
DTSTART;TZID=Europe/Brussels:20230527T190000
DTEND;TZID=Europe/Brussels:20230527T190000
DTSTAMP:20260419T164217
CREATED:20230521T133258Z
LAST-MODIFIED:20230521T133258Z
UID:8227-1685214000-1685214000@www.socialekalender.be
SUMMARY:Gospelconcert in kerk Godsheide
DESCRIPTION:Martin Oluwadiran\, een uit Nigeria afkomstige kunstenaar\, dirigeert een gospelkoor met orkest. Je kan komen luisteren\, maar ook meezingen\, bewegen en dansen. Met vriendschapsreceptie achteraf.
URL:https://www.socialekalender.be/evenement/gospelconcert-in-kerk-godsheide/
LOCATION:Kerk van Godsheide\, Kiezelstraat 132\, Hasselt\, Limburg\, 3500\, België
ATTACH;FMTTYPE=image/jpeg:https://www.socialekalender.be/wp-content/uploads/2023/05/kerk-Godsheide.jpg
END:VEVENT
BEGIN:VEVENT
DTSTART;TZID=Europe/Brussels:20230528T090000
DTEND;TZID=Europe/Brussels:20230528T163000
DTSTAMP:20260419T164217
CREATED:20230521T135035Z
LAST-MODIFIED:20230521T135035Z
UID:8246-1685264400-1685291400@www.socialekalender.be
SUMMARY:Begeleide tocht langs geologische fietsroute
DESCRIPTION:Onder begeleiding van Daniël Van Uytven ontdekken we per fiets de geologische route As-Opglabbeek. Tijdens deze 32 km is er veel aandacht voor het landschap en zijn geologische fenomenen. We bezoeken onder meer de geologische wand in As\, we bekijken fossielen die zichtbaar zijn aan het Sint-Aldegondiskerkje en vernemen alles over de hakhoutstoven\, ruiterskuilen en vennen die we onderweg tegenkomen. ’s Middags is er tijd voor een gezellige stop (picknick zelf te voorzien). Gelieve ook een fluohesje mee te nemen.
URL:https://www.socialekalender.be/evenement/begeleide-tocht-langs-geologische-fietsroute/
LOCATION:vertrek aan bezoekersonthaal van station As\, As
ATTACH;FMTTYPE=image/png:https://www.socialekalender.be/wp-content/uploads/2023/05/geologische-wand.png
END:VEVENT
BEGIN:VEVENT
DTSTART;TZID=Europe/Brussels:20230531T194500
DTEND;TZID=Europe/Brussels:20230531T194500
DTSTAMP:20260419T164217
CREATED:20230214T145435Z
LAST-MODIFIED:20230214T145435Z
UID:7951-1685562300-1685562300@www.socialekalender.be
SUMMARY:Zenmeditatie in Siloam
DESCRIPTION:Deze meditatie vindt iedere woensdagavond plaats. Tweemaal een half uur zitmeditatie\, onderbroken door meditatief stappen (kinhin of wandelmeditatie). Er wordt dan ook samen naar een bezinnende tekst geluisterd. Achteraf wordt er nagepraat bij een kopje thee of koffie. Je hoeft niet vooraf te verwittigen. De ingang ligt achterom.
URL:https://www.socialekalender.be/evenement/zenmeditatie-in-siloam-3/
LOCATION:Siloam\, Holsteenweg 17\, Zonhoven\, 3520\, België
ATTACH;FMTTYPE=image/jpeg:https://www.socialekalender.be/wp-content/uploads/2023/02/zen2.jpg
END:VEVENT
END:VCALENDAR